PDS_VERSION_ID = PDS3
/* FILE DATA ELEMENTS */
RECORD_TYPE = UNDEFINED
/* POINTERS TO DATA OBJECTS */
^IMAGE = ("H9619_0000_P24.TIF")
/* IDENTIFICATION DATA ELEMENTS */
DATA_SET_ID = "MEX-M-HRSC-4-REFDR-MAPPROJECT-EXT3-V4.0"
DATA_SET_NAME = "MARS EXPRESS HRSC MAP PROJECTED REFDR EXTENSION3 V4.0"
DETECTOR_ID = MEX_HRSC_P2
EVENT_TYPE = "MARS-REGIONAL-MAPPING-Te-Im-Pf"
INSTRUMENT_HOST_ID = MEX
INSTRUMENT_HOST_NAME = "MARS EXPRESS"
INSTRUMENT_ID = HRSC
INSTRUMENT_NAME = "HIGH RESOLUTION STEREO CAMERA"
MISSION_NAME = "MARS EXPRESS"
MISSION_PHASE_NAME = ME_Phase_23
PROCESSING_LEVEL_ID = 4
PRODUCT_CREATION_TIME = 2023-02-04T12:09:02.000Z
PRODUCT_ID = "H9619_0000_P24.TIF"
RELEASE_ID = 0007
REVISION_ID = 0000
/* QUALITY DATA ELEMENTS */
DATA_QUALITY_ID = 1
DATA_QUALITY_DESC = "Data calculated based on original SPICE kernels"
/* TIME DATA ELEMENTS */
SPACECRAFT_CLOCK_START_COUNT = "1/0258898129.07286"
SPACECRAFT_CLOCK_STOP_COUNT = "1/0258898390.47988"
START_TIME = 2011-07-16T12:09:49.820Z
STOP_TIME = 2011-07-16T12:12:58.247Z
/* ORBITAL DATA ELEMENTS */
ASCENDING_NODE_LONGITUDE = 33.59
MAXIMUM_RESOLUTION = 0.0626
FOOTPRINT_POINT_LATITUDE = (62.7097,62.6841,62.6538,62.6064, 62.6052,62.6713,62.3136,62.0754,61.718, 61.4797,61.1225,60.8844,60.6463,60.4083 ,60.1704,59.9325,59.6947,59.457,59.1006 ,58.8632,58.6259,58.3886,58.1515, 57.9146,57.6779,57.4412,57.2047,56.9685 ,56.7323,56.4963,56.2603,56.0246, 55.6711,55.4356,55.2004,54.9653,54.7304 ,54.496,54.2615,54.0273,53.7932,53.5593 ,53.3254,53.092,52.8584,52.6253,52.3923 ,52.1597,51.8111,51.4629,51.2311, 50.9994,50.8838,50.8504,50.8691,50.8834 ,50.894,50.8944,50.8955,51.3608,51.5935 ,51.9433,52.1766,52.5274,52.8784, 53.1127,53.4649,53.6995,54.0525,54.2877 ,54.6412,54.9952,55.2312,55.4678, 55.8227,56.1781,56.415,56.6523,57.0084, 57.246,57.603,57.8411,58.1987,58.4372, 58.676,59.0343,59.2733,59.6318,59.9908, 60.2302,60.5899,60.8297,61.0695,61.4294 ,61.6694,61.9096,62.2701,62.6306, 62.7507,62.7097)
FOOTPRINT_POINT_LONGITUDE = (249.125,248.305,247.472,246.355, 246.328,246.126,246.238,246.31,246.415, 246.484,246.583,246.648,246.712,246.775 ,246.836,246.896,246.955,247.012, 247.097,247.151,247.205,247.257,247.309 ,247.359,247.408,247.456,247.503, 247.549,247.595,247.639,247.683,247.725 ,247.788,247.829,247.868,247.907, 247.946,247.982,248.019,248.055,248.09, 248.124,248.158,248.191,248.224,248.256 ,248.287,248.317,248.362,248.405, 248.433,248.461,248.474,248.478,249.248 ,249.983,250.769,250.79,250.797,250.752 ,250.73,250.695,250.671,250.635,250.598 ,250.573,250.535,250.509,250.468, 250.441,250.4,250.357,250.328,250.298, 250.253,250.207,250.175,250.143,250.094 ,250.06,250.009,249.974,249.92,249.883, 249.846,249.789,249.75,249.69,249.629, 249.587,249.522,249.478,249.434,249.365 ,249.318,249.27,249.197,249.121,249.096 ,249.125)
ORBIT_NUMBER = 9619
ORBITAL_ECCENTRICITY = 0.572
ORBITAL_INCLINATION = 86.88
ORBITAL_SEMIMAJOR_AXIS = 8782.15
PERIAPSIS_ALTITUDE = 376.99
PERIAPSIS_ARGUMENT_ANGLE = 117.49
PERIAPSIS_TIME = 2011-07-16T12:09:34.000Z
SPACECRAFT_ORIENTATION = (0.0,-1.0,0.0)
^MEX_ORIENTATION_DESC = "MEX_ORIENTATION_DESC.TXT"
SPACECRAFT_POINTING_MODE = ACROSSTRACK
^MEX_POINTING_DESC = "MEX_POINTING_DESC.TXT"
RIGHT_ASCENSION = -1e+32
DECLINATION = -1e+32
OFFSET_ANGLE = -0.808
SPACECRAFT_SOLAR_DISTANCE = 2.21609e+08
TARGET_NAME = MARS
/* CAMERA DATA ELEMENTS */
DETECTOR_TEMPERATURE = 18.3705
FOCAL_PLANE_TEMPERATURE = 8.1755
INST_CMPRS_NAME = "DISCRETE COSINE TRANSFORMATION (DCT)"
INST_CMPRS_RATIO = 10.35
INST_CMPRS_QUALITY = 0
INST_CMPRS_QUANTZ_TBL_ID = 0
INSTRUMENT_TEMPERATURE = 11.0301
LENS_TEMPERATURE = 8.5833
MACROPIXEL_SIZE = 4
MISSING_FRAMES = 0
PIXEL_SUBSAMPLING_FLAG = N
SIGNAL_CHAIN_ID = 3
/* RADIOMETRIC DATA ELEMENTS */
BANDWIDTH = 177.0
CENTER_FILTER_WAVELENGTH = 676.5
RADIANCE_OFFSET = 2.80122
RADIANCE_SCALING_FACTOR = 0.0129237
REFLECTANCE_SCALING_FACTOR = 0.000336527
MEX:REFLECTANCE_OFFSET = 0.0729422
/* IMAGE OBJECT DEFINITIONS */
OBJECT = IMAGE
  INTERCHANGE_FORMAT = BINARY
  LINES = 14187
  LINE_SAMPLES = 2882
  SAMPLE_TYPE = UNSIGNED_INTEGER
  SAMPLE_BITS = 8
  BANDS = 1
  BAND_STORAGE_TYPE = BAND_SEQUENTIAL
  MAXIMUM = 255
  MEAN = 123.796
  MINIMUM = 1
  STANDARD_DEVIATION = 39.3025
END_OBJECT = IMAGE
/* MAP OBJECT DEFINITIONS */
OBJECT = IMAGE_MAP_PROJECTION
  ^DATA_SET_MAP_PROJECTION_CATALOG= "DSMAP.CAT"
  A_AXIS_RADIUS = 3396.0
  B_AXIS_RADIUS = 3396.0
  C_AXIS_RADIUS = 3396.0
  CENTER_LATITUDE = 0.0
  CENTER_LONGITUDE = 249.0
  COORDINATE_SYSTEM_NAME = PLANETOGRAPHIC
  COORDINATE_SYSTEM_TYPE = "BODY-FIXED ROTATING"
  EASTERNMOST_LONGITUDE = 250.797
  FIRST_STANDARD_PARALLEL = "N/A"
  LINE_FIRST_PIXEL = 1
  LINE_LAST_PIXEL = 14187
  LINE_PROJECTION_OFFSET = 74449.625
  MAP_PROJECTION_ROTATION = 0.0
  MAP_PROJECTION_TYPE = SINUSOIDAL
  MAP_RESOLUTION = 1185.42760773333
  MAP_SCALE = 0.05
  MAXIMUM_LATITUDE = 62.7507
  MINIMUM_LATITUDE = 50.8504
  POSITIVE_LONGITUDE_DIRECTION = EAST
  REFERENCE_LATITUDE = "N/A"
  REFERENCE_LONGITUDE = "N/A"
  SAMPLE_FIRST_PIXEL = 1
  SAMPLE_LAST_PIXEL = 2882
  SAMPLE_PROJECTION_OFFSET = 1559.625
  SECOND_STANDARD_PARALLEL = "N/A"
  WESTERNMOST_LONGITUDE = 246.126
END_OBJECT = IMAGE_MAP_PROJECTION
END
