PDS_VERSION_ID = PDS3
/* FILE DATA ELEMENTS */
RECORD_TYPE = UNDEFINED
/* POINTERS TO DATA OBJECTS */
^IMAGE = ("H9619_0000_BL4.TIF")
/* IDENTIFICATION DATA ELEMENTS */
DATA_SET_ID = "MEX-M-HRSC-4-REFDR-MAPPROJECT-EXT3-V4.0"
DATA_SET_NAME = "MARS EXPRESS HRSC MAP PROJECTED REFDR EXTENSION3 V4.0"
DETECTOR_ID = MEX_HRSC_BLUE
EVENT_TYPE = "MARS-REGIONAL-MAPPING-Te-Im-Pf"
INSTRUMENT_HOST_ID = MEX
INSTRUMENT_HOST_NAME = "MARS EXPRESS"
INSTRUMENT_ID = HRSC
INSTRUMENT_NAME = "HIGH RESOLUTION STEREO CAMERA"
MISSION_NAME = "MARS EXPRESS"
MISSION_PHASE_NAME = ME_Phase_23
PROCESSING_LEVEL_ID = 4
PRODUCT_CREATION_TIME = 2023-02-04T12:09:02.000Z
PRODUCT_ID = "H9619_0000_BL4.TIF"
RELEASE_ID = 0007
REVISION_ID = 0000
/* QUALITY DATA ELEMENTS */
DATA_QUALITY_ID = 1
DATA_QUALITY_DESC = "Data calculated based on original SPICE kernels"
/* TIME DATA ELEMENTS */
SPACECRAFT_CLOCK_START_COUNT = "1/0258898129.07286"
SPACECRAFT_CLOCK_STOP_COUNT = "1/0258898390.47988"
START_TIME = 2011-07-16T12:09:32.770Z
STOP_TIME = 2011-07-16T12:12:39.296Z
/* ORBITAL DATA ELEMENTS */
ASCENDING_NODE_LONGITUDE = 33.59
MAXIMUM_RESOLUTION = 0.0607
FOOTPRINT_POINT_LATITUDE = (62.7804,62.7456,62.7055,62.6442, 62.6426,62.6517,62.2968,62.0601,61.8234 ,61.5867,61.2316,60.9948,60.6396, 60.2844,60.0475,59.8107,59.5739,59.2188 ,58.8636,58.6269,58.2718,58.0352, 57.6803,57.4438,57.2073,56.9709,56.7346 ,56.4983,56.2621,56.0259,55.7898, 55.5538,55.3179,55.0821,54.8463,54.6107 ,54.3751,54.1397,53.9043,53.6691, 53.4339,53.1989,52.7292,52.2599,51.7912 ,51.4401,50.9724,50.8555,50.8417, 50.8716,50.8967,50.9192,50.9197,50.921, 51.3903,51.8604,52.3311,52.5666,52.8023 ,53.0382,53.2742,53.5102,53.8647, 54.1011,54.4559,54.6926,54.9294,55.1663 ,55.4034,55.6406,55.8779,56.1151, 56.3526,56.5901,56.8277,57.0654,57.3031 ,57.541,57.7789,58.0169,58.255,58.4931, 58.7313,58.9696,59.2079,59.4463,59.6846 ,60.0422,60.2807,60.5193,60.7579, 60.9965,61.3544,61.7124,61.951,62.1896, 62.4283,62.6669,62.7863,62.7804)
FOOTPRINT_POINT_LONGITUDE = (249.107,248.294,247.467,246.361, 246.335,246.152,246.263,246.334,246.405 ,246.473,246.574,246.639,246.735, 246.828,246.889,246.948,247.006,247.091 ,247.174,247.228,247.307,247.357, 247.432,247.48,247.528,247.574,247.619, 247.664,247.708,247.751,247.793,247.834 ,247.875,247.914,247.953,247.991, 248.029,248.065,248.101,248.136,248.171 ,248.205,248.271,248.334,248.395, 248.438,248.495,248.509,248.51,249.24, 249.959,250.747,250.768,250.775,250.731 ,250.685,250.638,250.614,250.589, 250.564,250.539,250.514,250.474,250.448 ,250.407,250.379,250.351,250.322, 250.293,250.263,250.233,250.202,250.171 ,250.139,250.107,250.074,250.041, 250.007,249.972,249.937,249.902,249.865 ,249.828,249.79,249.752,249.713,249.673 ,249.613,249.571,249.529,249.486, 249.442,249.374,249.305,249.258,249.21, 249.161,249.111,249.085,249.107)
ORBIT_NUMBER = 9619
ORBITAL_ECCENTRICITY = 0.572
ORBITAL_INCLINATION = 86.88
ORBITAL_SEMIMAJOR_AXIS = 8782.15
PERIAPSIS_ALTITUDE = 376.99
PERIAPSIS_ARGUMENT_ANGLE = 117.49
PERIAPSIS_TIME = 2011-07-16T12:09:34.000Z
SPACECRAFT_ORIENTATION = (0.0,-1.0,0.0)
^MEX_ORIENTATION_DESC = "MEX_ORIENTATION_DESC.TXT"
SPACECRAFT_POINTING_MODE = ACROSSTRACK
^MEX_POINTING_DESC = "MEX_POINTING_DESC.TXT"
RIGHT_ASCENSION = -1e+32
DECLINATION = -1e+32
OFFSET_ANGLE = -0.808
SPACECRAFT_SOLAR_DISTANCE = 2.21609e+08
TARGET_NAME = MARS
/* CAMERA DATA ELEMENTS */
DETECTOR_TEMPERATURE = 18.1666
FOCAL_PLANE_TEMPERATURE = 8.1755
INST_CMPRS_NAME = "DISCRETE COSINE TRANSFORMATION (DCT)"
INST_CMPRS_RATIO = 6.55425
INST_CMPRS_QUALITY = 0
INST_CMPRS_QUANTZ_TBL_ID = 0
INSTRUMENT_TEMPERATURE = 11.0301
LENS_TEMPERATURE = 8.5833
MACROPIXEL_SIZE = 4
MISSING_FRAMES = 0
PIXEL_SUBSAMPLING_FLAG = N
SIGNAL_CHAIN_ID = 2
/* RADIOMETRIC DATA ELEMENTS */
BANDWIDTH = 76.0
CENTER_FILTER_WAVELENGTH = 444.0
RADIANCE_OFFSET = 0.678354
RADIANCE_SCALING_FACTOR = 0.00226772
REFLECTANCE_SCALING_FACTOR = 0.000114425
MEX:REFLECTANCE_OFFSET = 0.0342286
/* IMAGE OBJECT DEFINITIONS */
OBJECT = IMAGE
  INTERCHANGE_FORMAT = BINARY
  LINES = 14187
  LINE_SAMPLES = 2882
  SAMPLE_TYPE = UNSIGNED_INTEGER
  SAMPLE_BITS = 8
  BANDS = 1
  BAND_STORAGE_TYPE = BAND_SEQUENTIAL
  MAXIMUM = 255
  MEAN = 83.3363
  MINIMUM = 1
  STANDARD_DEVIATION = 42.0231
END_OBJECT = IMAGE
/* MAP OBJECT DEFINITIONS */
OBJECT = IMAGE_MAP_PROJECTION
  ^DATA_SET_MAP_PROJECTION_CATALOG= "DSMAP.CAT"
  A_AXIS_RADIUS = 3396.0
  B_AXIS_RADIUS = 3396.0
  C_AXIS_RADIUS = 3396.0
  CENTER_LATITUDE = 0.0
  CENTER_LONGITUDE = 249.0
  COORDINATE_SYSTEM_NAME = PLANETOGRAPHIC
  COORDINATE_SYSTEM_TYPE = "BODY-FIXED ROTATING"
  EASTERNMOST_LONGITUDE = 250.775
  FIRST_STANDARD_PARALLEL = "N/A"
  LINE_FIRST_PIXEL = 1
  LINE_LAST_PIXEL = 14187
  LINE_PROJECTION_OFFSET = 74449.625
  MAP_PROJECTION_ROTATION = 0.0
  MAP_PROJECTION_TYPE = SINUSOIDAL
  MAP_RESOLUTION = 1185.42760773333
  MAP_SCALE = 0.05
  MAXIMUM_LATITUDE = 62.7863
  MINIMUM_LATITUDE = 50.8417
  POSITIVE_LONGITUDE_DIRECTION = EAST
  REFERENCE_LATITUDE = "N/A"
  REFERENCE_LONGITUDE = "N/A"
  SAMPLE_FIRST_PIXEL = 1
  SAMPLE_LAST_PIXEL = 2882
  SAMPLE_PROJECTION_OFFSET = 1559.625
  SECOND_STANDARD_PARALLEL = "N/A"
  WESTERNMOST_LONGITUDE = 246.152
END_OBJECT = IMAGE_MAP_PROJECTION
END
