PDS_VERSION_ID = PDS3
/* FILE DATA ELEMENTS */
RECORD_TYPE = UNDEFINED
/* POINTERS TO DATA OBJECTS */
^IMAGE = ("H9617_0000_P14.TIF")
/* IDENTIFICATION DATA ELEMENTS */
DATA_SET_ID = "MEX-M-HRSC-4-REFDR-MAPPROJECT-EXT3-V4.0"
DATA_SET_NAME = "MARS EXPRESS HRSC MAP PROJECTED REFDR EXTENSION3 V4.0"
DETECTOR_ID = MEX_HRSC_P1
EVENT_TYPE = "MARS-REGIONAL-MAPPING-Vo-Fl-Pf"
INSTRUMENT_HOST_ID = MEX
INSTRUMENT_HOST_NAME = "MARS EXPRESS"
INSTRUMENT_ID = HRSC
INSTRUMENT_NAME = "HIGH RESOLUTION STEREO CAMERA"
MISSION_NAME = "MARS EXPRESS"
MISSION_PHASE_NAME = ME_Phase_23
PROCESSING_LEVEL_ID = 4
PRODUCT_CREATION_TIME = 2023-02-04T12:09:02.000Z
PRODUCT_ID = "H9617_0000_P14.TIF"
RELEASE_ID = 0007
REVISION_ID = 0000
/* QUALITY DATA ELEMENTS */
DATA_QUALITY_ID = 1
DATA_QUALITY_DESC = "Data calculated based on original SPICE kernels"
/* TIME DATA ELEMENTS */
SPACECRAFT_CLOCK_START_COUNT = "1/0258848090.09048"
SPACECRAFT_CLOCK_STOP_COUNT = "1/0258848380.26060"
START_TIME = 2011-07-15T22:15:06.930Z
STOP_TIME = 2011-07-15T22:18:00.103Z
/* ORBITAL DATA ELEMENTS */
ASCENDING_NODE_LONGITUDE = 33.63
MAXIMUM_RESOLUTION = 0.0367
FOOTPRINT_POINT_LATITUDE = (41.9666,41.9615,41.9551,41.9467, 41.9315,41.9228,41.9222,41.8694,41.4736 ,40.8799,40.3769,40.0735,39.5686, 39.2592,39.0526,38.8462,38.6398,38.4336 ,38.2235,38.013,37.8024,37.5921,37.3818 ,37.1684,36.9537,36.7393,36.4178, 36.2015,35.9828,35.7642,35.5457,35.2162 ,34.9938,34.7712,34.5489,34.3258, 34.0991,33.7597,33.5335,33.1882,32.9578 ,32.7278,32.4952,32.261,32.0269,31.6738 ,31.4359,31.1981,31.0793,31.0273, 31.0315,31.0355,31.0404,31.0437,31.0444 ,31.0433,31.0431,31.0437,31.2821, 31.5208,31.8779,32.1125,32.3473,32.6991 ,32.9297,33.1606,33.3918,33.6212, 33.9615,34.1885,34.4157,34.6384,34.9727 ,35.1958,35.4177,35.6365,35.8558,36.075 ,36.4025,36.6173,36.8324,37.0475, 37.3702,37.5809,37.7916,38.1082,38.3194 ,38.5288,38.7353,38.9421,39.1489, 39.3559,39.7662,40.1715,40.4757,40.8794 ,41.2761,41.7729,41.8725,41.9666)
FOOTPRINT_POINT_LONGITUDE = (96.972,96.5774,96.2025,95.8079,95.2354 ,94.9586,94.9388,94.901,94.9139,94.9314 ,94.945,94.9526,94.9646,94.9715,94.9757 ,94.9797,94.9835,94.9872,94.9908, 94.9943,94.9976,95.0007,95.0037,95.0065 ,95.0092,95.0118,95.0152,95.0173, 95.0192,95.021,95.0225,95.0246,95.0259, 95.0269,95.0278,95.0285,95.029,95.0297, 95.0297,95.0295,95.0292,95.0288,95.0281 ,95.0273,95.0263,95.0245,95.0231, 95.0215,95.0207,95.0203,95.2599,95.5222 ,95.9584,96.5038,96.8526,97.2454, 97.2673,97.2751,97.271,97.2668,97.2603, 97.256,97.2516,97.2448,97.2404,97.2358, 97.2311,97.2265,97.2194,97.2147,97.2098 ,97.205,97.1977,97.1928,97.1877,97.1826 ,97.1774,97.1721,97.1642,97.1589, 97.1535,97.1481,97.1397,97.1343,97.1288 ,97.1202,97.1144,97.1085,97.1028, 97.0969,97.091,97.085,97.0727,97.0603, 97.0508,97.038,97.0251,97.0082,97.0046, 96.972)
ORBIT_NUMBER = 9617
ORBITAL_ECCENTRICITY = 0.572
ORBITAL_INCLINATION = 86.88
ORBITAL_SEMIMAJOR_AXIS = 8785.71
PERIAPSIS_ALTITUDE = 376.5
PERIAPSIS_ARGUMENT_ANGLE = 117.84
PERIAPSIS_TIME = 2011-07-15T22:10:16.000Z
SPACECRAFT_ORIENTATION = (0.0,-1.0,0.0)
^MEX_ORIENTATION_DESC = "MEX_ORIENTATION_DESC.TXT"
SPACECRAFT_POINTING_MODE = ACROSSTRACK
^MEX_POINTING_DESC = "MEX_POINTING_DESC.TXT"
RIGHT_ASCENSION = -1e+32
DECLINATION = -1e+32
OFFSET_ANGLE = -0.05
SPACECRAFT_SOLAR_DISTANCE = 2.21498e+08
TARGET_NAME = MARS
/* CAMERA DATA ELEMENTS */
DETECTOR_TEMPERATURE = 17.1471
FOCAL_PLANE_TEMPERATURE = 7.7677
INST_CMPRS_NAME = "DISCRETE COSINE TRANSFORMATION (DCT)"
INST_CMPRS_RATIO = 15.8593
INST_CMPRS_QUALITY = 0
INST_CMPRS_QUANTZ_TBL_ID = 0
INSTRUMENT_TEMPERATURE = 11.0301
LENS_TEMPERATURE = 8.1755
MACROPIXEL_SIZE = 2
MISSING_FRAMES = 0
PIXEL_SUBSAMPLING_FLAG = N
SIGNAL_CHAIN_ID = 3
/* RADIOMETRIC DATA ELEMENTS */
BANDWIDTH = 174.0
CENTER_FILTER_WAVELENGTH = 675.0
RADIANCE_OFFSET = 5.10608
RADIANCE_SCALING_FACTOR = 0.0133492
REFLECTANCE_SCALING_FACTOR = 0.000352276
MEX:REFLECTANCE_OFFSET = 0.134746
/* IMAGE OBJECT DEFINITIONS */
OBJECT = IMAGE
  INTERCHANGE_FORMAT = BINARY
  LINES = 25838
  LINE_SAMPLES = 4804
  SAMPLE_TYPE = UNSIGNED_INTEGER
  SAMPLE_BITS = 8
  BANDS = 1
  BAND_STORAGE_TYPE = BAND_SEQUENTIAL
  MAXIMUM = 255
  MEAN = 97.1217
  MINIMUM = 1
  STANDARD_DEVIATION = 54.6957
END_OBJECT = IMAGE
/* MAP OBJECT DEFINITIONS */
OBJECT = IMAGE_MAP_PROJECTION
  ^DATA_SET_MAP_PROJECTION_CATALOG= "DSMAP.CAT"
  A_AXIS_RADIUS = 3396.0
  B_AXIS_RADIUS = 3396.0
  C_AXIS_RADIUS = 3396.0
  CENTER_LATITUDE = 0.0
  CENTER_LONGITUDE = 96.0
  COORDINATE_SYSTEM_NAME = PLANETOGRAPHIC
  COORDINATE_SYSTEM_TYPE = "BODY-FIXED ROTATING"
  EASTERNMOST_LONGITUDE = 97.27509999999999
  FIRST_STANDARD_PARALLEL = "N/A"
  LINE_FIRST_PIXEL = 1
  LINE_LAST_PIXEL = 25838
  LINE_PROJECTION_OFFSET = 99420.25
  MAP_PROJECTION_ROTATION = 0.0
  MAP_PROJECTION_TYPE = SINUSOIDAL
  MAP_RESOLUTION = 2370.85521546667
  MAP_SCALE = 0.025
  MAXIMUM_LATITUDE = 41.9666
  MINIMUM_LATITUDE = 31.0273
  POSITIVE_LONGITUDE_DIRECTION = EAST
  REFERENCE_LATITUDE = "N/A"
  REFERENCE_LONGITUDE = "N/A"
  SAMPLE_FIRST_PIXEL = 1
  SAMPLE_LAST_PIXEL = 4804
  SAMPLE_PROJECTION_OFFSET = 2112.75
  SECOND_STANDARD_PARALLEL = "N/A"
  WESTERNMOST_LONGITUDE = 94.901
END_OBJECT = IMAGE_MAP_PROJECTION
END
