PDS_VERSION_ID = PDS3
/* FILE DATA ELEMENTS */
RECORD_TYPE = UNDEFINED
/* POINTERS TO DATA OBJECTS */
^IMAGE = ("H9613_0000_IR4.TIF")
/* IDENTIFICATION DATA ELEMENTS */
DATA_SET_ID = "MEX-M-HRSC-4-REFDR-MAPPROJECT-EXT3-V4.0"
DATA_SET_NAME = "MARS EXPRESS HRSC MAP PROJECTED REFDR EXTENSION3 V4.0"
DETECTOR_ID = MEX_HRSC_IR
EVENT_TYPE = "MARS-REGIONAL-MAPPING-Te-Im-Pf"
INSTRUMENT_HOST_ID = MEX
INSTRUMENT_HOST_NAME = "MARS EXPRESS"
INSTRUMENT_ID = HRSC
INSTRUMENT_NAME = "HIGH RESOLUTION STEREO CAMERA"
MISSION_NAME = "MARS EXPRESS"
MISSION_PHASE_NAME = ME_Phase_23
PROCESSING_LEVEL_ID = 4
PRODUCT_CREATION_TIME = 2023-02-04T12:09:02.000Z
PRODUCT_ID = "H9613_0000_IR4.TIF"
RELEASE_ID = 0007
REVISION_ID = 0000
/* QUALITY DATA ELEMENTS */
DATA_QUALITY_ID = 1
DATA_QUALITY_DESC = "Data calculated based on original SPICE kernels"
/* TIME DATA ELEMENTS */
SPACECRAFT_CLOCK_START_COUNT = "1/0258747066.09053"
SPACECRAFT_CLOCK_STOP_COUNT = "1/0258747368.31680"
START_TIME = 2011-07-14T18:11:15.276Z
STOP_TIME = 2011-07-14T18:14:57.545Z
/* ORBITAL DATA ELEMENTS */
ASCENDING_NODE_LONGITUDE = 33.7
MAXIMUM_RESOLUTION = 0.0635
FOOTPRINT_POINT_LATITUDE = (61.3531,61.3417,61.3316,61.3202, 61.2935,61.2731,61.2721,61.1743,60.7521 ,60.3294,59.906,59.4823,59.0582,58.6335 ,58.2086,57.925,57.6414,57.2152,56.9311 ,56.6467,56.3626,56.078,55.7932,55.3659 ,54.9383,54.5106,54.2253,53.7973, 53.3689,53.0833,52.7976,52.3689,52.0831 ,51.6543,51.2252,50.7964,50.5104, 50.2245,49.7954,49.2232,48.9371,48.6511 ,48.3652,47.9364,47.6502,47.3644, 47.0784,46.9356,46.856,46.8661,46.8721, 46.8769,46.8819,46.8857,46.8857,46.8867 ,47.1733,47.6032,48.0333,48.3202, 48.6069,48.8943,49.3239,49.754,50.0409, 50.4712,50.9019,51.3323,51.7624,52.0492 ,52.3361,52.6232,52.9099,53.3395, 53.6261,53.9125,54.199,54.4853,54.7716, 55.2007,55.4869,55.7734,56.059,56.3448, 56.6304,56.9157,57.2012,57.4864,57.7715 ,58.0565,58.4837,58.9107,59.3373, 59.6214,59.9054,60.331,60.7563,61.0396, 61.1811,61.3531)
FOOTPRINT_POINT_LONGITUDE = (145.385,144.862,144.465,144.07,143.285 ,142.772,142.748,142.72,142.804,142.884 ,142.961,143.036,143.107,143.176, 143.243,143.286,143.328,143.388,143.428 ,143.466,143.504,143.54,143.575,143.627 ,143.677,143.724,143.755,143.8,143.843, 143.871,143.898,143.937,143.963,143.999 ,144.034,144.068,144.09,144.111,144.142 ,144.181,144.199,144.217,144.235,144.26 ,144.277,144.292,144.308,144.315, 144.319,144.746,145.058,145.371,145.804 ,146.397,146.417,146.423,146.413, 146.396,146.379,146.368,146.356,146.344 ,146.326,146.307,146.294,146.274, 146.253,146.232,146.21,146.195,146.18, 146.164,146.148,146.124,146.107,146.091 ,146.073,146.055,146.037,146.009,145.99 ,145.97,145.951,145.93,145.91,145.889, 145.867,145.845,145.823,145.8,145.764, 145.727,145.689,145.664,145.637,145.596 ,145.554,145.525,145.51,145.385)
ORBIT_NUMBER = 9613
ORBITAL_ECCENTRICITY = 0.572
ORBITAL_INCLINATION = 86.87
ORBITAL_SEMIMAJOR_AXIS = 8783.96
PERIAPSIS_ALTITUDE = 377.7
PERIAPSIS_ARGUMENT_ANGLE = 118.56
PERIAPSIS_TIME = 2011-07-14T18:11:42.000Z
SPACECRAFT_ORIENTATION = (0.0,-1.0,0.0)
^MEX_ORIENTATION_DESC = "MEX_ORIENTATION_DESC.TXT"
SPACECRAFT_POINTING_MODE = ACROSSTRACK
^MEX_POINTING_DESC = "MEX_POINTING_DESC.TXT"
RIGHT_ASCENSION = -1e+32
DECLINATION = -1e+32
OFFSET_ANGLE = 0.269
SPACECRAFT_SOLAR_DISTANCE = 2.21275e+08
TARGET_NAME = MARS
/* CAMERA DATA ELEMENTS */
DETECTOR_TEMPERATURE = 17.1471
FOCAL_PLANE_TEMPERATURE = 7.7677
INST_CMPRS_NAME = "DISCRETE COSINE TRANSFORMATION (DCT)"
INST_CMPRS_RATIO = 7.30203
INST_CMPRS_QUALITY = 0
INST_CMPRS_QUANTZ_TBL_ID = 0
INSTRUMENT_TEMPERATURE = 11.234
LENS_TEMPERATURE = 8.1755
MACROPIXEL_SIZE = 4
MISSING_FRAMES = 0
PIXEL_SUBSAMPLING_FLAG = N
SIGNAL_CHAIN_ID = 2
/* RADIOMETRIC DATA ELEMENTS */
BANDWIDTH = 81.0
CENTER_FILTER_WAVELENGTH = 955.5
RADIANCE_OFFSET = 0.78366
RADIANCE_SCALING_FACTOR = 0.00376976
REFLECTANCE_SCALING_FACTOR = 0.000398205
MEX:REFLECTANCE_OFFSET = 0.082779
/* IMAGE OBJECT DEFINITIONS */
OBJECT = IMAGE
  INTERCHANGE_FORMAT = BINARY
  LINES = 17095
  LINE_SAMPLES = 2478
  SAMPLE_TYPE = UNSIGNED_INTEGER
  SAMPLE_BITS = 8
  BANDS = 1
  BAND_STORAGE_TYPE = BAND_SEQUENTIAL
  MAXIMUM = 255
  MEAN = 97.5425
  MINIMUM = 1
  STANDARD_DEVIATION = 39.4089
END_OBJECT = IMAGE
/* MAP OBJECT DEFINITIONS */
OBJECT = IMAGE_MAP_PROJECTION
  ^DATA_SET_MAP_PROJECTION_CATALOG= "DSMAP.CAT"
  A_AXIS_RADIUS = 3396.0
  B_AXIS_RADIUS = 3396.0
  C_AXIS_RADIUS = 3396.0
  CENTER_LATITUDE = 0.0
  CENTER_LONGITUDE = 145.0
  COORDINATE_SYSTEM_NAME = PLANETOGRAPHIC
  COORDINATE_SYSTEM_TYPE = "BODY-FIXED ROTATING"
  EASTERNMOST_LONGITUDE = 146.423
  FIRST_STANDARD_PARALLEL = "N/A"
  LINE_FIRST_PIXEL = 1
  LINE_LAST_PIXEL = 17095
  LINE_PROJECTION_OFFSET = 72654.875
  MAP_PROJECTION_ROTATION = 0.0
  MAP_PROJECTION_TYPE = SINUSOIDAL
  MAP_RESOLUTION = 1185.42760773333
  MAP_SCALE = 0.05
  MAXIMUM_LATITUDE = 61.3531
  MINIMUM_LATITUDE = 46.856
  POSITIVE_LONGITUDE_DIRECTION = EAST
  REFERENCE_LATITUDE = "N/A"
  REFERENCE_LONGITUDE = "N/A"
  SAMPLE_FIRST_PIXEL = 1
  SAMPLE_LAST_PIXEL = 2478
  SAMPLE_PROJECTION_OFFSET = 1310.875
  SECOND_STANDARD_PARALLEL = "N/A"
  WESTERNMOST_LONGITUDE = 142.72
END_OBJECT = IMAGE_MAP_PROJECTION
END
