PDS_VERSION_ID = PDS3
/* FILE DATA ELEMENTS */
RECORD_TYPE = UNDEFINED
/* POINTERS TO DATA OBJECTS */
^IMAGE = ("H9609_0009_P14.TIF")
/* IDENTIFICATION DATA ELEMENTS */
DATA_SET_ID = "MEX-M-HRSC-4-REFDR-MAPPROJECT-EXT3-V4.0"
DATA_SET_NAME = "MARS EXPRESS HRSC MAP PROJECTED REFDR EXTENSION3 V4.0"
DETECTOR_ID = MEX_HRSC_P1
EVENT_TYPE = "MARS-REGIONAL-MAPPING-Te-Im-Pf"
INSTRUMENT_HOST_ID = MEX
INSTRUMENT_HOST_NAME = "MARS EXPRESS"
INSTRUMENT_ID = HRSC
INSTRUMENT_NAME = "HIGH RESOLUTION STEREO CAMERA"
MISSION_NAME = "MARS EXPRESS"
MISSION_PHASE_NAME = ME_Phase_23
PROCESSING_LEVEL_ID = 4
PRODUCT_CREATION_TIME = 2023-02-04T12:09:02.000Z
PRODUCT_ID = "H9609_0009_P14.TIF"
RELEASE_ID = 0007
REVISION_ID = 0000
/* QUALITY DATA ELEMENTS */
DATA_QUALITY_ID = 1
DATA_QUALITY_DESC = "Data calculated based on original SPICE kernels"
/* TIME DATA ELEMENTS */
SPACECRAFT_CLOCK_START_COUNT = "1/0258646429.07280"
SPACECRAFT_CLOCK_STOP_COUNT = "1/0258646630.54008"
START_TIME = 2011-07-13T14:14:03.779Z
STOP_TIME = 2011-07-13T14:16:07.922Z
/* ORBITAL DATA ELEMENTS */
ASCENDING_NODE_LONGITUDE = 33.77
MAXIMUM_RESOLUTION = 0.0313
FOOTPRINT_POINT_LATITUDE = (55.5256,55.5066,55.4874,55.4741, 55.4596,55.447,55.446,55.3741,55.2146, 54.9753,54.6563,54.3373,54.1777,53.8587 ,53.619,53.3794,53.1398,52.9801,52.8204 ,52.5809,52.3412,52.1813,51.9418, 51.7821,51.6224,51.4625,51.3028,51.0631 ,50.9034,50.7437,50.5838,50.4241, 50.1844,50.0246,49.8648,49.6252,49.4654 ,49.3056,49.0661,48.8264,48.587,48.2676 ,47.9483,47.4697,47.3899,47.3767, 47.3855,47.397,47.4045,47.4133,47.4231, 47.4324,47.4327,47.4333,47.6734,47.9134 ,48.0734,48.2335,48.3937,48.6339, 48.7941,49.0344,49.1946,49.3548,49.515, 49.6753,49.8356,49.9959,50.2364,50.3967 ,50.557,50.7173,50.8776,51.1181,51.2784 ,51.4388,51.599,51.7593,51.9196,52.1602 ,52.3206,52.481,52.7214,52.8816,53.0418 ,53.2021,53.3623,53.5226,53.6829, 53.9233,54.0835,54.2438,54.4842,54.6444 ,54.8046,54.9646,55.1248,55.3649,55.445 ,55.5256)
FOOTPRINT_POINT_LONGITUDE = (194.582,193.907,193.341,192.994, 192.646,192.364,192.342,192.288,192.309 ,192.34,192.38,192.419,192.438,192.475, 192.502,192.529,192.555,192.572,192.589 ,192.614,192.638,192.654,192.678, 192.693,192.709,192.723,192.738,192.76, 192.774,192.788,192.802,192.815,192.835 ,192.849,192.861,192.88,192.893,192.905 ,192.923,192.94,192.958,192.98,193.001, 193.033,193.038,193.039,193.281,193.627 ,193.87,194.195,194.622,195.11,195.131, 195.138,195.127,195.115,195.108,195.1, 195.092,195.08,195.072,195.06,195.051, 195.043,195.034,195.026,195.017,195.008 ,194.995,194.986,194.977,194.968, 194.958,194.944,194.935,194.925,194.915 ,194.905,194.895,194.88,194.87,194.859, 194.844,194.833,194.822,194.812,194.801 ,194.789,194.778,194.761,194.749, 194.738,194.72,194.708,194.696,194.683, 194.671,194.652,194.645,194.582)
ORBIT_NUMBER = 9609
ORBITAL_ECCENTRICITY = 0.572
ORBITAL_INCLINATION = 86.89
ORBITAL_SEMIMAJOR_AXIS = 8781.28
PERIAPSIS_ALTITUDE = 376.6
PERIAPSIS_ARGUMENT_ANGLE = 119.24
PERIAPSIS_TIME = 2011-07-13T14:13:05.000Z
SPACECRAFT_ORIENTATION = (0.0,-1.0,0.0)
^MEX_ORIENTATION_DESC = "MEX_ORIENTATION_DESC.TXT"
SPACECRAFT_POINTING_MODE = NADIR
^MEX_POINTING_DESC = "MEX_POINTING_DESC.TXT"
RIGHT_ASCENSION = -1e+32
DECLINATION = -1e+32
OFFSET_ANGLE = -1e+32
SPACECRAFT_SOLAR_DISTANCE = 2.21053e+08
TARGET_NAME = MARS
/* CAMERA DATA ELEMENTS */
DETECTOR_TEMPERATURE = 17.9627
FOCAL_PLANE_TEMPERATURE = 8.7872
INST_CMPRS_NAME = "DISCRETE COSINE TRANSFORMATION (DCT)"
INST_CMPRS_RATIO = 11.8413
INST_CMPRS_QUALITY = 0
INST_CMPRS_QUANTZ_TBL_ID = 0
INSTRUMENT_TEMPERATURE = 12.0496
LENS_TEMPERATURE = 9.195
MACROPIXEL_SIZE = 2
MISSING_FRAMES = 0
PIXEL_SUBSAMPLING_FLAG = N
SIGNAL_CHAIN_ID = 3
/* RADIOMETRIC DATA ELEMENTS */
BANDWIDTH = 174.0
CENTER_FILTER_WAVELENGTH = 675.0
RADIANCE_OFFSET = 4.20562
RADIANCE_SCALING_FACTOR = 0.00952013
REFLECTANCE_SCALING_FACTOR = 0.000250221
MEX:REFLECTANCE_OFFSET = 0.110538
/* IMAGE OBJECT DEFINITIONS */
OBJECT = IMAGE
  INTERCHANGE_FORMAT = BINARY
  LINES = 19165
  LINE_SAMPLES = 4174
  SAMPLE_TYPE = UNSIGNED_INTEGER
  SAMPLE_BITS = 8
  BANDS = 1
  BAND_STORAGE_TYPE = BAND_SEQUENTIAL
  MAXIMUM = 255
  MEAN = 134.751
  MINIMUM = 1
  STANDARD_DEVIATION = 48.4148
END_OBJECT = IMAGE
/* MAP OBJECT DEFINITIONS */
OBJECT = IMAGE_MAP_PROJECTION
  ^DATA_SET_MAP_PROJECTION_CATALOG= "DSMAP.CAT"
  A_AXIS_RADIUS = 3396.0
  B_AXIS_RADIUS = 3396.0
  C_AXIS_RADIUS = 3396.0
  CENTER_LATITUDE = 0.0
  CENTER_LONGITUDE = 194.0
  COORDINATE_SYSTEM_NAME = PLANETOGRAPHIC
  COORDINATE_SYSTEM_TYPE = "BODY-FIXED ROTATING"
  EASTERNMOST_LONGITUDE = 195.138
  FIRST_STANDARD_PARALLEL = "N/A"
  LINE_FIRST_PIXEL = 1
  LINE_LAST_PIXEL = 19165
  LINE_PROJECTION_OFFSET = 131507.75
  MAP_PROJECTION_ROTATION = 0.0
  MAP_PROJECTION_TYPE = SINUSOIDAL
  MAP_RESOLUTION = 2370.85521546667
  MAP_SCALE = 0.025
  MAXIMUM_LATITUDE = 55.5256
  MINIMUM_LATITUDE = 47.3767
  POSITIVE_LONGITUDE_DIRECTION = EAST
  REFERENCE_LATITUDE = "N/A"
  REFERENCE_LONGITUDE = "N/A"
  SAMPLE_FIRST_PIXEL = 1
  SAMPLE_LAST_PIXEL = 4174
  SAMPLE_PROJECTION_OFFSET = 2323.75
  SECOND_STANDARD_PARALLEL = "N/A"
  WESTERNMOST_LONGITUDE = 192.288
END_OBJECT = IMAGE_MAP_PROJECTION
END
