PDS_VERSION_ID = PDS3
/* FILE DATA ELEMENTS */
RECORD_TYPE = UNDEFINED
/* POINTERS TO DATA OBJECTS */
^IMAGE = ("H9605_0000_S14.TIF")
/* IDENTIFICATION DATA ELEMENTS */
DATA_SET_ID = "MEX-M-HRSC-4-REFDR-MAPPROJECT-EXT3-V4.0"
DATA_SET_NAME = "MARS EXPRESS HRSC MAP PROJECTED REFDR EXTENSION3 V4.0"
DETECTOR_ID = MEX_HRSC_S1
EVENT_TYPE = "MARS-REGIONAL-MAPPING-Te-Im-Pf"
INSTRUMENT_HOST_ID = MEX
INSTRUMENT_HOST_NAME = "MARS EXPRESS"
INSTRUMENT_ID = HRSC
INSTRUMENT_NAME = "HIGH RESOLUTION STEREO CAMERA"
MISSION_NAME = "MARS EXPRESS"
MISSION_PHASE_NAME = ME_Phase_23
PROCESSING_LEVEL_ID = 4
PRODUCT_CREATION_TIME = 2023-02-04T12:09:02.000Z
PRODUCT_ID = "H9605_0000_S14.TIF"
RELEASE_ID = 0007
REVISION_ID = 0000
/* QUALITY DATA ELEMENTS */
DATA_QUALITY_ID = 1
DATA_QUALITY_DESC = "Data calculated based on original SPICE kernels"
/* TIME DATA ELEMENTS */
SPACECRAFT_CLOCK_START_COUNT = "1/0258545578.09073"
SPACECRAFT_CLOCK_STOP_COUNT = "1/0258545897.09216"
START_TIME = 2011-07-12T10:13:01.226Z
STOP_TIME = 2011-07-12T10:17:03.079Z
/* ORBITAL DATA ELEMENTS */
ASCENDING_NODE_LONGITUDE = 33.86
MAXIMUM_RESOLUTION = 0.032
FOOTPRINT_POINT_LATITUDE = (63.5216,63.4727,63.4169,63.3412, 63.3391,63.2146,62.612,62.0077,61.7039, 61.2486,60.9446,60.6402,60.3354,60.0302 ,59.7249,59.419,59.1132,58.8066,58.3465 ,58.0395,57.7319,57.4243,57.1162, 56.8076,56.4993,56.1902,55.7264,55.4169 ,55.1073,54.7969,54.4865,54.176,53.7097 ,53.3988,53.0878,52.7761,52.4647, 52.1531,51.6851,51.2169,50.7485,50.4361 ,49.9679,49.4986,49.1856,48.7172, 48.4048,47.9362,47.78,47.7605,47.8107, 47.8402,47.8681,47.8689,47.8697,48.3399 ,48.6536,48.9671,49.4373,49.7513, 50.0649,50.3788,50.8491,51.1627,51.4764 ,51.7895,52.1022,52.5717,52.8845, 53.1973,53.5098,53.8225,54.1345,54.6025 ,55.0703,55.3817,55.693,56.1596,56.4702 ,56.7807,57.091,57.4011,57.7108,58.1751 ,58.4841,58.9475,59.2558,59.5639, 59.8719,60.1791,60.4864,60.7937,61.1004 ,61.4069,61.7131,62.324,62.7814,63.2382 ,63.39,63.5216)
FOOTPRINT_POINT_LONGITUDE = (241.813,240.93,240.041,238.978,238.95, 238.843,239.025,239.198,239.281,239.402 ,239.48,239.556,239.63,239.702,239.772, 239.841,239.908,239.973,240.068,240.13, 240.19,240.248,240.305,240.361,240.415, 240.468,240.544,240.594,240.642,240.689 ,240.735,240.78,240.845,240.887,240.928 ,240.968,241.007,241.045,241.099, 241.152,241.203,241.236,241.284,241.33, 241.359,241.403,241.431,241.471,241.485 ,241.486,242.33,242.888,243.519,243.539 ,243.546,243.517,243.497,243.477, 243.445,243.424,243.402,243.38,243.345, 243.322,243.298,243.273,243.249,243.21, 243.184,243.157,243.13,243.102,243.074, 243.03,242.984,242.954,242.922,242.873, 242.84,242.806,242.772,242.736,242.7, 242.644,242.606,242.547,242.507,242.466 ,242.423,242.38,242.336,242.291,242.245 ,242.198,242.149,242.049,241.971,241.89 ,241.862,241.813)
ORBIT_NUMBER = 9605
ORBITAL_ECCENTRICITY = 0.572
ORBITAL_INCLINATION = 86.88
ORBITAL_SEMIMAJOR_AXIS = 8785.45
PERIAPSIS_ALTITUDE = 375.56
PERIAPSIS_ARGUMENT_ANGLE = 119.91
PERIAPSIS_TIME = 2011-07-12T10:14:29.000Z
SPACECRAFT_ORIENTATION = (0.0,-1.0,0.0)
^MEX_ORIENTATION_DESC = "MEX_ORIENTATION_DESC.TXT"
SPACECRAFT_POINTING_MODE = ACROSSTRACK
^MEX_POINTING_DESC = "MEX_POINTING_DESC.TXT"
RIGHT_ASCENSION = -1e+32
DECLINATION = -1e+32
OFFSET_ANGLE = -0.45
SPACECRAFT_SOLAR_DISTANCE = 2.20832e+08
TARGET_NAME = MARS
/* CAMERA DATA ELEMENTS */
DETECTOR_TEMPERATURE = 17.7588
FOCAL_PLANE_TEMPERATURE = 8.9911
INST_CMPRS_NAME = "DISCRETE COSINE TRANSFORMATION (DCT)"
INST_CMPRS_RATIO = 10.2109
INST_CMPRS_QUALITY = 0
INST_CMPRS_QUANTZ_TBL_ID = 0
INSTRUMENT_TEMPERATURE = 11.234
LENS_TEMPERATURE = 9.3989
MACROPIXEL_SIZE = 2
MISSING_FRAMES = 0
PIXEL_SUBSAMPLING_FLAG = N
SIGNAL_CHAIN_ID = 1
/* RADIOMETRIC DATA ELEMENTS */
BANDWIDTH = 180.0
CENTER_FILTER_WAVELENGTH = 677.0
RADIANCE_OFFSET = 3.2376
RADIANCE_SCALING_FACTOR = 0.0157932
REFLECTANCE_SCALING_FACTOR = 0.000401824
MEX:REFLECTANCE_OFFSET = 0.0823739
/* IMAGE OBJECT DEFINITIONS */
OBJECT = IMAGE
  INTERCHANGE_FORMAT = BINARY
  LINES = 37034
  LINE_SAMPLES = 5859
  SAMPLE_TYPE = UNSIGNED_INTEGER
  SAMPLE_BITS = 8
  BANDS = 1
  BAND_STORAGE_TYPE = BAND_SEQUENTIAL
  MAXIMUM = 255
  MEAN = 115.334
  MINIMUM = 1
  STANDARD_DEVIATION = 36.592
END_OBJECT = IMAGE
/* MAP OBJECT DEFINITIONS */
OBJECT = IMAGE_MAP_PROJECTION
  ^DATA_SET_MAP_PROJECTION_CATALOG= "DSMAP.CAT"
  A_AXIS_RADIUS = 3396.0
  B_AXIS_RADIUS = 3396.0
  C_AXIS_RADIUS = 3396.0
  CENTER_LATITUDE = 0.0
  CENTER_LONGITUDE = 242.0
  COORDINATE_SYSTEM_NAME = PLANETOGRAPHIC
  COORDINATE_SYSTEM_TYPE = "BODY-FIXED ROTATING"
  EASTERNMOST_LONGITUDE = 243.546
  FIRST_STANDARD_PARALLEL = "N/A"
  LINE_FIRST_PIXEL = 1
  LINE_LAST_PIXEL = 37034
  LINE_PROJECTION_OFFSET = 150323.75
  MAP_PROJECTION_ROTATION = 0.0
  MAP_PROJECTION_TYPE = SINUSOIDAL
  MAP_RESOLUTION = 2370.85521546667
  MAP_SCALE = 0.025
  MAXIMUM_LATITUDE = 63.5216
  MINIMUM_LATITUDE = 47.7605
  POSITIVE_LONGITUDE_DIRECTION = EAST
  REFERENCE_LATITUDE = "N/A"
  REFERENCE_LONGITUDE = "N/A"
  SAMPLE_FIRST_PIXEL = 1
  SAMPLE_LAST_PIXEL = 5859
  SAMPLE_PROJECTION_OFFSET = 3363.25
  SECOND_STANDARD_PARALLEL = "N/A"
  WESTERNMOST_LONGITUDE = 238.843
END_OBJECT = IMAGE_MAP_PROJECTION
END
