PDS_VERSION_ID = PDS3
/* FILE DATA ELEMENTS */
RECORD_TYPE = UNDEFINED
/* POINTERS TO DATA OBJECTS */
^IMAGE = ("H9605_0000_P14.TIF")
/* IDENTIFICATION DATA ELEMENTS */
DATA_SET_ID = "MEX-M-HRSC-4-REFDR-MAPPROJECT-EXT3-V4.0"
DATA_SET_NAME = "MARS EXPRESS HRSC MAP PROJECTED REFDR EXTENSION3 V4.0"
DETECTOR_ID = MEX_HRSC_P1
EVENT_TYPE = "MARS-REGIONAL-MAPPING-Te-Im-Pf"
INSTRUMENT_HOST_ID = MEX
INSTRUMENT_HOST_NAME = "MARS EXPRESS"
INSTRUMENT_ID = HRSC
INSTRUMENT_NAME = "HIGH RESOLUTION STEREO CAMERA"
MISSION_NAME = "MARS EXPRESS"
MISSION_PHASE_NAME = ME_Phase_23
PROCESSING_LEVEL_ID = 4
PRODUCT_CREATION_TIME = 2023-02-04T12:09:02.000Z
PRODUCT_ID = "H9605_0000_P14.TIF"
RELEASE_ID = 0007
REVISION_ID = 0000
/* QUALITY DATA ELEMENTS */
DATA_QUALITY_ID = 1
DATA_QUALITY_DESC = "Data calculated based on original SPICE kernels"
/* TIME DATA ELEMENTS */
SPACECRAFT_CLOCK_START_COUNT = "1/0258545578.09073"
SPACECRAFT_CLOCK_STOP_COUNT = "1/0258545897.09216"
START_TIME = 2011-07-12T10:13:13.224Z
STOP_TIME = 2011-07-12T10:17:15.330Z
/* ORBITAL DATA ELEMENTS */
ASCENDING_NODE_LONGITUDE = 33.86
MAXIMUM_RESOLUTION = 0.0309
FOOTPRINT_POINT_LATITUDE = (63.4859,63.4245,63.3712,63.3208, 63.3189,63.2348,62.4752,61.8659,61.255, 60.7962,60.3369,59.8767,59.5699,59.2627 ,58.9552,58.6476,58.3397,58.0317, 57.7235,57.415,56.9518,56.643,56.3337, 56.0243,55.5602,55.2505,54.9407,54.6306 ,54.1653,53.855,53.5448,53.2343,52.9238 ,52.6131,52.3026,51.9918,51.681,51.3702 ,51.0592,50.7484,50.2742,49.808,49.497, 49.186,48.8757,48.5649,48.2545,47.9443, 47.7892,47.7618,47.799,47.8319,47.8549, 47.8556,47.8564,48.3234,48.635,48.9468, 49.2582,49.726,50.038,50.35,50.6701, 51.1383,51.4505,51.7624,52.0741,52.386, 52.8539,53.1658,53.4778,53.7895,54.257, 54.5686,54.8801,55.3472,55.6585,55.9696 ,56.2805,56.7469,57.0575,57.3681, 57.6786,57.9888,58.2987,58.6088,58.9185 ,59.2279,59.5374,59.8465,60.3097, 60.6186,60.927,61.2352,61.5434,62.1586, 62.6194,63.233,63.3861,63.4859)
FOOTPRINT_POINT_LONGITUDE = (241.808,240.629,239.745,238.993, 238.965,238.846,239.073,239.245,239.407 ,239.523,239.635,239.742,239.812,239.88 ,239.946,240.01,240.073,240.134,240.194 ,240.252,240.336,240.391,240.444, 240.496,240.571,240.62,240.667,240.713, 240.78,240.823,240.865,240.907,240.947, 240.986,241.024,241.061,241.097,241.132 ,241.166,241.199,241.249,241.295, 241.325,241.354,241.383,241.411,241.438 ,241.464,241.477,241.48,242.188,242.91, 243.525,243.545,243.552,243.523,243.503 ,243.482,243.462,243.43,243.408,243.385 ,243.362,243.326,243.302,243.278, 243.253,243.227,243.188,243.161,243.133 ,243.105,243.062,243.033,243.003, 242.956,242.924,242.892,242.859,242.807 ,242.773,242.737,242.7,242.663,242.625, 242.586,242.546,242.505,242.463,242.42, 242.355,242.309,242.263,242.216,242.167 ,242.067,241.988,241.879,241.851, 241.808)
ORBIT_NUMBER = 9605
ORBITAL_ECCENTRICITY = 0.572
ORBITAL_INCLINATION = 86.88
ORBITAL_SEMIMAJOR_AXIS = 8785.45
PERIAPSIS_ALTITUDE = 375.56
PERIAPSIS_ARGUMENT_ANGLE = 119.91
PERIAPSIS_TIME = 2011-07-12T10:14:29.000Z
SPACECRAFT_ORIENTATION = (0.0,-1.0,0.0)
^MEX_ORIENTATION_DESC = "MEX_ORIENTATION_DESC.TXT"
SPACECRAFT_POINTING_MODE = ACROSSTRACK
^MEX_POINTING_DESC = "MEX_POINTING_DESC.TXT"
RIGHT_ASCENSION = -1e+32
DECLINATION = -1e+32
OFFSET_ANGLE = -0.45
SPACECRAFT_SOLAR_DISTANCE = 2.20832e+08
TARGET_NAME = MARS
/* CAMERA DATA ELEMENTS */
DETECTOR_TEMPERATURE = 17.7588
FOCAL_PLANE_TEMPERATURE = 8.9911
INST_CMPRS_NAME = "DISCRETE COSINE TRANSFORMATION (DCT)"
INST_CMPRS_RATIO = 11.2152
INST_CMPRS_QUALITY = 0
INST_CMPRS_QUANTZ_TBL_ID = 0
INSTRUMENT_TEMPERATURE = 11.234
LENS_TEMPERATURE = 9.3989
MACROPIXEL_SIZE = 2
PIXEL_SUBSAMPLING_FLAG = N
SIGNAL_CHAIN_ID = 3
/* RADIOMETRIC DATA ELEMENTS */
BANDWIDTH = 174.0
CENTER_FILTER_WAVELENGTH = 675.0
RADIANCE_OFFSET = 2.76955
RADIANCE_SCALING_FACTOR = 0.0159563
REFLECTANCE_SCALING_FACTOR = 0.000418544
MEX:REFLECTANCE_OFFSET = 0.0726472
/* IMAGE OBJECT DEFINITIONS */
OBJECT = IMAGE
  INTERCHANGE_FORMAT = BINARY
  LINES = 37034
  LINE_SAMPLES = 5859
  SAMPLE_TYPE = UNSIGNED_INTEGER
  SAMPLE_BITS = 8
  BANDS = 1
  BAND_STORAGE_TYPE = BAND_SEQUENTIAL
  MAXIMUM = 255
  MEAN = 108.812
  MINIMUM = 1
  STANDARD_DEVIATION = 37.2096
END_OBJECT = IMAGE
/* MAP OBJECT DEFINITIONS */
OBJECT = IMAGE_MAP_PROJECTION
  ^DATA_SET_MAP_PROJECTION_CATALOG= "DSMAP.CAT"
  A_AXIS_RADIUS = 3396.0
  B_AXIS_RADIUS = 3396.0
  C_AXIS_RADIUS = 3396.0
  CENTER_LATITUDE = 0.0
  CENTER_LONGITUDE = 242.0
  COORDINATE_SYSTEM_NAME = PLANETOGRAPHIC
  COORDINATE_SYSTEM_TYPE = "BODY-FIXED ROTATING"
  EASTERNMOST_LONGITUDE = 243.552
  FIRST_STANDARD_PARALLEL = "N/A"
  LINE_FIRST_PIXEL = 1
  LINE_LAST_PIXEL = 37034
  LINE_PROJECTION_OFFSET = 150323.75
  MAP_PROJECTION_ROTATION = 0.0
  MAP_PROJECTION_TYPE = SINUSOIDAL
  MAP_RESOLUTION = 2370.85521546667
  MAP_SCALE = 0.025
  MAXIMUM_LATITUDE = 63.4859
  MINIMUM_LATITUDE = 47.7618
  POSITIVE_LONGITUDE_DIRECTION = EAST
  REFERENCE_LATITUDE = "N/A"
  REFERENCE_LONGITUDE = "N/A"
  SAMPLE_FIRST_PIXEL = 1
  SAMPLE_LAST_PIXEL = 5859
  SAMPLE_PROJECTION_OFFSET = 3363.25
  SECOND_STANDARD_PARALLEL = "N/A"
  WESTERNMOST_LONGITUDE = 238.846
END_OBJECT = IMAGE_MAP_PROJECTION
END
