PDS_VERSION_ID = PDS3
/* FILE DATA ELEMENTS */
RECORD_TYPE = UNDEFINED
/* POINTERS TO DATA OBJECTS */
^IMAGE = ("H9605_0000_BL4.TIF")
/* IDENTIFICATION DATA ELEMENTS */
DATA_SET_ID = "MEX-M-HRSC-4-REFDR-MAPPROJECT-EXT3-V4.0"
DATA_SET_NAME = "MARS EXPRESS HRSC MAP PROJECTED REFDR EXTENSION3 V4.0"
DETECTOR_ID = MEX_HRSC_BLUE
EVENT_TYPE = "MARS-REGIONAL-MAPPING-Te-Im-Pf"
INSTRUMENT_HOST_ID = MEX
INSTRUMENT_HOST_NAME = "MARS EXPRESS"
INSTRUMENT_ID = HRSC
INSTRUMENT_NAME = "HIGH RESOLUTION STEREO CAMERA"
MISSION_NAME = "MARS EXPRESS"
MISSION_PHASE_NAME = ME_Phase_23
PROCESSING_LEVEL_ID = 4
PRODUCT_CREATION_TIME = 2023-02-04T12:09:02.000Z
PRODUCT_ID = "H9605_0000_BL4.TIF"
RELEASE_ID = 0007
REVISION_ID = 0000
/* QUALITY DATA ELEMENTS */
DATA_QUALITY_ID = 1
DATA_QUALITY_DESC = "Data calculated based on original SPICE kernels"
/* TIME DATA ELEMENTS */
SPACECRAFT_CLOCK_START_COUNT = "1/0258545578.09073"
SPACECRAFT_CLOCK_STOP_COUNT = "1/0258545897.09216"
START_TIME = 2011-07-12T10:13:42.143Z
STOP_TIME = 2011-07-12T10:17:45.503Z
/* ORBITAL DATA ELEMENTS */
ASCENDING_NODE_LONGITUDE = 33.86
MAXIMUM_RESOLUTION = 0.0604
FOOTPRINT_POINT_LATITUDE = (63.3743,63.347,63.3098,63.2458,63.2443 ,63.2567,62.7921,62.4823,62.1723, 61.7073,61.242,60.9317,60.6214,60.1558, 59.8454,59.5349,59.2244,58.7587,58.4482 ,58.1378,57.6721,57.3617,57.0514, 56.7411,56.4309,56.1208,55.6557,55.3458 ,55.036,54.7263,54.4168,54.1073,53.798, 53.4888,53.1798,52.871,52.5623,52.2537, 51.9454,51.6372,51.3293,51.0215,50.714, 50.4066,49.7926,49.1796,48.5673,47.9562 ,47.8035,47.7897,47.8143,47.8359, 47.8477,47.848,47.8491,48.4621,49.0761, 49.6911,49.999,50.307,50.6154,50.9239, 51.2327,51.5417,51.851,52.1605,52.4702, 52.7801,53.09,53.4003,53.7107,54.0212, 54.332,54.6429,54.954,55.2651,55.5764, 55.8879,56.1995,56.5112,56.823,57.1349, 57.4469,57.7589,58.0711,58.3833,58.8518 ,59.1641,59.6328,60.1016,60.4141, 60.7266,61.1953,61.664,61.9765,62.4452, 62.7576,63.2261,63.3822,63.3743)
FOOTPRINT_POINT_LONGITUDE = (241.813,241.113,240.278,239.039, 239.012,238.868,239.008,239.097,239.185 ,239.31,239.431,239.509,239.585,239.695 ,239.766,239.835,239.902,240.0,240.063, 240.124,240.214,240.271,240.327,240.381 ,240.434,240.486,240.561,240.609, 240.656,240.702,240.746,240.789,240.832 ,240.873,240.913,240.952,240.99,241.027 ,241.062,241.097,241.132,241.165, 241.197,241.228,241.289,241.345,241.4, 241.452,241.464,241.465,242.199,243.004 ,243.548,243.568,243.574,243.534, 243.493,243.45,243.428,243.405,243.382, 243.358,243.334,243.31,243.284,243.259, 243.233,243.206,243.179,243.151,243.122 ,243.093,243.064,243.033,243.002, 242.971,242.938,242.905,242.872,242.837 ,242.802,242.766,242.729,242.691, 242.652,242.613,242.552,242.51,242.445, 242.378,242.332,242.285,242.212,242.137 ,242.085,242.004,241.949,241.863, 241.834,241.813)
ORBIT_NUMBER = 9605
ORBITAL_ECCENTRICITY = 0.572
ORBITAL_INCLINATION = 86.88
ORBITAL_SEMIMAJOR_AXIS = 8785.45
PERIAPSIS_ALTITUDE = 375.56
PERIAPSIS_ARGUMENT_ANGLE = 119.91
PERIAPSIS_TIME = 2011-07-12T10:14:29.000Z
SPACECRAFT_ORIENTATION = (0.0,-1.0,0.0)
^MEX_ORIENTATION_DESC = "MEX_ORIENTATION_DESC.TXT"
SPACECRAFT_POINTING_MODE = ACROSSTRACK
^MEX_POINTING_DESC = "MEX_POINTING_DESC.TXT"
RIGHT_ASCENSION = -1e+32
DECLINATION = -1e+32
OFFSET_ANGLE = -0.45
SPACECRAFT_SOLAR_DISTANCE = 2.20832e+08
TARGET_NAME = MARS
/* CAMERA DATA ELEMENTS */
DETECTOR_TEMPERATURE = 18.3705
FOCAL_PLANE_TEMPERATURE = 8.9911
INST_CMPRS_NAME = "DISCRETE COSINE TRANSFORMATION (DCT)"
INST_CMPRS_RATIO = 6.65078
INST_CMPRS_QUALITY = 0
INST_CMPRS_QUANTZ_TBL_ID = 0
INSTRUMENT_TEMPERATURE = 11.234
LENS_TEMPERATURE = 9.3989
MACROPIXEL_SIZE = 4
MISSING_FRAMES = 0
PIXEL_SUBSAMPLING_FLAG = N
SIGNAL_CHAIN_ID = 2
/* RADIOMETRIC DATA ELEMENTS */
BANDWIDTH = 76.0
CENTER_FILTER_WAVELENGTH = 444.0
RADIANCE_OFFSET = 0.561588
RADIANCE_SCALING_FACTOR = 0.00233314
REFLECTANCE_SCALING_FACTOR = 0.000116901
MEX:REFLECTANCE_OFFSET = 0.0281383
/* IMAGE OBJECT DEFINITIONS */
OBJECT = IMAGE
  INTERCHANGE_FORMAT = BINARY
  LINES = 18517
  LINE_SAMPLES = 2930
  SAMPLE_TYPE = UNSIGNED_INTEGER
  SAMPLE_BITS = 8
  BANDS = 1
  BAND_STORAGE_TYPE = BAND_SEQUENTIAL
  MAXIMUM = 255
  MEAN = 105.479
  MINIMUM = 1
  STANDARD_DEVIATION = 29.1117
END_OBJECT = IMAGE
/* MAP OBJECT DEFINITIONS */
OBJECT = IMAGE_MAP_PROJECTION
  ^DATA_SET_MAP_PROJECTION_CATALOG= "DSMAP.CAT"
  A_AXIS_RADIUS = 3396.0
  B_AXIS_RADIUS = 3396.0
  C_AXIS_RADIUS = 3396.0
  CENTER_LATITUDE = 0.0
  CENTER_LONGITUDE = 242.0
  COORDINATE_SYSTEM_NAME = PLANETOGRAPHIC
  COORDINATE_SYSTEM_TYPE = "BODY-FIXED ROTATING"
  EASTERNMOST_LONGITUDE = 243.574
  FIRST_STANDARD_PARALLEL = "N/A"
  LINE_FIRST_PIXEL = 1
  LINE_LAST_PIXEL = 18517
  LINE_PROJECTION_OFFSET = 75161.625
  MAP_PROJECTION_ROTATION = 0.0
  MAP_PROJECTION_TYPE = SINUSOIDAL
  MAP_RESOLUTION = 1185.42760773333
  MAP_SCALE = 0.05
  MAXIMUM_LATITUDE = 63.3822
  MINIMUM_LATITUDE = 47.7897
  POSITIVE_LONGITUDE_DIRECTION = EAST
  REFERENCE_LATITUDE = "N/A"
  REFERENCE_LONGITUDE = "N/A"
  SAMPLE_FIRST_PIXEL = 1
  SAMPLE_LAST_PIXEL = 2930
  SAMPLE_PROJECTION_OFFSET = 1681.375
  SECOND_STANDARD_PARALLEL = "N/A"
  WESTERNMOST_LONGITUDE = 238.868
END_OBJECT = IMAGE_MAP_PROJECTION
END
