PDS_VERSION_ID = PDS3
/* FILE DATA ELEMENTS */
RECORD_TYPE = UNDEFINED
/* POINTERS TO DATA OBJECTS */
^IMAGE = ("H9603_0000_P14.TIF")
/* IDENTIFICATION DATA ELEMENTS */
DATA_SET_ID = "MEX-M-HRSC-4-REFDR-MAPPROJECT-EXT3-V4.0"
DATA_SET_NAME = "MARS EXPRESS HRSC MAP PROJECTED REFDR EXTENSION3 V4.0"
DETECTOR_ID = MEX_HRSC_P1
EVENT_TYPE = "MARS-REGIONAL-MAPPING-Vo-Fl-Pf"
INSTRUMENT_HOST_ID = MEX
INSTRUMENT_HOST_NAME = "MARS EXPRESS"
INSTRUMENT_ID = HRSC
INSTRUMENT_NAME = "HIGH RESOLUTION STEREO CAMERA"
MISSION_NAME = "MARS EXPRESS"
MISSION_PHASE_NAME = ME_Phase_23
PROCESSING_LEVEL_ID = 4
PRODUCT_CREATION_TIME = 2023-02-04T12:09:02.000Z
PRODUCT_ID = "H9603_0000_P14.TIF"
RELEASE_ID = 0007
REVISION_ID = 0000
/* QUALITY DATA ELEMENTS */
DATA_QUALITY_ID = 1
DATA_QUALITY_DESC = "Data calculated based on original SPICE kernels"
/* TIME DATA ELEMENTS */
SPACECRAFT_CLOCK_START_COUNT = "1/0258495378.09035"
SPACECRAFT_CLOCK_STOP_COUNT = "1/0258495688.25491"
START_TIME = 2011-07-11T20:16:32.951Z
STOP_TIME = 2011-07-11T20:20:14.931Z
/* ORBITAL DATA ELEMENTS */
ASCENDING_NODE_LONGITUDE = 33.89
MAXIMUM_RESOLUTION = 0.0626
FOOTPRINT_POINT_LATITUDE = (53.2728,53.2467,53.2274,53.2033, 53.2025,53.1361,52.8573,52.5786,52.1601 ,51.7416,51.4625,51.0439,50.7647, 50.4857,50.0671,49.509,49.2298,48.8111, 48.2532,47.9741,47.6952,47.4162,47.1379 ,46.8589,46.58,46.3013,45.8835,45.6049, 45.3263,44.909,44.6309,44.0749,43.7923, 43.507,43.0793,42.7942,42.5094,42.224, 41.9317,41.4942,41.2024,40.9109,40.4679 ,40.1694,39.7219,39.4236,39.1213, 38.9688,38.8686,38.8802,38.8918,38.897, 38.9012,38.9011,38.9023,39.3605,39.659, 39.958,40.2568,40.5563,40.8532,41.1454, 41.4377,41.7304,42.0229,42.3152,42.6006 ,42.8862,43.1721,43.458,43.744,44.1689, 44.5871,44.866,45.2843,45.7031,45.9824, 46.2617,46.5405,46.9596,47.3792,47.6589 ,47.9387,48.2186,48.4986,48.7782, 49.1985,49.4789,49.8987,50.3188,50.5988 ,51.0187,51.2988,51.7188,51.9989,52.279 ,52.5592,52.9793,53.1191,53.2728)
FOOTPRINT_POINT_LONGITUDE = (88.4606,87.5076,86.9529,86.3584, 86.3385,86.2923,86.3223,86.3516,86.394, 86.435,86.4614,86.4999,86.5246,86.5489, 86.5841,86.629,86.6505,86.6817,86.7216, 86.7406,86.7591,86.7772,86.795,86.812, 86.8285,86.8445,86.8679,86.8828,86.8972 ,86.9183,86.9317,86.9574,86.9697, 86.9818,86.9991,87.0101,87.0208,87.031, 87.041,87.0556,87.0647,87.0735,87.0861, 87.0942,87.1054,87.1123,87.1191,87.1224 ,87.1245,87.5927,88.2119,88.6064, 89.1138,89.1327,89.139,89.1266,89.1184, 89.11,89.1015,89.0927,89.0838,89.0749, 89.0659,89.0565,89.0472,89.0376,89.0281 ,89.0184,89.0084,88.9983,88.9881, 88.9725,88.9567,88.946,88.9296,88.9127, 88.9012,88.8894,88.8779,88.8597,88.8407 ,88.8277,88.8145,88.8011,88.7873, 88.7737,88.752,88.7371,88.7149,88.6919, 88.6762,88.6522,88.6357,88.6105,88.5931 ,88.5755,88.5573,88.5296,88.5204, 88.4606)
ORBIT_NUMBER = 9603
ORBITAL_ECCENTRICITY = 0.573
ORBITAL_INCLINATION = 86.89
ORBITAL_SEMIMAJOR_AXIS = 8789.26
PERIAPSIS_ALTITUDE = 375.15
PERIAPSIS_ARGUMENT_ANGLE = 120.26
PERIAPSIS_TIME = 2011-07-11T20:15:15.000Z
SPACECRAFT_ORIENTATION = (0.0,-1.0,0.0)
^MEX_ORIENTATION_DESC = "MEX_ORIENTATION_DESC.TXT"
SPACECRAFT_POINTING_MODE = NADIR
^MEX_POINTING_DESC = "MEX_POINTING_DESC.TXT"
RIGHT_ASCENSION = -1e+32
DECLINATION = -1e+32
OFFSET_ANGLE = -1e+32
SPACECRAFT_SOLAR_DISTANCE = 2.20722e+08
TARGET_NAME = MARS
/* CAMERA DATA ELEMENTS */
DETECTOR_TEMPERATURE = 17.1471
FOCAL_PLANE_TEMPERATURE = 7.9716
INST_CMPRS_NAME = "DISCRETE COSINE TRANSFORMATION (DCT)"
INST_CMPRS_RATIO = 30.1401
INST_CMPRS_QUALITY = 0
INST_CMPRS_QUANTZ_TBL_ID = 0
INSTRUMENT_TEMPERATURE = 10.2145
LENS_TEMPERATURE = 8.7872
MACROPIXEL_SIZE = 4
MISSING_FRAMES = 0
PIXEL_SUBSAMPLING_FLAG = N
SIGNAL_CHAIN_ID = 3
/* RADIOMETRIC DATA ELEMENTS */
BANDWIDTH = 174.0
CENTER_FILTER_WAVELENGTH = 675.0
RADIANCE_OFFSET = 3.88279
RADIANCE_SCALING_FACTOR = 0.0134963
REFLECTANCE_SCALING_FACTOR = 0.000353664
MEX:REFLECTANCE_OFFSET = 0.101746
/* IMAGE OBJECT DEFINITIONS */
OBJECT = IMAGE
  INTERCHANGE_FORMAT = BINARY
  LINES = 16992
  LINE_SAMPLES = 2306
  SAMPLE_TYPE = UNSIGNED_INTEGER
  SAMPLE_BITS = 8
  BANDS = 1
  BAND_STORAGE_TYPE = BAND_SEQUENTIAL
  MAXIMUM = 255
  MEAN = 69.748
  MINIMUM = 1
  STANDARD_DEVIATION = 38.2393
END_OBJECT = IMAGE
/* MAP OBJECT DEFINITIONS */
OBJECT = IMAGE_MAP_PROJECTION
  ^DATA_SET_MAP_PROJECTION_CATALOG= "DSMAP.CAT"
  A_AXIS_RADIUS = 3396.0
  B_AXIS_RADIUS = 3396.0
  C_AXIS_RADIUS = 3396.0
  CENTER_LATITUDE = 0.0
  CENTER_LONGITUDE = 88.0
  COORDINATE_SYSTEM_NAME = PLANETOGRAPHIC
  COORDINATE_SYSTEM_TYPE = "BODY-FIXED ROTATING"
  EASTERNMOST_LONGITUDE = 89.139
  FIRST_STANDARD_PARALLEL = "N/A"
  LINE_FIRST_PIXEL = 1
  LINE_LAST_PIXEL = 16992
  LINE_PROJECTION_OFFSET = 63081.625
  MAP_PROJECTION_ROTATION = 0.0
  MAP_PROJECTION_TYPE = SINUSOIDAL
  MAP_RESOLUTION = 1185.42760773333
  MAP_SCALE = 0.05
  MAXIMUM_LATITUDE = 53.2728
  MINIMUM_LATITUDE = 38.8686
  POSITIVE_LONGITUDE_DIRECTION = EAST
  REFERENCE_LATITUDE = "N/A"
  REFERENCE_LONGITUDE = "N/A"
  SAMPLE_FIRST_PIXEL = 1
  SAMPLE_LAST_PIXEL = 2306
  SAMPLE_PROJECTION_OFFSET = 1229.375
  SECOND_STANDARD_PARALLEL = "N/A"
  WESTERNMOST_LONGITUDE = 86.2923
END_OBJECT = IMAGE_MAP_PROJECTION
END
