PDS_VERSION_ID = PDS3
/* FILE DATA ELEMENTS */
RECORD_TYPE = UNDEFINED
/* POINTERS TO DATA OBJECTS */
^IMAGE = ("H9603_0000_IR4.TIF")
/* IDENTIFICATION DATA ELEMENTS */
DATA_SET_ID = "MEX-M-HRSC-4-REFDR-MAPPROJECT-EXT3-V4.0"
DATA_SET_NAME = "MARS EXPRESS HRSC MAP PROJECTED REFDR EXTENSION3 V4.0"
DETECTOR_ID = MEX_HRSC_IR
EVENT_TYPE = "MARS-REGIONAL-MAPPING-Vo-Fl-Pf"
INSTRUMENT_HOST_ID = MEX
INSTRUMENT_HOST_NAME = "MARS EXPRESS"
INSTRUMENT_ID = HRSC
INSTRUMENT_NAME = "HIGH RESOLUTION STEREO CAMERA"
MISSION_NAME = "MARS EXPRESS"
MISSION_PHASE_NAME = ME_Phase_23
PROCESSING_LEVEL_ID = 4
PRODUCT_CREATION_TIME = 2023-02-04T12:09:02.000Z
PRODUCT_ID = "H9603_0000_IR4.TIF"
RELEASE_ID = 0007
REVISION_ID = 0000
/* QUALITY DATA ELEMENTS */
DATA_QUALITY_ID = 1
DATA_QUALITY_DESC = "Data calculated based on original SPICE kernels"
/* TIME DATA ELEMENTS */
SPACECRAFT_CLOCK_START_COUNT = "1/0258495378.09035"
SPACECRAFT_CLOCK_STOP_COUNT = "1/0258495688.25491"
START_TIME = 2011-07-11T20:16:27.260Z
STOP_TIME = 2011-07-11T20:20:08.048Z
/* ORBITAL DATA ELEMENTS */
ASCENDING_NODE_LONGITUDE = 33.89
MAXIMUM_RESOLUTION = 0.1271
FOOTPRINT_POINT_LATITUDE = (53.276,53.2635,53.2419,53.2069,53.206, 53.1214,52.5671,52.1508,51.7345,51.3179 ,50.9013,50.6235,50.2069,49.7902, 49.3732,49.0951,48.8169,48.5389,48.2613 ,47.9831,47.7049,47.427,47.1494,46.8713 ,46.5932,46.1762,45.7593,45.4814, 45.0649,44.6486,44.3707,44.0931,43.8156 ,43.5377,43.2528,42.9681,42.6831, 42.3986,42.1137,41.8295,41.5379,41.2461 ,40.9545,40.5176,40.2251,39.7772, 39.4785,39.0311,38.8823,38.8604,38.8791 ,38.8893,38.893,38.8931,38.8954,39.194, 39.4926,39.7916,40.0908,40.3883,40.8265 ,41.1187,41.4109,41.8499,42.2779, 42.5631,42.8484,43.1342,43.4197,43.7023 ,43.9807,44.3981,44.6764,45.0938, 45.5116,45.7903,46.0692,46.3474,46.6253 ,46.9041,47.1829,47.4619,47.8802, 48.2987,48.7168,49.1356,49.415,49.6937, 50.1119,50.3907,50.8089,51.2268,51.5057 ,51.7841,52.0628,52.4807,52.7595, 53.0377,53.1767,53.276)
FOOTPRINT_POINT_LONGITUDE = (88.4601,87.9638,87.2694,86.3778, 86.3579,86.3093,86.3683,86.4105,86.4513 ,86.4906,86.5284,86.5529,86.5885, 86.6228,86.6557,86.6769,86.6975,86.7176 ,86.7374,86.7564,86.775,86.7931,86.8109 ,86.828,86.8446,86.8686,86.8917,86.9064 ,86.9279,86.9485,86.9614,86.9742, 86.9865,86.9983,87.0101,87.0215,87.0324 ,87.043,87.0531,87.063,87.0727,87.082, 87.0909,87.1037,87.1118,87.1233,87.1304 ,87.1405,87.1438,87.1443,87.9441, 88.6352,89.1023,89.121,89.1334,89.1256, 89.1176,89.1094,89.101,89.0925,89.0796, 89.0708,89.062,89.0481,89.0344,89.025, 89.0155,89.0056,88.9957,88.9858,88.9757 ,88.9603,88.9499,88.9339,88.9174, 88.9061,88.8945,88.8831,88.8716,88.8595 ,88.8471,88.8344,88.8151,88.7951, 88.7748,88.7535,88.7388,88.7243,88.7019 ,88.6866,88.6631,88.639,88.6224,88.6058 ,88.5885,88.5621,88.5439,88.5256, 88.5165,88.4601)
ORBIT_NUMBER = 9603
ORBITAL_ECCENTRICITY = 0.573
ORBITAL_INCLINATION = 86.89
ORBITAL_SEMIMAJOR_AXIS = 8789.26
PERIAPSIS_ALTITUDE = 375.15
PERIAPSIS_ARGUMENT_ANGLE = 120.26
PERIAPSIS_TIME = 2011-07-11T20:15:15.000Z
SPACECRAFT_ORIENTATION = (0.0,-1.0,0.0)
^MEX_ORIENTATION_DESC = "MEX_ORIENTATION_DESC.TXT"
SPACECRAFT_POINTING_MODE = NADIR
^MEX_POINTING_DESC = "MEX_POINTING_DESC.TXT"
RIGHT_ASCENSION = -1e+32
DECLINATION = -1e+32
OFFSET_ANGLE = -1e+32
SPACECRAFT_SOLAR_DISTANCE = 2.20722e+08
TARGET_NAME = MARS
/* CAMERA DATA ELEMENTS */
DETECTOR_TEMPERATURE = 17.1471
FOCAL_PLANE_TEMPERATURE = 7.9716
INST_CMPRS_NAME = "DISCRETE COSINE TRANSFORMATION (DCT)"
INST_CMPRS_RATIO = 31.8271
INST_CMPRS_QUALITY = 0
INST_CMPRS_QUANTZ_TBL_ID = 0
INSTRUMENT_TEMPERATURE = 10.2145
LENS_TEMPERATURE = 8.7872
MACROPIXEL_SIZE = 8
MISSING_FRAMES = 0
PIXEL_SUBSAMPLING_FLAG = N
SIGNAL_CHAIN_ID = 2
/* RADIOMETRIC DATA ELEMENTS */
BANDWIDTH = 81.0
CENTER_FILTER_WAVELENGTH = 955.5
RADIANCE_OFFSET = 0.850047
RADIANCE_SCALING_FACTOR = 0.00415324
REFLECTANCE_SCALING_FACTOR = 0.00043652
MEX:REFLECTANCE_OFFSET = 0.089343
/* IMAGE OBJECT DEFINITIONS */
OBJECT = IMAGE
  INTERCHANGE_FORMAT = BINARY
  LINES = 8496
  LINE_SAMPLES = 1153
  SAMPLE_TYPE = UNSIGNED_INTEGER
  SAMPLE_BITS = 8
  BANDS = 1
  BAND_STORAGE_TYPE = BAND_SEQUENTIAL
  MAXIMUM = 255
  MEAN = 61.3883
  MINIMUM = 3
  STANDARD_DEVIATION = 37.3161
END_OBJECT = IMAGE
/* MAP OBJECT DEFINITIONS */
OBJECT = IMAGE_MAP_PROJECTION
  ^DATA_SET_MAP_PROJECTION_CATALOG= "DSMAP.CAT"
  A_AXIS_RADIUS = 3396.0
  B_AXIS_RADIUS = 3396.0
  C_AXIS_RADIUS = 3396.0
  CENTER_LATITUDE = 0.0
  CENTER_LONGITUDE = 88.0
  COORDINATE_SYSTEM_NAME = PLANETOGRAPHIC
  COORDINATE_SYSTEM_TYPE = "BODY-FIXED ROTATING"
  EASTERNMOST_LONGITUDE = 89.13339999999999
  FIRST_STANDARD_PARALLEL = "N/A"
  LINE_FIRST_PIXEL = 1
  LINE_LAST_PIXEL = 8496
  LINE_PROJECTION_OFFSET = 31540.5625
  MAP_PROJECTION_ROTATION = 0.0
  MAP_PROJECTION_TYPE = SINUSOIDAL
  MAP_RESOLUTION = 592.713803866667
  MAP_SCALE = 0.1
  MAXIMUM_LATITUDE = 53.276
  MINIMUM_LATITUDE = 38.8604
  POSITIVE_LONGITUDE_DIRECTION = EAST
  REFERENCE_LATITUDE = "N/A"
  REFERENCE_LONGITUDE = "N/A"
  SAMPLE_FIRST_PIXEL = 1
  SAMPLE_LAST_PIXEL = 1153
  SAMPLE_PROJECTION_OFFSET = 614.4375
  SECOND_STANDARD_PARALLEL = "N/A"
  WESTERNMOST_LONGITUDE = 86.30929999999999
END_OBJECT = IMAGE_MAP_PROJECTION
END
