PDS_VERSION_ID = PDS3
/* FILE DATA ELEMENTS */
RECORD_TYPE = UNDEFINED
/* POINTERS TO DATA OBJECTS */
^IMAGE = ("H9602_0000_RE4.TIF")
/* IDENTIFICATION DATA ELEMENTS */
DATA_SET_ID = "MEX-M-HRSC-4-REFDR-MAPPROJECT-EXT3-V4.0"
DATA_SET_NAME = "MARS EXPRESS HRSC MAP PROJECTED REFDR EXTENSION3 V4.0"
DETECTOR_ID = MEX_HRSC_RED
EVENT_TYPE = "MARS-REGIONAL-MAPPING-Te-Im-Pf"
INSTRUMENT_HOST_ID = MEX
INSTRUMENT_HOST_NAME = "MARS EXPRESS"
INSTRUMENT_ID = HRSC
INSTRUMENT_NAME = "HIGH RESOLUTION STEREO CAMERA"
MISSION_NAME = "MARS EXPRESS"
MISSION_PHASE_NAME = ME_Phase_23
PROCESSING_LEVEL_ID = 4
PRODUCT_CREATION_TIME = 2023-02-04T12:09:02.000Z
PRODUCT_ID = "H9602_0000_RE4.TIF"
RELEASE_ID = 0007
REVISION_ID = 0000
/* QUALITY DATA ELEMENTS */
DATA_QUALITY_ID = 1
DATA_QUALITY_DESC = "Data calculated based on original SPICE kernels"
/* TIME DATA ELEMENTS */
SPACECRAFT_CLOCK_START_COUNT = "1/0258470189.07285"
SPACECRAFT_CLOCK_STOP_COUNT = "1/0258470407.14503"
START_TIME = 2011-07-11T13:17:35.881Z
STOP_TIME = 2011-07-11T13:20:01.001Z
/* ORBITAL DATA ELEMENTS */
ASCENDING_NODE_LONGITUDE = 33.9
MAXIMUM_RESOLUTION = 0.0653
FOOTPRINT_POINT_LATITUDE = (53.6148,53.6009,53.5894,53.5788, 53.5492,53.5484,53.6342,53.4559,53.1884 ,52.9213,52.6543,52.4766,52.299,52.1215 ,51.8553,51.6781,51.4123,51.2355, 51.0586,50.882,50.7056,50.5292,50.353, 50.1768,50.0009,49.8251,49.3862,49.0359 ,48.6861,48.3369,47.9883,47.6403, 47.3733,47.1951,46.9281,46.7504,46.5729 ,46.3955,46.2183,46.0414,45.7714, 45.5902,45.4091,45.2283,45.0477,44.8674 ,44.7772,44.6991,44.7124,44.7219, 44.7278,44.7321,44.7398,44.7401,44.7411 ,44.9221,45.1031,45.2842,45.4655, 45.6471,45.8289,46.0107,46.1882,46.3658 ,46.5435,46.7215,46.8997,47.0781, 47.2565,47.4353,47.7026,48.0516,48.5766 ,48.9265,49.1028,49.4542,49.6302, 49.8064,49.9829,50.1592,50.3359,50.5126 ,50.6895,50.8665,51.0437,51.221,51.3983 ,51.5758,51.7536,52.0206,52.1987, 52.3768,52.5551,52.7335,52.912,53.0905, 53.2692,53.5374,53.6267,53.6148)
FOOTPRINT_POINT_LONGITUDE = (190.746,190.191,189.78,189.431,188.569 ,188.549,188.481,188.5,188.529,188.557, 188.584,188.602,188.619,188.637,188.662 ,188.678,188.703,188.719,188.734, 188.749,188.764,188.779,188.794,188.808 ,188.822,188.836,188.869,188.894, 188.919,188.943,188.965,188.987,189.004 ,189.014,189.03,189.04,189.05,189.06, 189.069,189.078,189.092,189.101,189.11, 189.118,189.127,189.135,189.139,189.143 ,189.704,190.165,190.467,190.728,191.27 ,191.29,191.297,191.289,191.282,191.274 ,191.266,191.258,191.249,191.241, 191.233,191.225,191.216,191.208,191.199 ,191.191,191.182,191.173,191.16,191.142 ,191.115,191.096,191.087,191.067, 191.057,191.047,191.037,191.027,191.016 ,191.006,190.995,190.985,190.974, 190.963,190.952,190.94,190.929,190.912, 190.9,190.888,190.876,190.864,190.851, 190.839,190.826,190.806,190.8,190.746)
ORBIT_NUMBER = 9602
ORBITAL_ECCENTRICITY = 0.572
ORBITAL_INCLINATION = 86.89
ORBITAL_SEMIMAJOR_AXIS = 8782.86
PERIAPSIS_ALTITUDE = 376.06
PERIAPSIS_ARGUMENT_ANGLE = 120.45
PERIAPSIS_TIME = 2011-07-11T13:15:36.000Z
SPACECRAFT_ORIENTATION = (0.0,-1.0,0.0)
^MEX_ORIENTATION_DESC = "MEX_ORIENTATION_DESC.TXT"
SPACECRAFT_POINTING_MODE = NADIR
^MEX_POINTING_DESC = "MEX_POINTING_DESC.TXT"
RIGHT_ASCENSION = -1e+32
DECLINATION = -1e+32
OFFSET_ANGLE = -1e+32
SPACECRAFT_SOLAR_DISTANCE = 2.20666e+08
TARGET_NAME = MARS
/* CAMERA DATA ELEMENTS */
DETECTOR_TEMPERATURE = 18.5744
FOCAL_PLANE_TEMPERATURE = 8.1755
INST_CMPRS_NAME = "DISCRETE COSINE TRANSFORMATION (DCT)"
INST_CMPRS_RATIO = 23.124
INST_CMPRS_QUALITY = 0
INST_CMPRS_QUANTZ_TBL_ID = 0
INSTRUMENT_TEMPERATURE = 11.234
LENS_TEMPERATURE = 8.3794
MACROPIXEL_SIZE = 4
MISSING_FRAMES = 0
PIXEL_SUBSAMPLING_FLAG = N
SIGNAL_CHAIN_ID = 2
/* RADIOMETRIC DATA ELEMENTS */
BANDWIDTH = 48.0
CENTER_FILTER_WAVELENGTH = 748.0
RADIANCE_OFFSET = 1.21913
RADIANCE_SCALING_FACTOR = 0.00342703
REFLECTANCE_SCALING_FACTOR = 0.000380821
MEX:REFLECTANCE_OFFSET = 0.135473
/* IMAGE OBJECT DEFINITIONS */
OBJECT = IMAGE
  INTERCHANGE_FORMAT = BINARY
  LINES = 10686
  LINE_SAMPLES = 2114
  SAMPLE_TYPE = UNSIGNED_INTEGER
  SAMPLE_BITS = 8
  BANDS = 1
  BAND_STORAGE_TYPE = BAND_SEQUENTIAL
  MAXIMUM = 255
  MEAN = 137.513
  MINIMUM = 1
  STANDARD_DEVIATION = 58.2266
END_OBJECT = IMAGE
/* MAP OBJECT DEFINITIONS */
OBJECT = IMAGE_MAP_PROJECTION
  ^DATA_SET_MAP_PROJECTION_CATALOG= "DSMAP.CAT"
  A_AXIS_RADIUS = 3396.0
  B_AXIS_RADIUS = 3396.0
  C_AXIS_RADIUS = 3396.0
  CENTER_LATITUDE = 0.0
  CENTER_LONGITUDE = 190.0
  COORDINATE_SYSTEM_NAME = PLANETOGRAPHIC
  COORDINATE_SYSTEM_TYPE = "BODY-FIXED ROTATING"
  EASTERNMOST_LONGITUDE = 191.297
  FIRST_STANDARD_PARALLEL = "N/A"
  LINE_FIRST_PIXEL = 1
  LINE_LAST_PIXEL = 10686
  LINE_PROJECTION_OFFSET = 63646.375
  MAP_PROJECTION_ROTATION = 0.0
  MAP_PROJECTION_TYPE = SINUSOIDAL
  MAP_RESOLUTION = 1185.42760773333
  MAP_SCALE = 0.05
  MAXIMUM_LATITUDE = 53.6342
  MINIMUM_LATITUDE = 44.6991
  POSITIVE_LONGITUDE_DIRECTION = EAST
  REFERENCE_LATITUDE = "N/A"
  REFERENCE_LONGITUDE = "N/A"
  SAMPLE_FIRST_PIXEL = 1
  SAMPLE_LAST_PIXEL = 2114
  SAMPLE_PROJECTION_OFFSET = 1057.375
  SECOND_STANDARD_PARALLEL = "N/A"
  WESTERNMOST_LONGITUDE = 188.481
END_OBJECT = IMAGE_MAP_PROJECTION
END
