PDS_VERSION_ID = PDS3
/* FILE DATA ELEMENTS */
RECORD_TYPE = UNDEFINED
/* POINTERS TO DATA OBJECTS */
^IMAGE = ("H9600_0001_GR4.TIF")
/* IDENTIFICATION DATA ELEMENTS */
DATA_SET_ID = "MEX-M-HRSC-4-REFDR-MAPPROJECT-EXT3-V4.0"
DATA_SET_NAME = "MARS EXPRESS HRSC MAP PROJECTED REFDR EXTENSION3 V4.0"
DETECTOR_ID = MEX_HRSC_GREEN
EVENT_TYPE = "MARS-REGIONAL-MAPPING-Im-Fl"
INSTRUMENT_HOST_ID = MEX
INSTRUMENT_HOST_NAME = "MARS EXPRESS"
INSTRUMENT_ID = HRSC
INSTRUMENT_NAME = "HIGH RESOLUTION STEREO CAMERA"
MISSION_NAME = "MARS EXPRESS"
MISSION_PHASE_NAME = ME_Phase_23
PROCESSING_LEVEL_ID = 4
PRODUCT_CREATION_TIME = 2023-02-04T12:09:02.000Z
PRODUCT_ID = "H9600_0001_GR4.TIF"
RELEASE_ID = 0007
REVISION_ID = 0000
/* QUALITY DATA ELEMENTS */
DATA_QUALITY_ID = 1
DATA_QUALITY_DESC = "Data calculated based on original SPICE kernels"
/* TIME DATA ELEMENTS */
SPACECRAFT_CLOCK_START_COUNT = "1/0258420289.07287"
SPACECRAFT_CLOCK_STOP_COUNT = "1/0258420569.11577"
START_TIME = 2011-07-10T23:25:41.341Z
STOP_TIME = 2011-07-10T23:27:38.908Z
/* ORBITAL DATA ELEMENTS */
ASCENDING_NODE_LONGITUDE = 33.95
MAXIMUM_RESOLUTION = 0.1002
FOOTPRINT_POINT_LATITUDE = (23.9153,23.9191,23.9209,23.9231, 23.9247,23.9264,23.9275,23.9283,23.9291 ,23.9297,23.9298,23.9294,23.9293, 23.9235,23.7224,23.5886,23.3878,23.2543 ,23.1209,22.9876,22.8545,22.7215, 22.5888,22.4561,22.3236,22.1249,21.9928 ,21.8609,21.7287,21.5968,21.3336, 21.1363,21.0043,20.7418,20.481,20.2864, 20.0911,19.8306,19.5706,19.3111,19.0523 ,18.794,18.5363,18.2793,18.0229,17.767, 17.5118,17.448,17.3868,17.3848,17.382, 17.3804,17.3786,17.3761,17.3739,17.3709 ,17.3654,17.3618,17.3585,17.3541,17.351 ,17.3477,17.3471,17.3481,17.6041, 17.8611,18.054,18.3118,18.5048,18.763, 19.0224,19.2824,19.5427,19.8033,19.9997 ,20.2616,20.5239,20.8527,20.9843, 21.1159,21.2478,21.3799,21.512,21.6444, 21.8432,21.9759,22.1093,22.2423,22.3753 ,22.5084,22.6413,22.775,22.9755,23.1092 ,23.3102,23.4443,23.5785,23.78,23.8473, 23.9153)
FOOTPRINT_POINT_LONGITUDE = (36.2723,35.985,35.8305,35.6319,35.4553 ,35.2344,35.0581,34.9037,34.7273, 34.4846,34.2195,33.9319,33.9098,33.8944 ,33.8891,33.8855,33.8797,33.876,33.8721 ,33.8684,33.8646,33.8608,33.8573, 33.8534,33.8496,33.8436,33.8398,33.8361 ,33.8317,33.8274,33.819,33.8122,33.8064 ,33.7966,33.7893,33.7849,33.7785, 33.7683,33.758,33.7475,33.7371,33.7264, 33.7157,33.7051,33.6945,33.6837,33.6729 ,33.6702,33.6675,33.9166,34.2179, 34.3682,34.5184,34.7186,34.8687,35.0688 ,35.3945,35.6197,35.7948,36.0197, 36.1698,36.3202,36.3454,36.3537,36.3515 ,36.3482,36.3461,36.3433,36.3424, 36.3406,36.3373,36.3341,36.3311,36.3286 ,36.3256,36.3225,36.3195,36.3155, 36.3141,36.3131,36.3117,36.3102,36.3088 ,36.3073,36.3049,36.3031,36.3005, 36.2988,36.2972,36.2958,36.2952,36.2931 ,36.2905,36.2891,36.2864,36.2848, 36.2833,36.281,36.2801,36.2723)
ORBIT_NUMBER = 9600
ORBITAL_ECCENTRICITY = 0.572
ORBITAL_INCLINATION = 86.88
ORBITAL_SEMIMAJOR_AXIS = 8788.6
PERIAPSIS_ALTITUDE = 376.04
PERIAPSIS_ARGUMENT_ANGLE = 120.8
PERIAPSIS_TIME = 2011-07-10T23:16:19.000Z
SPACECRAFT_ORIENTATION = (0.0,-1.0,0.0)
^MEX_ORIENTATION_DESC = "MEX_ORIENTATION_DESC.TXT"
SPACECRAFT_POINTING_MODE = NADIR
^MEX_POINTING_DESC = "MEX_POINTING_DESC.TXT"
RIGHT_ASCENSION = -1e+32
DECLINATION = -1e+32
OFFSET_ANGLE = -1e+32
SPACECRAFT_SOLAR_DISTANCE = 2.20556e+08
TARGET_NAME = MARS
/* CAMERA DATA ELEMENTS */
DETECTOR_TEMPERATURE = 19.1861
FOCAL_PLANE_TEMPERATURE = 8.3794
INST_CMPRS_NAME = "DISCRETE COSINE TRANSFORMATION (DCT)"
INST_CMPRS_RATIO = 17.5849
INST_CMPRS_QUALITY = 0
INST_CMPRS_QUANTZ_TBL_ID = 0
INSTRUMENT_TEMPERATURE = 12.6613
LENS_TEMPERATURE = 8.7872
MACROPIXEL_SIZE = 4
MISSING_FRAMES = 0
PIXEL_SUBSAMPLING_FLAG = N
SIGNAL_CHAIN_ID = 2
/* RADIOMETRIC DATA ELEMENTS */
BANDWIDTH = 88.0
CENTER_FILTER_WAVELENGTH = 538.0
RADIANCE_OFFSET = 2.39687
RADIANCE_SCALING_FACTOR = 0.00364471
REFLECTANCE_SCALING_FACTOR = 0.00015265
MEX:REFLECTANCE_OFFSET = 0.100387
/* IMAGE OBJECT DEFINITIONS */
OBJECT = IMAGE
  INTERCHANGE_FORMAT = BINARY
  LINES = 3892
  LINE_SAMPLES = 1557
  SAMPLE_TYPE = UNSIGNED_INTEGER
  SAMPLE_BITS = 8
  BANDS = 1
  BAND_STORAGE_TYPE = BAND_SEQUENTIAL
  MAXIMUM = 255
  MEAN = 123.368
  MINIMUM = 1
  STANDARD_DEVIATION = 24.8844
END_OBJECT = IMAGE
/* MAP OBJECT DEFINITIONS */
OBJECT = IMAGE_MAP_PROJECTION
  ^DATA_SET_MAP_PROJECTION_CATALOG= "DSMAP.CAT"
  A_AXIS_RADIUS = 3396.0
  B_AXIS_RADIUS = 3396.0
  C_AXIS_RADIUS = 3396.0
  CENTER_LATITUDE = 0.0
  CENTER_LONGITUDE = 35.0
  COORDINATE_SYSTEM_NAME = PLANETOGRAPHIC
  COORDINATE_SYSTEM_TYPE = "BODY-FIXED ROTATING"
  EASTERNMOST_LONGITUDE = 36.3537
  FIRST_STANDARD_PARALLEL = "N/A"
  LINE_FIRST_PIXEL = 1
  LINE_LAST_PIXEL = 3892
  LINE_PROJECTION_OFFSET = 14178.125
  MAP_PROJECTION_ROTATION = 0.0
  MAP_PROJECTION_TYPE = SINUSOIDAL
  MAP_RESOLUTION = 592.713803866667
  MAP_SCALE = 0.1
  MAXIMUM_LATITUDE = 23.9298
  MINIMUM_LATITUDE = 17.3471
  POSITIVE_LONGITUDE_DIRECTION = EAST
  REFERENCE_LATITUDE = "N/A"
  REFERENCE_LONGITUDE = "N/A"
  SAMPLE_FIRST_PIXEL = 1
  SAMPLE_LAST_PIXEL = 1557
  SAMPLE_PROJECTION_OFFSET = 775.625
  SECOND_STANDARD_PARALLEL = "N/A"
  WESTERNMOST_LONGITUDE = 33.6675
END_OBJECT = IMAGE_MAP_PROJECTION
END
