PDS_VERSION_ID = PDS3
/* FILE DATA ELEMENTS */
RECORD_TYPE = UNDEFINED
/* POINTERS TO DATA OBJECTS */
^IMAGE = ("H9600_0001_BL4.TIF")
/* IDENTIFICATION DATA ELEMENTS */
DATA_SET_ID = "MEX-M-HRSC-4-REFDR-MAPPROJECT-EXT3-V4.0"
DATA_SET_NAME = "MARS EXPRESS HRSC MAP PROJECTED REFDR EXTENSION3 V4.0"
DETECTOR_ID = MEX_HRSC_BLUE
EVENT_TYPE = "MARS-REGIONAL-MAPPING-Im-Fl"
INSTRUMENT_HOST_ID = MEX
INSTRUMENT_HOST_NAME = "MARS EXPRESS"
INSTRUMENT_ID = HRSC
INSTRUMENT_NAME = "HIGH RESOLUTION STEREO CAMERA"
MISSION_NAME = "MARS EXPRESS"
MISSION_PHASE_NAME = ME_Phase_23
PROCESSING_LEVEL_ID = 4
PRODUCT_CREATION_TIME = 2023-02-04T12:09:02.000Z
PRODUCT_ID = "H9600_0001_BL4.TIF"
RELEASE_ID = 0007
REVISION_ID = 0000
/* QUALITY DATA ELEMENTS */
DATA_QUALITY_ID = 1
DATA_QUALITY_DESC = "Data calculated based on original SPICE kernels"
/* TIME DATA ELEMENTS */
SPACECRAFT_CLOCK_START_COUNT = "1/0258420289.07287"
SPACECRAFT_CLOCK_STOP_COUNT = "1/0258420569.11577"
START_TIME = 2011-07-10T23:26:03.954Z
STOP_TIME = 2011-07-10T23:28:06.768Z
/* ORBITAL DATA ELEMENTS */
ASCENDING_NODE_LONGITUDE = 33.95
MAXIMUM_RESOLUTION = 0.1036
FOOTPRINT_POINT_LATITUDE = (23.8952,23.8988,23.9009,23.9031, 23.9061,23.9077,23.9089,23.91,23.9113, 23.9119,23.9123,23.9124,23.9124,23.9169 ,23.7166,23.5832,23.4501,23.2506, 23.1178,22.9188,22.7863,22.6539,22.5217 ,22.3895,22.2578,22.0603,21.8629, 21.7319,21.601,21.4047,21.2739,20.95, 20.7552,20.4951,20.2995,19.976,19.7831, 19.5267,19.2708,19.0155,18.7609,18.507, 18.2535,18.0006,17.7484,17.4969,17.4341 ,17.3992,17.3972,17.395,17.3919,17.389, 17.384,17.3787,17.3752,17.3714,17.3658, 17.3626,17.3588,17.3531,17.3526,17.3536 ,17.6063,17.7961,18.0495,18.3039, 18.6238,18.8796,19.1358,19.3927,19.5859 ,19.7798,20.1027,20.3623,20.6224, 20.7527,20.8832,21.0138,21.145,21.276, 21.4071,21.5385,21.67,21.8016,21.9333, 22.0647,22.1967,22.3289,22.4614,22.5945 ,22.7274,22.8598,23.0596,23.1929, 23.3262,23.46,23.5938,23.7948,23.8619, 23.8952)
FOOTPRINT_POINT_LONGITUDE = (36.3119,36.0382,35.856,35.6509,35.3321 ,35.127,34.9449,34.7629,34.467,34.2846, 34.0563,33.8967,33.8738,33.8583,33.8526 ,33.8488,33.8445,33.8386,33.8345, 33.8286,33.8246,33.8206,33.8166,33.8127 ,33.8084,33.8022,33.7961,33.7915, 33.7869,33.7803,33.7762,33.7615,33.7542 ,33.7458,33.741,33.73,33.7221,33.7113, 33.7004,33.6894,33.6784,33.6671,33.656, 33.6449,33.6336,33.6223,33.6194,33.6178 ,33.7981,33.9807,34.2154,34.4235, 34.7614,35.0993,35.3076,35.5157,35.7753 ,35.9312,36.1131,36.3733,36.3994,36.408 ,36.4051,36.4025,36.3987,36.3954, 36.3932,36.3898,36.3858,36.3821,36.3794 ,36.3773,36.3719,36.3684,36.3648,36.363 ,36.3611,36.3593,36.3581,36.3563, 36.3546,36.3528,36.3511,36.3493,36.3473 ,36.3445,36.3424,36.3405,36.3388, 36.3379,36.3363,36.3335,36.3309,36.329, 36.3268,36.3251,36.3233,36.3206,36.3196 ,36.3119)
ORBIT_NUMBER = 9600
ORBITAL_ECCENTRICITY = 0.572
ORBITAL_INCLINATION = 86.88
ORBITAL_SEMIMAJOR_AXIS = 8788.6
PERIAPSIS_ALTITUDE = 376.04
PERIAPSIS_ARGUMENT_ANGLE = 120.8
PERIAPSIS_TIME = 2011-07-10T23:16:19.000Z
SPACECRAFT_ORIENTATION = (0.0,-1.0,0.0)
^MEX_ORIENTATION_DESC = "MEX_ORIENTATION_DESC.TXT"
SPACECRAFT_POINTING_MODE = NADIR
^MEX_POINTING_DESC = "MEX_POINTING_DESC.TXT"
RIGHT_ASCENSION = -1e+32
DECLINATION = -1e+32
OFFSET_ANGLE = -1e+32
SPACECRAFT_SOLAR_DISTANCE = 2.20556e+08
TARGET_NAME = MARS
/* CAMERA DATA ELEMENTS */
DETECTOR_TEMPERATURE = 19.1861
FOCAL_PLANE_TEMPERATURE = 8.3794
INST_CMPRS_NAME = "DISCRETE COSINE TRANSFORMATION (DCT)"
INST_CMPRS_RATIO = 22.592
INST_CMPRS_QUALITY = 0
INST_CMPRS_QUANTZ_TBL_ID = 0
INSTRUMENT_TEMPERATURE = 12.6613
LENS_TEMPERATURE = 8.7872
MACROPIXEL_SIZE = 4
MISSING_FRAMES = 0
PIXEL_SUBSAMPLING_FLAG = N
SIGNAL_CHAIN_ID = 2
/* RADIOMETRIC DATA ELEMENTS */
BANDWIDTH = 76.0
CENTER_FILTER_WAVELENGTH = 444.0
RADIANCE_OFFSET = 0.881
RADIANCE_SCALING_FACTOR = 0.00126826
REFLECTANCE_SCALING_FACTOR = 6.3388e-05
MEX:REFLECTANCE_OFFSET = 0.0440328
/* IMAGE OBJECT DEFINITIONS */
OBJECT = IMAGE
  INTERCHANGE_FORMAT = BINARY
  LINES = 3892
  LINE_SAMPLES = 1557
  SAMPLE_TYPE = UNSIGNED_INTEGER
  SAMPLE_BITS = 8
  BANDS = 1
  BAND_STORAGE_TYPE = BAND_SEQUENTIAL
  MAXIMUM = 255
  MEAN = 128.654
  MINIMUM = 1
  STANDARD_DEVIATION = 29.1312
END_OBJECT = IMAGE
/* MAP OBJECT DEFINITIONS */
OBJECT = IMAGE_MAP_PROJECTION
  ^DATA_SET_MAP_PROJECTION_CATALOG= "DSMAP.CAT"
  A_AXIS_RADIUS = 3396.0
  B_AXIS_RADIUS = 3396.0
  C_AXIS_RADIUS = 3396.0
  CENTER_LATITUDE = 0.0
  CENTER_LONGITUDE = 35.0
  COORDINATE_SYSTEM_NAME = PLANETOGRAPHIC
  COORDINATE_SYSTEM_TYPE = "BODY-FIXED ROTATING"
  EASTERNMOST_LONGITUDE = 36.408
  FIRST_STANDARD_PARALLEL = "N/A"
  LINE_FIRST_PIXEL = 1
  LINE_LAST_PIXEL = 3892
  LINE_PROJECTION_OFFSET = 14178.125
  MAP_PROJECTION_ROTATION = 0.0
  MAP_PROJECTION_TYPE = SINUSOIDAL
  MAP_RESOLUTION = 592.713803866667
  MAP_SCALE = 0.1
  MAXIMUM_LATITUDE = 23.9169
  MINIMUM_LATITUDE = 17.3526
  POSITIVE_LONGITUDE_DIRECTION = EAST
  REFERENCE_LATITUDE = "N/A"
  REFERENCE_LONGITUDE = "N/A"
  SAMPLE_FIRST_PIXEL = 1
  SAMPLE_LAST_PIXEL = 1557
  SAMPLE_PROJECTION_OFFSET = 775.625
  SECOND_STANDARD_PARALLEL = "N/A"
  WESTERNMOST_LONGITUDE = 33.6178
END_OBJECT = IMAGE_MAP_PROJECTION
END
