PDS_VERSION_ID = PDS3
/* FILE DATA ELEMENTS */
RECORD_TYPE = UNDEFINED
/* POINTERS TO DATA OBJECTS */
^IMAGE = ("H9599_0000_RE4.TIF")
/* IDENTIFICATION DATA ELEMENTS */
DATA_SET_ID = "MEX-M-HRSC-4-REFDR-MAPPROJECT-EXT3-V4.0"
DATA_SET_NAME = "MARS EXPRESS HRSC MAP PROJECTED REFDR EXTENSION3 V4.0"
DETECTOR_ID = MEX_HRSC_RED
EVENT_TYPE = "MARS-REGIONAL-MAPPING-Te-Im-Pf"
INSTRUMENT_HOST_ID = MEX
INSTRUMENT_HOST_NAME = "MARS EXPRESS"
INSTRUMENT_ID = HRSC
INSTRUMENT_NAME = "HIGH RESOLUTION STEREO CAMERA"
MISSION_NAME = "MARS EXPRESS"
MISSION_PHASE_NAME = ME_Phase_23
PROCESSING_LEVEL_ID = 4
PRODUCT_CREATION_TIME = 2023-02-04T12:09:02.000Z
PRODUCT_ID = "H9599_0000_RE4.TIF"
RELEASE_ID = 0007
REVISION_ID = 0000
/* QUALITY DATA ELEMENTS */
DATA_QUALITY_ID = 1
DATA_QUALITY_DESC = "Data calculated based on original SPICE kernels"
/* TIME DATA ELEMENTS */
SPACECRAFT_CLOCK_START_COUNT = "1/0258394649.07311"
SPACECRAFT_CLOCK_STOP_COUNT = "1/0258394898.54774"
START_TIME = 2011-07-10T16:18:36.130Z
STOP_TIME = 2011-07-10T16:21:32.345Z
/* ORBITAL DATA ELEMENTS */
ASCENDING_NODE_LONGITUDE = 33.97
MAXIMUM_RESOLUTION = 0.0652
FOOTPRINT_POINT_LATITUDE = (53.4226,53.4122,53.3988,53.3768, 53.3763,53.4599,53.1362,52.9205,52.7051 ,52.3822,52.1671,51.9523,51.7375, 51.5229,51.3086,51.0946,50.8803,50.6665 ,50.4523,50.1321,49.7065,49.2815, 48.9632,48.6456,48.2226,47.9059,47.4844 ,47.1615,46.9461,46.6228,46.4078, 46.1929,45.9783,45.7641,45.4351,45.2159 ,44.9968,44.7783,44.5598,44.3415, 44.1201,43.897,43.6741,43.4517,43.2295, 43.0076,42.7826,42.6692,42.6671,42.6706 ,42.6734,42.6752,42.6763,42.677,42.6765 ,42.6765,42.6775,42.9057,43.1291, 43.3518,43.575,43.7986,44.0222,44.3562, 44.575,44.7935,45.0127,45.233,45.5629, 45.7831,45.9983,46.2136,46.4293,46.7533 ,46.9694,47.1858,47.6153,48.0384, 48.3565,48.7815,49.2071,49.6336,49.8471 ,50.0609,50.2751,50.4893,50.811,51.0254 ,51.2405,51.4555,51.671,51.9944,52.2101 ,52.4262,52.7504,52.9668,53.1835, 53.4001,53.5086,53.4226)
FOOTPRINT_POINT_LONGITUDE = (136.683,136.032,135.375,134.498, 134.477,134.363,134.406,134.434,134.462 ,134.502,134.528,134.554,134.579, 134.604,134.628,134.652,134.676,134.698 ,134.722,134.755,134.796,134.837, 134.866,134.895,134.931,134.958,134.992 ,135.018,135.034,135.058,135.074, 135.089,135.104,135.118,135.14,135.154, 135.168,135.181,135.195,135.207,135.22, 135.233,135.245,135.257,135.268,135.279 ,135.291,135.296,135.296,135.683, 136.068,136.39,136.79,137.088,137.424, 137.444,137.45,137.439,137.427,137.415, 137.403,137.391,137.379,137.36,137.348, 137.336,137.323,137.31,137.29,137.277, 137.264,137.251,137.237,137.217,137.203 ,137.189,137.16,137.131,137.109,137.079 ,137.048,137.016,137.0,136.983,136.967, 136.95,136.924,136.906,136.888,136.87, 136.852,136.824,136.805,136.785,136.756 ,136.736,136.716,136.695,136.685, 136.683)
ORBIT_NUMBER = 9599
ORBITAL_ECCENTRICITY = 0.572
ORBITAL_INCLINATION = 86.87
ORBITAL_SEMIMAJOR_AXIS = 8788.3
PERIAPSIS_ALTITUDE = 376.17
PERIAPSIS_ARGUMENT_ANGLE = 120.97
PERIAPSIS_TIME = 2011-07-10T16:16:42.000Z
SPACECRAFT_ORIENTATION = (0.0,-1.0,0.0)
^MEX_ORIENTATION_DESC = "MEX_ORIENTATION_DESC.TXT"
SPACECRAFT_POINTING_MODE = ACROSSTRACK
^MEX_POINTING_DESC = "MEX_POINTING_DESC.TXT"
RIGHT_ASCENSION = -1e+32
DECLINATION = -1e+32
OFFSET_ANGLE = -0.539
SPACECRAFT_SOLAR_DISTANCE = 2.20501e+08
TARGET_NAME = MARS
/* CAMERA DATA ELEMENTS */
DETECTOR_TEMPERATURE = 18.3705
FOCAL_PLANE_TEMPERATURE = 7.7677
INST_CMPRS_NAME = "DISCRETE COSINE TRANSFORMATION (DCT)"
INST_CMPRS_RATIO = 23.2697
INST_CMPRS_QUALITY = 0
INST_CMPRS_QUANTZ_TBL_ID = 0
INSTRUMENT_TEMPERATURE = 11.0301
LENS_TEMPERATURE = 8.3794
MACROPIXEL_SIZE = 4
MISSING_FRAMES = 0
PIXEL_SUBSAMPLING_FLAG = N
SIGNAL_CHAIN_ID = 2
/* RADIOMETRIC DATA ELEMENTS */
BANDWIDTH = 48.0
CENTER_FILTER_WAVELENGTH = 748.0
RADIANCE_OFFSET = 1.20072
RADIANCE_SCALING_FACTOR = 0.00394406
REFLECTANCE_SCALING_FACTOR = 0.000437614
MEX:REFLECTANCE_OFFSET = 0.133227
/* IMAGE OBJECT DEFINITIONS */
OBJECT = IMAGE
  INTERCHANGE_FORMAT = BINARY
  LINES = 12916
  LINE_SAMPLES = 2367
  SAMPLE_TYPE = UNSIGNED_INTEGER
  SAMPLE_BITS = 8
  BANDS = 1
  BAND_STORAGE_TYPE = BAND_SEQUENTIAL
  MAXIMUM = 255
  MEAN = 127.003
  MINIMUM = 1
  STANDARD_DEVIATION = 69.9609
END_OBJECT = IMAGE
/* MAP OBJECT DEFINITIONS */
OBJECT = IMAGE_MAP_PROJECTION
  ^DATA_SET_MAP_PROJECTION_CATALOG= "DSMAP.CAT"
  A_AXIS_RADIUS = 3396.0
  B_AXIS_RADIUS = 3396.0
  C_AXIS_RADIUS = 3396.0
  CENTER_LATITUDE = 0.0
  CENTER_LONGITUDE = 136.0
  COORDINATE_SYSTEM_NAME = PLANETOGRAPHIC
  COORDINATE_SYSTEM_TYPE = "BODY-FIXED ROTATING"
  EASTERNMOST_LONGITUDE = 137.45
  FIRST_STANDARD_PARALLEL = "N/A"
  LINE_FIRST_PIXEL = 1
  LINE_LAST_PIXEL = 12916
  LINE_PROJECTION_OFFSET = 63452.375
  MAP_PROJECTION_ROTATION = 0.0
  MAP_PROJECTION_TYPE = SINUSOIDAL
  MAP_RESOLUTION = 1185.42760773333
  MAP_SCALE = 0.05
  MAXIMUM_LATITUDE = 53.5086
  MINIMUM_LATITUDE = 42.6671
  POSITIVE_LONGITUDE_DIRECTION = EAST
  REFERENCE_LATITUDE = "N/A"
  REFERENCE_LONGITUDE = "N/A"
  SAMPLE_FIRST_PIXEL = 1
  SAMPLE_LAST_PIXEL = 2367
  SAMPLE_PROJECTION_OFFSET = 1140.875
  SECOND_STANDARD_PARALLEL = "N/A"
  WESTERNMOST_LONGITUDE = 134.363
END_OBJECT = IMAGE_MAP_PROJECTION
END
