PDS_VERSION_ID = PDS3
/* FILE DATA ELEMENTS */
RECORD_TYPE = UNDEFINED
/* POINTERS TO DATA OBJECTS */
^IMAGE = ("H9599_0000_P14.TIF")
/* IDENTIFICATION DATA ELEMENTS */
DATA_SET_ID = "MEX-M-HRSC-4-REFDR-MAPPROJECT-EXT3-V4.0"
DATA_SET_NAME = "MARS EXPRESS HRSC MAP PROJECTED REFDR EXTENSION3 V4.0"
DETECTOR_ID = MEX_HRSC_P1
EVENT_TYPE = "MARS-REGIONAL-MAPPING-Te-Im-Pf"
INSTRUMENT_HOST_ID = MEX
INSTRUMENT_HOST_NAME = "MARS EXPRESS"
INSTRUMENT_ID = HRSC
INSTRUMENT_NAME = "HIGH RESOLUTION STEREO CAMERA"
MISSION_NAME = "MARS EXPRESS"
MISSION_PHASE_NAME = ME_Phase_23
PROCESSING_LEVEL_ID = 4
PRODUCT_CREATION_TIME = 2023-02-04T12:09:02.000Z
PRODUCT_ID = "H9599_0000_P14.TIF"
RELEASE_ID = 0007
REVISION_ID = 0000
/* QUALITY DATA ELEMENTS */
DATA_QUALITY_ID = 1
DATA_QUALITY_DESC = "Data calculated based on original SPICE kernels"
/* TIME DATA ELEMENTS */
SPACECRAFT_CLOCK_START_COUNT = "1/0258394649.07311"
SPACECRAFT_CLOCK_STOP_COUNT = "1/0258394898.54774"
START_TIME = 2011-07-10T16:17:43.910Z
STOP_TIME = 2011-07-10T16:20:31.924Z
/* ORBITAL DATA ELEMENTS */
ASCENDING_NODE_LONGITUDE = 33.97
MAXIMUM_RESOLUTION = 0.0313
FOOTPRINT_POINT_LATITUDE = (53.5883,53.5571,53.5213,53.4724, 53.4711,53.3987,53.1837,52.9688,52.7538 ,52.4312,52.1085,51.8933,51.5706, 51.2476,50.9248,50.7094,50.2797,50.0636 ,49.7406,49.5252,49.3097,48.9864, 48.7708,48.5554,48.2322,48.017,47.8014, 47.586,47.3706,47.1555,46.9399,46.6171, 46.4018,46.1865,45.8637,45.6485,45.2183 ,45.0032,44.7881,44.3583,44.0361, 43.6016,43.381,43.1604,42.9402,42.7198, 42.6098,42.5983,42.616,42.6394,42.6535, 42.6739,42.6844,42.685,42.6858,42.9063, 43.1272,43.3483,43.5693,43.7904,44.008, 44.3313,44.547,44.763,44.9789,45.1943, 45.4099,45.6257,45.9493,46.165,46.381, 46.7048,46.9208,47.1369,47.461,47.677, 47.8932,48.1093,48.4334,48.7576,49.0821 ,49.4063,49.6224,49.8387,50.1629,50.379 ,50.5953,50.8115,51.0278,51.352,51.676, 51.8921,52.1082,52.3242,52.5403,52.8643 ,53.1882,53.4041,53.5119,53.5883)
FOOTPRINT_POINT_LONGITUDE = (136.644,135.984,135.317,134.514, 134.492,134.398,134.428,134.456,134.485 ,134.526,134.567,134.593,134.632,134.67 ,134.706,134.73,134.778,134.8,134.833, 134.855,134.876,134.907,134.927,134.947 ,134.976,134.995,135.014,135.032,135.05 ,135.068,135.085,135.11,135.126,135.142 ,135.166,135.181,135.211,135.225, 135.239,135.266,135.286,135.312,135.324 ,135.336,135.348,135.36,135.366,135.366 ,135.703,136.195,136.526,137.05,137.357 ,137.376,137.383,137.373,137.362, 137.352,137.341,137.33,137.319,137.302, 137.291,137.279,137.267,137.256,137.244 ,137.232,137.213,137.201,137.188, 137.169,137.156,137.143,137.123,137.109 ,137.095,137.081,137.059,137.038, 137.015,136.992,136.977,136.961,136.937 ,136.921,136.905,136.888,136.871, 136.845,136.819,136.801,136.783,136.765 ,136.746,136.718,136.689,136.669, 136.659,136.644)
ORBIT_NUMBER = 9599
ORBITAL_ECCENTRICITY = 0.572
ORBITAL_INCLINATION = 86.87
ORBITAL_SEMIMAJOR_AXIS = 8788.3
PERIAPSIS_ALTITUDE = 376.17
PERIAPSIS_ARGUMENT_ANGLE = 120.97
PERIAPSIS_TIME = 2011-07-10T16:16:42.000Z
SPACECRAFT_ORIENTATION = (0.0,-1.0,0.0)
^MEX_ORIENTATION_DESC = "MEX_ORIENTATION_DESC.TXT"
SPACECRAFT_POINTING_MODE = ACROSSTRACK
^MEX_POINTING_DESC = "MEX_POINTING_DESC.TXT"
RIGHT_ASCENSION = -1e+32
DECLINATION = -1e+32
OFFSET_ANGLE = -0.539
SPACECRAFT_SOLAR_DISTANCE = 2.20501e+08
TARGET_NAME = MARS
/* CAMERA DATA ELEMENTS */
DETECTOR_TEMPERATURE = 16.9432
FOCAL_PLANE_TEMPERATURE = 7.7677
INST_CMPRS_NAME = "DISCRETE COSINE TRANSFORMATION (DCT)"
INST_CMPRS_RATIO = 12.2298
INST_CMPRS_QUALITY = 0
INST_CMPRS_QUANTZ_TBL_ID = 0
INSTRUMENT_TEMPERATURE = 11.0301
LENS_TEMPERATURE = 8.3794
MACROPIXEL_SIZE = 2
MISSING_FRAMES = 0
PIXEL_SUBSAMPLING_FLAG = N
SIGNAL_CHAIN_ID = 3
/* RADIOMETRIC DATA ELEMENTS */
BANDWIDTH = 174.0
CENTER_FILTER_WAVELENGTH = 675.0
RADIANCE_OFFSET = 4.69421
RADIANCE_SCALING_FACTOR = 0.0131864
REFLECTANCE_SCALING_FACTOR = 0.000344853
MEX:REFLECTANCE_OFFSET = 0.122764
/* IMAGE OBJECT DEFINITIONS */
OBJECT = IMAGE
  INTERCHANGE_FORMAT = BINARY
  LINES = 25832
  LINE_SAMPLES = 4733
  SAMPLE_TYPE = UNSIGNED_INTEGER
  SAMPLE_BITS = 8
  BANDS = 1
  BAND_STORAGE_TYPE = BAND_SEQUENTIAL
  MAXIMUM = 255
  MEAN = 125.698
  MINIMUM = 1
  STANDARD_DEVIATION = 69.5518
END_OBJECT = IMAGE
/* MAP OBJECT DEFINITIONS */
OBJECT = IMAGE_MAP_PROJECTION
  ^DATA_SET_MAP_PROJECTION_CATALOG= "DSMAP.CAT"
  A_AXIS_RADIUS = 3396.0
  B_AXIS_RADIUS = 3396.0
  C_AXIS_RADIUS = 3396.0
  CENTER_LATITUDE = 0.0
  CENTER_LONGITUDE = 136.0
  COORDINATE_SYSTEM_NAME = PLANETOGRAPHIC
  COORDINATE_SYSTEM_TYPE = "BODY-FIXED ROTATING"
  EASTERNMOST_LONGITUDE = 137.383
  FIRST_STANDARD_PARALLEL = "N/A"
  LINE_FIRST_PIXEL = 1
  LINE_LAST_PIXEL = 25832
  LINE_PROJECTION_OFFSET = 126905.25
  MAP_PROJECTION_ROTATION = 0.0
  MAP_PROJECTION_TYPE = SINUSOIDAL
  MAP_RESOLUTION = 2370.85521546667
  MAP_SCALE = 0.025
  MAXIMUM_LATITUDE = 53.5883
  MINIMUM_LATITUDE = 42.5983
  POSITIVE_LONGITUDE_DIRECTION = EAST
  REFERENCE_LATITUDE = "N/A"
  REFERENCE_LONGITUDE = "N/A"
  SAMPLE_FIRST_PIXEL = 1
  SAMPLE_LAST_PIXEL = 4733
  SAMPLE_PROJECTION_OFFSET = 2282.25
  SECOND_STANDARD_PARALLEL = "N/A"
  WESTERNMOST_LONGITUDE = 134.398
END_OBJECT = IMAGE_MAP_PROJECTION
END
