PDS_VERSION_ID = PDS3
/* FILE DATA ELEMENTS */
RECORD_TYPE = UNDEFINED
/* POINTERS TO DATA OBJECTS */
^IMAGE = ("H9599_0000_IR4.TIF")
/* IDENTIFICATION DATA ELEMENTS */
DATA_SET_ID = "MEX-M-HRSC-4-REFDR-MAPPROJECT-EXT3-V4.0"
DATA_SET_NAME = "MARS EXPRESS HRSC MAP PROJECTED REFDR EXTENSION3 V4.0"
DETECTOR_ID = MEX_HRSC_IR
EVENT_TYPE = "MARS-REGIONAL-MAPPING-Te-Im-Pf"
INSTRUMENT_HOST_ID = MEX
INSTRUMENT_HOST_NAME = "MARS EXPRESS"
INSTRUMENT_ID = HRSC
INSTRUMENT_NAME = "HIGH RESOLUTION STEREO CAMERA"
MISSION_NAME = "MARS EXPRESS"
MISSION_PHASE_NAME = ME_Phase_23
PROCESSING_LEVEL_ID = 4
PRODUCT_CREATION_TIME = 2023-02-04T12:09:02.000Z
PRODUCT_ID = "H9599_0000_IR4.TIF"
RELEASE_ID = 0007
REVISION_ID = 0000
/* QUALITY DATA ELEMENTS */
DATA_QUALITY_ID = 1
DATA_QUALITY_DESC = "Data calculated based on original SPICE kernels"
/* TIME DATA ELEMENTS */
SPACECRAFT_CLOCK_START_COUNT = "1/0258394649.07311"
SPACECRAFT_CLOCK_STOP_COUNT = "1/0258394898.54774"
START_TIME = 2011-07-10T16:17:38.033Z
STOP_TIME = 2011-07-10T16:20:25.426Z
/* ORBITAL DATA ELEMENTS */
ASCENDING_NODE_LONGITUDE = 33.97
MAXIMUM_RESOLUTION = 0.0636
FOOTPRINT_POINT_LATITUDE = (53.6057,53.5736,53.5371,53.482,53.4806 ,53.3896,53.0701,52.7502,52.3236, 51.8966,51.683,51.3626,51.1491,50.9354, 50.6153,50.2953,49.974,49.7597,49.4387, 49.2245,48.9033,48.6891,48.4753,48.2609 ,48.0469,47.8325,47.6184,47.4042, 47.1903,46.9758,46.6547,46.4405,46.2263 ,46.0123,45.7979,45.5836,45.2624, 45.0484,44.8342,44.5131,44.2992,44.0852 ,43.871,43.4433,43.2254,43.0059,42.7863 ,42.6764,42.5907,42.6092,42.6312, 42.6569,42.6739,42.6852,42.6859,42.6871 ,43.017,43.3473,43.5649,43.8866,44.1011 ,44.3159,44.6381,44.8534,45.0684, 45.3901,45.6049,45.9269,46.1415,46.3565 ,46.6786,46.8934,47.1084,47.3233, 47.6455,47.8605,48.0753,48.2903,48.505, 48.8271,49.1497,49.4717,49.6864,49.9012 ,50.116,50.4378,50.6526,50.8672,51.082, 51.4038,51.7253,51.9396,52.1541,52.3684 ,52.5828,52.797,53.0112,53.3324,53.4395 ,53.6057)
FOOTPRINT_POINT_LONGITUDE = (136.642,136.008,135.367,134.516, 134.495,134.406,134.449,134.492,134.547 ,134.6,134.625,134.663,134.688,134.712, 134.748,134.784,134.817,134.839,134.871 ,134.892,134.922,134.942,134.962, 134.981,135.0,135.019,135.037,135.055, 135.073,135.09,135.115,135.132,135.148, 135.164,135.179,135.194,135.216,135.231 ,135.245,135.266,135.279,135.292, 135.305,135.33,135.342,135.355,135.366, 135.372,135.377,135.698,136.112,136.653 ,137.06,137.354,137.372,137.378,137.363 ,137.347,137.336,137.32,137.309,137.298 ,137.281,137.27,137.258,137.241,137.229 ,137.211,137.198,137.186,137.167, 137.154,137.141,137.128,137.108,137.094 ,137.08,137.066,137.052,137.03,137.008, 136.985,136.97,136.954,136.939,136.914, 136.898,136.882,136.865,136.839,136.813 ,136.796,136.778,136.76,136.741,136.722 ,136.703,136.675,136.665,136.642)
ORBIT_NUMBER = 9599
ORBITAL_ECCENTRICITY = 0.572
ORBITAL_INCLINATION = 86.87
ORBITAL_SEMIMAJOR_AXIS = 8788.3
PERIAPSIS_ALTITUDE = 376.17
PERIAPSIS_ARGUMENT_ANGLE = 120.97
PERIAPSIS_TIME = 2011-07-10T16:16:42.000Z
SPACECRAFT_ORIENTATION = (0.0,-1.0,0.0)
^MEX_ORIENTATION_DESC = "MEX_ORIENTATION_DESC.TXT"
SPACECRAFT_POINTING_MODE = ACROSSTRACK
^MEX_POINTING_DESC = "MEX_POINTING_DESC.TXT"
RIGHT_ASCENSION = -1e+32
DECLINATION = -1e+32
OFFSET_ANGLE = -0.539
SPACECRAFT_SOLAR_DISTANCE = 2.20501e+08
TARGET_NAME = MARS
/* CAMERA DATA ELEMENTS */
DETECTOR_TEMPERATURE = 16.9432
FOCAL_PLANE_TEMPERATURE = 7.7677
INST_CMPRS_NAME = "DISCRETE COSINE TRANSFORMATION (DCT)"
INST_CMPRS_RATIO = 7.52586
INST_CMPRS_QUALITY = 0
INST_CMPRS_QUANTZ_TBL_ID = 0
INSTRUMENT_TEMPERATURE = 11.0301
LENS_TEMPERATURE = 8.3794
MACROPIXEL_SIZE = 4
MISSING_FRAMES = 0
PIXEL_SUBSAMPLING_FLAG = N
SIGNAL_CHAIN_ID = 2
/* RADIOMETRIC DATA ELEMENTS */
BANDWIDTH = 81.0
CENTER_FILTER_WAVELENGTH = 955.5
RADIANCE_OFFSET = 1.05808
RADIANCE_SCALING_FACTOR = 0.00422911
REFLECTANCE_SCALING_FACTOR = 0.000443608
MEX:REFLECTANCE_OFFSET = 0.110986
/* IMAGE OBJECT DEFINITIONS */
OBJECT = IMAGE
  INTERCHANGE_FORMAT = BINARY
  LINES = 12916
  LINE_SAMPLES = 2367
  SAMPLE_TYPE = UNSIGNED_INTEGER
  SAMPLE_BITS = 8
  BANDS = 1
  BAND_STORAGE_TYPE = BAND_SEQUENTIAL
  MAXIMUM = 254
  MEAN = 124.362
  MINIMUM = 1
  STANDARD_DEVIATION = 65.9113
END_OBJECT = IMAGE
/* MAP OBJECT DEFINITIONS */
OBJECT = IMAGE_MAP_PROJECTION
  ^DATA_SET_MAP_PROJECTION_CATALOG= "DSMAP.CAT"
  A_AXIS_RADIUS = 3396.0
  B_AXIS_RADIUS = 3396.0
  C_AXIS_RADIUS = 3396.0
  CENTER_LATITUDE = 0.0
  CENTER_LONGITUDE = 136.0
  COORDINATE_SYSTEM_NAME = PLANETOGRAPHIC
  COORDINATE_SYSTEM_TYPE = "BODY-FIXED ROTATING"
  EASTERNMOST_LONGITUDE = 137.378
  FIRST_STANDARD_PARALLEL = "N/A"
  LINE_FIRST_PIXEL = 1
  LINE_LAST_PIXEL = 12916
  LINE_PROJECTION_OFFSET = 63452.375
  MAP_PROJECTION_ROTATION = 0.0
  MAP_PROJECTION_TYPE = SINUSOIDAL
  MAP_RESOLUTION = 1185.42760773333
  MAP_SCALE = 0.05
  MAXIMUM_LATITUDE = 53.6057
  MINIMUM_LATITUDE = 42.5907
  POSITIVE_LONGITUDE_DIRECTION = EAST
  REFERENCE_LATITUDE = "N/A"
  REFERENCE_LONGITUDE = "N/A"
  SAMPLE_FIRST_PIXEL = 1
  SAMPLE_LAST_PIXEL = 2367
  SAMPLE_PROJECTION_OFFSET = 1140.875
  SECOND_STANDARD_PARALLEL = "N/A"
  WESTERNMOST_LONGITUDE = 134.406
END_OBJECT = IMAGE_MAP_PROJECTION
END
