PDS_VERSION_ID = PDS3
/* FILE DATA ELEMENTS */
RECORD_TYPE = UNDEFINED
/* POINTERS TO DATA OBJECTS */
^IMAGE = ("H9597_0000_P24.TIF")
/* IDENTIFICATION DATA ELEMENTS */
DATA_SET_ID = "MEX-M-HRSC-4-REFDR-MAPPROJECT-EXT3-V4.0"
DATA_SET_NAME = "MARS EXPRESS HRSC MAP PROJECTED REFDR EXTENSION3 V4.0"
DETECTOR_ID = MEX_HRSC_P2
EVENT_TYPE = "MARS-REGIONAL-MAPPING-Fl-Pf-Eo"
INSTRUMENT_HOST_ID = MEX
INSTRUMENT_HOST_NAME = "MARS EXPRESS"
INSTRUMENT_ID = HRSC
INSTRUMENT_NAME = "HIGH RESOLUTION STEREO CAMERA"
MISSION_NAME = "MARS EXPRESS"
MISSION_PHASE_NAME = ME_Phase_23
PROCESSING_LEVEL_ID = 4
PRODUCT_CREATION_TIME = 2023-02-04T12:09:02.000Z
PRODUCT_ID = "H9597_0000_P24.TIF"
RELEASE_ID = 0007
REVISION_ID = 0000
/* QUALITY DATA ELEMENTS */
DATA_QUALITY_ID = 1
DATA_QUALITY_DESC = "Data calculated based on original SPICE kernels"
/* TIME DATA ELEMENTS */
SPACECRAFT_CLOCK_START_COUNT = "1/0258344190.09068"
SPACECRAFT_CLOCK_STOP_COUNT = "1/0258344459.57979"
START_TIME = 2011-07-10T02:17:30.039Z
STOP_TIME = 2011-07-10T02:20:47.301Z
/* ORBITAL DATA ELEMENTS */
ASCENDING_NODE_LONGITUDE = 34.01
MAXIMUM_RESOLUTION = 0.0627
FOOTPRINT_POINT_LATITUDE = (59.6045,59.5872,59.5638,59.5135, 59.5124,59.5892,59.3388,59.0881,58.8374 ,58.5872,58.3367,58.0865,57.8363, 57.5864,57.3366,56.9619,56.7122,56.4628 ,56.2134,55.9642,55.7154,55.3419, 54.9688,54.5963,54.348,54.0998,53.8519, 53.604,53.3566,53.1092,52.862,52.6148, 52.3685,52.1214,51.875,51.6289,51.3829, 51.1371,50.7686,50.5231,50.2776,50.0328 ,49.7882,49.5437,49.2994,49.0557, 48.6902,48.2039,47.7184,47.3551,47.2342 ,47.1426,47.161,47.1781,47.1912,47.1915 ,47.1926,47.678,48.1647,48.6523,48.8966 ,49.1412,49.3858,49.6309,49.876,50.1213 ,50.49,50.8591,51.2288,51.4754,51.8462, 52.0933,52.341,52.5885,52.9604,53.2087, 53.457,53.7056,53.9548,54.2044,54.5769, 54.8264,55.0757,55.4502,55.8253,56.0755 ,56.3259,56.5763,56.8269,57.0779,57.329 ,57.5797,57.8309,58.082,58.4591,58.7107 ,59.0884,59.4664,59.5924,59.6045)
FOOTPRINT_POINT_LONGITUDE = (341.628,341.07,340.398,339.17,339.147, 339.056,339.103,339.149,339.194,339.238 ,339.281,339.323,339.365,339.405, 339.444,339.501,339.538,339.575,339.61, 339.645,339.679,339.728,339.776,339.822 ,339.852,339.882,339.91,339.938,339.965 ,339.992,340.018,340.044,340.068, 340.093,340.117,340.14,340.162,340.185, 340.217,340.238,340.259,340.279,340.298 ,340.317,340.335,340.353,340.38,340.413 ,340.445,340.467,340.475,340.48,341.153 ,341.887,342.582,342.602,342.608, 342.585,342.56,342.535,342.523,342.51, 342.496,342.483,342.469,342.455,342.434 ,342.412,342.39,342.375,342.352,342.336 ,342.32,342.303,342.278,342.261,342.244 ,342.226,342.208,342.19,342.161,342.142 ,342.123,342.093,342.062,342.041, 342.019,341.998,341.975,341.953,341.93, 341.906,341.882,341.858,341.82,341.795, 341.755,341.715,341.701,341.628)
ORBIT_NUMBER = 9597
ORBITAL_ECCENTRICITY = 0.572
ORBITAL_INCLINATION = 86.89
ORBITAL_SEMIMAJOR_AXIS = 8784.96
PERIAPSIS_ALTITUDE = 375.59
PERIAPSIS_ARGUMENT_ANGLE = 121.3
PERIAPSIS_TIME = 2011-07-10T02:17:23.000Z
SPACECRAFT_ORIENTATION = (0.0,-1.0,0.0)
^MEX_ORIENTATION_DESC = "MEX_ORIENTATION_DESC.TXT"
SPACECRAFT_POINTING_MODE = NADIR
^MEX_POINTING_DESC = "MEX_POINTING_DESC.TXT"
RIGHT_ASCENSION = -1e+32
DECLINATION = -1e+32
OFFSET_ANGLE = -1e+32
SPACECRAFT_SOLAR_DISTANCE = 2.20391e+08
TARGET_NAME = MARS
/* CAMERA DATA ELEMENTS */
DETECTOR_TEMPERATURE = 18.5744
FOCAL_PLANE_TEMPERATURE = 8.1755
INST_CMPRS_NAME = "DISCRETE COSINE TRANSFORMATION (DCT)"
INST_CMPRS_RATIO = 19.1284
INST_CMPRS_QUALITY = 0
INST_CMPRS_QUANTZ_TBL_ID = 0
INSTRUMENT_TEMPERATURE = 11.234
LENS_TEMPERATURE = 8.5833
MACROPIXEL_SIZE = 4
MISSING_FRAMES = 0
PIXEL_SUBSAMPLING_FLAG = N
SIGNAL_CHAIN_ID = 3
/* RADIOMETRIC DATA ELEMENTS */
BANDWIDTH = 177.0
CENTER_FILTER_WAVELENGTH = 676.5
RADIANCE_OFFSET = 3.69337
RADIANCE_SCALING_FACTOR = 0.00827647
REFLECTANCE_SCALING_FACTOR = 0.000213153
MEX:REFLECTANCE_OFFSET = 0.0951196
/* IMAGE OBJECT DEFINITIONS */
OBJECT = IMAGE
  INTERCHANGE_FORMAT = BINARY
  LINES = 14880
  LINE_SAMPLES = 2443
  SAMPLE_TYPE = UNSIGNED_INTEGER
  SAMPLE_BITS = 8
  BANDS = 1
  BAND_STORAGE_TYPE = BAND_SEQUENTIAL
  MAXIMUM = 255
  MEAN = 74.4577
  MINIMUM = 1
  STANDARD_DEVIATION = 29.2455
END_OBJECT = IMAGE
/* MAP OBJECT DEFINITIONS */
OBJECT = IMAGE_MAP_PROJECTION
  ^DATA_SET_MAP_PROJECTION_CATALOG= "DSMAP.CAT"
  A_AXIS_RADIUS = 3396.0
  B_AXIS_RADIUS = 3396.0
  C_AXIS_RADIUS = 3396.0
  CENTER_LATITUDE = 0.0
  CENTER_LONGITUDE = 341.0
  COORDINATE_SYSTEM_NAME = PLANETOGRAPHIC
  COORDINATE_SYSTEM_TYPE = "BODY-FIXED ROTATING"
  EASTERNMOST_LONGITUDE = 342.608
  FIRST_STANDARD_PARALLEL = "N/A"
  LINE_FIRST_PIXEL = 1
  LINE_LAST_PIXEL = 14880
  LINE_PROJECTION_OFFSET = 70734.875
  MAP_PROJECTION_ROTATION = 0.0
  MAP_PROJECTION_TYPE = SINUSOIDAL
  MAP_RESOLUTION = 1185.42760773333
  MAP_SCALE = 0.05
  MAXIMUM_LATITUDE = 59.6045
  MINIMUM_LATITUDE = 47.1426
  POSITIVE_LONGITUDE_DIRECTION = EAST
  REFERENCE_LATITUDE = "N/A"
  REFERENCE_LONGITUDE = "N/A"
  SAMPLE_FIRST_PIXEL = 1
  SAMPLE_LAST_PIXEL = 2443
  SAMPLE_PROJECTION_OFFSET = 1168.125
  SECOND_STANDARD_PARALLEL = "N/A"
  WESTERNMOST_LONGITUDE = 339.056
END_OBJECT = IMAGE_MAP_PROJECTION
END
