PDS_VERSION_ID = PDS3
/* FILE DATA ELEMENTS */
RECORD_TYPE = UNDEFINED
/* POINTERS TO DATA OBJECTS */
^IMAGE = ("H9597_0000_P14.TIF")
/* IDENTIFICATION DATA ELEMENTS */
DATA_SET_ID = "MEX-M-HRSC-4-REFDR-MAPPROJECT-EXT3-V4.0"
DATA_SET_NAME = "MARS EXPRESS HRSC MAP PROJECTED REFDR EXTENSION3 V4.0"
DETECTOR_ID = MEX_HRSC_P1
EVENT_TYPE = "MARS-REGIONAL-MAPPING-Fl-Pf-Eo"
INSTRUMENT_HOST_ID = MEX
INSTRUMENT_HOST_NAME = "MARS EXPRESS"
INSTRUMENT_ID = HRSC
INSTRUMENT_NAME = "HIGH RESOLUTION STEREO CAMERA"
MISSION_NAME = "MARS EXPRESS"
MISSION_PHASE_NAME = ME_Phase_23
PROCESSING_LEVEL_ID = 4
PRODUCT_CREATION_TIME = 2023-02-04T12:09:02.000Z
PRODUCT_ID = "H9597_0000_P14.TIF"
RELEASE_ID = 0007
REVISION_ID = 0000
/* QUALITY DATA ELEMENTS */
DATA_QUALITY_ID = 1
DATA_QUALITY_DESC = "Data calculated based on original SPICE kernels"
/* TIME DATA ELEMENTS */
SPACECRAFT_CLOCK_START_COUNT = "1/0258344190.09068"
SPACECRAFT_CLOCK_STOP_COUNT = "1/0258344459.57979"
START_TIME = 2011-07-10T02:16:44.951Z
STOP_TIME = 2011-07-10T02:19:58.929Z
/* ORBITAL DATA ELEMENTS */
ASCENDING_NODE_LONGITUDE = 34.01
MAXIMUM_RESOLUTION = 0.0623
FOOTPRINT_POINT_LATITUDE = (59.7366,59.7206,59.6989,59.6721, 59.6392,59.638,59.5569,58.9439,58.5755, 58.2071,57.7151,57.0992,56.8528,56.6061 ,56.3593,56.1125,55.8653,55.4946, 55.2474,55.0,54.7523,54.5049,54.2573, 54.0097,53.7621,53.5141,53.1422,52.8942 ,52.6463,52.3979,52.1497,51.7774, 51.5289,51.1564,50.9081,50.5359,50.2876 ,50.0392,49.7908,49.5424,49.294,49.0454 ,48.6725,48.4238,48.1758,47.9275, 47.5549,47.306,47.1819,47.0944,47.1121, 47.1256,47.1387,47.1479,47.1482,47.1494 ,47.3984,47.6477,47.8968,48.146,48.5199 ,48.8936,49.2675,49.5168,49.7659, 50.0153,50.2646,50.5138,50.7631,51.0123 ,51.3861,51.6353,51.8842,52.2578, 52.5069,52.8805,53.1293,53.5027,53.7515 ,53.9999,54.3725,54.6219,54.9948, 55.2433,55.4917,55.74,55.9881,56.3603, 56.6083,56.8562,57.1038,57.3512,57.5991 ,57.8465,58.2177,58.5884,58.9588, 59.4521,59.5754,59.7366)
FOOTPRINT_POINT_LONGITUDE = (341.616,341.103,340.498,339.847,339.15 ,339.127,339.066,339.181,339.248, 339.312,339.395,339.493,339.532,339.569 ,339.605,339.641,339.676,339.727,339.76 ,339.793,339.824,339.855,339.886, 339.916,339.945,339.973,340.015,340.042 ,340.069,340.094,340.12,340.157,340.181 ,340.216,340.238,340.272,340.293, 340.314,340.335,340.355,340.374,340.393 ,340.421,340.439,340.457,340.474, 340.499,340.515,340.523,340.529,341.041 ,341.497,342.049,342.544,342.563, 342.569,342.558,342.547,342.535,342.524 ,342.506,342.488,342.469,342.456, 342.443,342.43,342.416,342.403,342.389, 342.375,342.353,342.339,342.324,342.301 ,342.285,342.261,342.245,342.22,342.203 ,342.186,342.16,342.142,342.114,342.095 ,342.076,342.056,342.037,342.006, 341.986,341.964,341.943,341.922,341.899 ,341.876,341.842,341.806,341.769, 341.719,341.706,341.616)
ORBIT_NUMBER = 9597
ORBITAL_ECCENTRICITY = 0.572
ORBITAL_INCLINATION = 86.89
ORBITAL_SEMIMAJOR_AXIS = 8784.96
PERIAPSIS_ALTITUDE = 375.59
PERIAPSIS_ARGUMENT_ANGLE = 121.3
PERIAPSIS_TIME = 2011-07-10T02:17:23.000Z
SPACECRAFT_ORIENTATION = (0.0,-1.0,0.0)
^MEX_ORIENTATION_DESC = "MEX_ORIENTATION_DESC.TXT"
SPACECRAFT_POINTING_MODE = NADIR
^MEX_POINTING_DESC = "MEX_POINTING_DESC.TXT"
RIGHT_ASCENSION = -1e+32
DECLINATION = -1e+32
OFFSET_ANGLE = -1e+32
SPACECRAFT_SOLAR_DISTANCE = 2.20391e+08
TARGET_NAME = MARS
/* CAMERA DATA ELEMENTS */
DETECTOR_TEMPERATURE = 17.5549
FOCAL_PLANE_TEMPERATURE = 8.1755
INST_CMPRS_NAME = "DISCRETE COSINE TRANSFORMATION (DCT)"
INST_CMPRS_RATIO = 34.8618
INST_CMPRS_QUALITY = 0
INST_CMPRS_QUANTZ_TBL_ID = 0
INSTRUMENT_TEMPERATURE = 11.234
LENS_TEMPERATURE = 8.5833
MACROPIXEL_SIZE = 4
MISSING_FRAMES = 0
PIXEL_SUBSAMPLING_FLAG = N
SIGNAL_CHAIN_ID = 3
/* RADIOMETRIC DATA ELEMENTS */
BANDWIDTH = 174.0
CENTER_FILTER_WAVELENGTH = 675.0
RADIANCE_OFFSET = 3.91137
RADIANCE_SCALING_FACTOR = 0.00805282
REFLECTANCE_SCALING_FACTOR = 0.000210389
MEX:REFLECTANCE_OFFSET = 0.102189
/* IMAGE OBJECT DEFINITIONS */
OBJECT = IMAGE
  INTERCHANGE_FORMAT = BINARY
  LINES = 14880
  LINE_SAMPLES = 2443
  SAMPLE_TYPE = UNSIGNED_INTEGER
  SAMPLE_BITS = 8
  BANDS = 1
  BAND_STORAGE_TYPE = BAND_SEQUENTIAL
  MAXIMUM = 255
  MEAN = 79.4127
  MINIMUM = 1
  STANDARD_DEVIATION = 32.1825
END_OBJECT = IMAGE
/* MAP OBJECT DEFINITIONS */
OBJECT = IMAGE_MAP_PROJECTION
  ^DATA_SET_MAP_PROJECTION_CATALOG= "DSMAP.CAT"
  A_AXIS_RADIUS = 3396.0
  B_AXIS_RADIUS = 3396.0
  C_AXIS_RADIUS = 3396.0
  CENTER_LATITUDE = 0.0
  CENTER_LONGITUDE = 341.0
  COORDINATE_SYSTEM_NAME = PLANETOGRAPHIC
  COORDINATE_SYSTEM_TYPE = "BODY-FIXED ROTATING"
  EASTERNMOST_LONGITUDE = 342.569
  FIRST_STANDARD_PARALLEL = "N/A"
  LINE_FIRST_PIXEL = 1
  LINE_LAST_PIXEL = 14880
  LINE_PROJECTION_OFFSET = 70734.875
  MAP_PROJECTION_ROTATION = 0.0
  MAP_PROJECTION_TYPE = SINUSOIDAL
  MAP_RESOLUTION = 1185.42760773333
  MAP_SCALE = 0.05
  MAXIMUM_LATITUDE = 59.7366
  MINIMUM_LATITUDE = 47.0944
  POSITIVE_LONGITUDE_DIRECTION = EAST
  REFERENCE_LATITUDE = "N/A"
  REFERENCE_LONGITUDE = "N/A"
  SAMPLE_FIRST_PIXEL = 1
  SAMPLE_LAST_PIXEL = 2443
  SAMPLE_PROJECTION_OFFSET = 1168.125
  SECOND_STANDARD_PARALLEL = "N/A"
  WESTERNMOST_LONGITUDE = 339.066
END_OBJECT = IMAGE_MAP_PROJECTION
END
