PDS_VERSION_ID = PDS3
/* FILE DATA ELEMENTS */
RECORD_TYPE = UNDEFINED
/* POINTERS TO DATA OBJECTS */
^IMAGE = ("H9588_0000_S24.TIF")
/* IDENTIFICATION DATA ELEMENTS */
DATA_SET_ID = "MEX-M-HRSC-4-REFDR-MAPPROJECT-EXT3-V4.0"
DATA_SET_NAME = "MARS EXPRESS HRSC MAP PROJECTED REFDR EXTENSION3 V4.0"
DETECTOR_ID = MEX_HRSC_S2
EVENT_TYPE = "MARS-REGIONAL-MAPPING-Te-Im-Pf"
INSTRUMENT_HOST_ID = MEX
INSTRUMENT_HOST_NAME = "MARS EXPRESS"
INSTRUMENT_ID = HRSC
INSTRUMENT_NAME = "HIGH RESOLUTION STEREO CAMERA"
MISSION_NAME = "MARS EXPRESS"
MISSION_PHASE_NAME = ME_Phase_23
PROCESSING_LEVEL_ID = 4
PRODUCT_CREATION_TIME = 2023-02-04T12:09:02.000Z
PRODUCT_ID = "H9588_0000_S24.TIF"
RELEASE_ID = 0007
REVISION_ID = 0000
/* QUALITY DATA ELEMENTS */
DATA_QUALITY_ID = 1
DATA_QUALITY_DESC = "Data calculated based on original SPICE kernels"
/* TIME DATA ELEMENTS */
SPACECRAFT_CLOCK_START_COUNT = "1/0258117494.09134"
SPACECRAFT_CLOCK_STOP_COUNT = "1/0258117756.41447"
START_TIME = 2011-07-07T11:19:28.585Z
STOP_TIME = 2011-07-07T11:22:37.708Z
/* ORBITAL DATA ELEMENTS */
ASCENDING_NODE_LONGITUDE = 34.17
MAXIMUM_RESOLUTION = 0.0324
FOOTPRINT_POINT_LATITUDE = (64.055,64.0156,63.9833,63.9379,63.9366 ,64.0579,63.8146,63.4494,63.2061,62.963 ,62.5982,62.3551,61.9905,61.7477, 61.5047,61.1403,60.7764,60.5339,60.2914 ,59.9279,59.6857,59.4436,59.0805, 58.8388,58.5973,58.3558,57.9936,57.632, 57.3905,57.1497,56.7886,56.548,56.3078, 55.9475,55.7077,55.348,55.1085,54.8693, 54.6302,54.2716,54.033,53.6753,53.4371, 53.08,52.8424,52.4852,52.1302,52.0118, 51.9829,52.0061,52.0224,52.0358,52.0445 ,52.0449,52.0456,52.6403,52.9983, 53.2369,53.4757,53.7147,53.9545,54.194, 54.4338,54.6735,54.9137,55.154,55.3946, 55.6353,55.8763,56.1173,56.3585,56.6, 56.9625,57.2044,57.4463,57.6886,58.0522 ,58.4164,58.6592,58.9026,59.2671, 59.5104,59.7538,60.1195,60.3631,60.6068 ,60.8507,61.0947,61.3389,61.5834, 61.9501,62.1947,62.4395,62.8069,63.0519 ,63.2971,63.5422,64.033,64.1558,64.055)
FOOTPRINT_POINT_LONGITUDE = (181.572,180.464,179.67,178.68,178.652, 178.524,178.593,178.695,178.76,178.824, 178.918,178.979,179.067,179.124,179.18, 179.262,179.341,179.392,179.442,179.515 ,179.562,179.608,179.676,179.72,179.763 ,179.804,179.866,179.925,179.964, 180.001,180.056,180.092,180.126,180.177 ,180.21,180.258,180.289,180.32,180.35, 180.393,180.422,180.463,180.49,180.529, 180.554,180.592,180.627,180.639,180.642 ,181.353,181.935,182.454,182.842, 182.864,182.872,182.833,182.809,182.793 ,182.776,182.759,182.742,182.724, 182.707,182.688,182.67,182.651,182.632, 182.613,182.593,182.573,182.552,182.532 ,182.5,182.478,182.455,182.433,182.398, 182.363,182.338,182.314,182.275,182.249 ,182.223,182.182,182.154,182.126, 182.097,182.067,182.037,182.006,181.959 ,181.927,181.894,181.843,181.808, 181.773,181.737,181.662,181.643, 181.572)
ORBIT_NUMBER = 9588
ORBITAL_ECCENTRICITY = 0.572
ORBITAL_INCLINATION = 86.88
ORBITAL_SEMIMAJOR_AXIS = 8786.37
PERIAPSIS_ALTITUDE = 375.08
PERIAPSIS_ARGUMENT_ANGLE = 122.88
PERIAPSIS_TIME = 2011-07-07T11:20:44.000Z
SPACECRAFT_ORIENTATION = (0.0,-1.0,0.0)
^MEX_ORIENTATION_DESC = "MEX_ORIENTATION_DESC.TXT"
SPACECRAFT_POINTING_MODE = NADIR
^MEX_POINTING_DESC = "MEX_POINTING_DESC.TXT"
RIGHT_ASCENSION = -1e+32
DECLINATION = -1e+32
OFFSET_ANGLE = -1e+32
SPACECRAFT_SOLAR_DISTANCE = 2.19899e+08
TARGET_NAME = MARS
/* CAMERA DATA ELEMENTS */
DETECTOR_TEMPERATURE = 18.3705
FOCAL_PLANE_TEMPERATURE = 8.1755
INST_CMPRS_NAME = "DISCRETE COSINE TRANSFORMATION (DCT)"
INST_CMPRS_RATIO = 14.7691
INST_CMPRS_QUALITY = 0
INST_CMPRS_QUANTZ_TBL_ID = 0
INSTRUMENT_TEMPERATURE = 11.0301
LENS_TEMPERATURE = 8.5833
MACROPIXEL_SIZE = 2
MISSING_FRAMES = 0
PIXEL_SUBSAMPLING_FLAG = N
SIGNAL_CHAIN_ID = 1
/* RADIOMETRIC DATA ELEMENTS */
BANDWIDTH = 178.0
CENTER_FILTER_WAVELENGTH = 679.0
RADIANCE_OFFSET = 2.44089
RADIANCE_SCALING_FACTOR = 0.0108484
REFLECTANCE_SCALING_FACTOR = 0.000277805
MEX:REFLECTANCE_OFFSET = 0.0625062
/* IMAGE OBJECT DEFINITIONS */
OBJECT = IMAGE
  INTERCHANGE_FORMAT = BINARY
  LINES = 28959
  LINE_SAMPLES = 5271
  SAMPLE_TYPE = UNSIGNED_INTEGER
  SAMPLE_BITS = 8
  BANDS = 1
  BAND_STORAGE_TYPE = BAND_SEQUENTIAL
  MAXIMUM = 254
  MEAN = 141.562
  MINIMUM = 1
  STANDARD_DEVIATION = 56.1595
END_OBJECT = IMAGE
/* MAP OBJECT DEFINITIONS */
OBJECT = IMAGE_MAP_PROJECTION
  ^DATA_SET_MAP_PROJECTION_CATALOG= "DSMAP.CAT"
  A_AXIS_RADIUS = 3396.0
  B_AXIS_RADIUS = 3396.0
  C_AXIS_RADIUS = 3396.0
  CENTER_LATITUDE = 0.0
  CENTER_LONGITUDE = 181.0
  COORDINATE_SYSTEM_NAME = PLANETOGRAPHIC
  COORDINATE_SYSTEM_TYPE = "BODY-FIXED ROTATING"
  EASTERNMOST_LONGITUDE = 182.872
  FIRST_STANDARD_PARALLEL = "N/A"
  LINE_FIRST_PIXEL = 1
  LINE_LAST_PIXEL = 28959
  LINE_PROJECTION_OFFSET = 152131.25
  MAP_PROJECTION_ROTATION = 0.0
  MAP_PROJECTION_TYPE = SINUSOIDAL
  MAP_RESOLUTION = 2370.85521546667
  MAP_SCALE = 0.025
  MAXIMUM_LATITUDE = 64.1558
  MINIMUM_LATITUDE = 51.9829
  POSITIVE_LONGITUDE_DIRECTION = EAST
  REFERENCE_LATITUDE = "N/A"
  REFERENCE_LONGITUDE = "N/A"
  SAMPLE_FIRST_PIXEL = 1
  SAMPLE_LAST_PIXEL = 5271
  SAMPLE_PROJECTION_OFFSET = 2583.25
  SECOND_STANDARD_PARALLEL = "N/A"
  WESTERNMOST_LONGITUDE = 178.524
END_OBJECT = IMAGE_MAP_PROJECTION
END
