PDS_VERSION_ID = PDS3
/* FILE DATA ELEMENTS */
RECORD_TYPE = UNDEFINED
/* POINTERS TO DATA OBJECTS */
^IMAGE = ("H9581_0000_P14.TIF")
/* IDENTIFICATION DATA ELEMENTS */
DATA_SET_ID = "MEX-M-HRSC-4-REFDR-MAPPROJECT-EXT3-V4.0"
DATA_SET_NAME = "MARS EXPRESS HRSC MAP PROJECTED REFDR EXTENSION3 V4.0"
DETECTOR_ID = MEX_HRSC_P1
EVENT_TYPE = "MARS-REGIONAL-MAPPING-Te-Im-Pf"
INSTRUMENT_HOST_ID = MEX
INSTRUMENT_HOST_NAME = "MARS EXPRESS"
INSTRUMENT_ID = HRSC
INSTRUMENT_NAME = "HIGH RESOLUTION STEREO CAMERA"
MISSION_NAME = "MARS EXPRESS"
MISSION_PHASE_NAME = ME_Phase_23
PROCESSING_LEVEL_ID = 4
PRODUCT_CREATION_TIME = 2023-02-04T12:09:02.000Z
PRODUCT_ID = "H9581_0000_P14.TIF"
RELEASE_ID = 0007
REVISION_ID = 0000
/* QUALITY DATA ELEMENTS */
DATA_QUALITY_ID = 1
DATA_QUALITY_DESC = "Data calculated based on original SPICE kernels"
/* TIME DATA ELEMENTS */
SPACECRAFT_CLOCK_START_COUNT = "1/0257941238.09137"
SPACECRAFT_CLOCK_STOP_COUNT = "1/0257941484.18094"
START_TIME = 2011-07-05T10:20:54.041Z
STOP_TIME = 2011-07-05T10:23:48.450Z
/* ORBITAL DATA ELEMENTS */
ASCENDING_NODE_LONGITUDE = 34.31
MAXIMUM_RESOLUTION = 0.031
FOOTPRINT_POINT_LATITUDE = (63.5977,63.5772,63.5554,63.53,63.4667, 63.465,63.3813,63.0574,62.7327,62.299, 61.9735,61.5386,61.321,61.1031,60.8849, 60.5574,60.2295,60.0108,59.7918,59.5726 ,59.3533,59.024,58.8042,58.5843,58.2541 ,57.9236,57.7031,57.4824,57.2617, 57.0412,56.8202,56.5987,56.2658,56.0402 ,55.8189,55.4863,55.2643,55.0424, 54.8201,54.5979,54.3756,54.1531,53.8193 ,53.5968,53.3737,53.0397,52.7053, 52.4818,52.3702,52.3266,52.3539,52.3742 ,52.4009,52.4014,52.4021,52.7382, 52.9618,53.2974,53.5212,53.7449,53.9685 ,54.3037,54.6388,54.8622,55.0853, 55.3084,55.5315,55.7544,55.9772,56.2002 ,56.5379,56.7603,56.9826,57.2049,57.427 ,57.6491,57.8709,58.0922,58.3139, 58.6463,58.8676,59.0887,59.3097,59.5304 ,59.8615,60.082,60.3022,60.5224,60.8524 ,61.0722,61.2919,61.5115,61.7308, 61.9501,62.169,62.3876,62.9338,63.3699, 63.4788,63.5977)
FOOTPRINT_POINT_LONGITUDE = (177.56,176.985,176.441,175.868,174.638 ,174.61,174.534,174.626,174.714,174.828 ,174.911,175.018,175.071,175.122, 175.172,175.245,175.317,175.363,175.409 ,175.454,175.498,175.562,175.604, 175.645,175.706,175.765,175.803,175.841 ,175.878,175.914,175.95,175.985,176.035 ,176.069,176.102,176.15,176.181,176.212 ,176.242,176.272,176.301,176.329, 176.371,176.398,176.425,176.464,176.502 ,176.527,176.539,176.544,177.194, 177.761,178.686,178.707,178.714,178.693 ,178.679,178.657,178.642,178.627, 178.612,178.588,178.564,178.548,178.531 ,178.514,178.497,178.48,178.462,178.444 ,178.416,178.398,178.379,178.359,178.34 ,178.32,178.3,178.28,178.259,178.227, 178.205,178.183,178.16,178.138,178.103, 178.079,178.055,178.031,177.993,177.968 ,177.942,177.915,177.888,177.861, 177.833,177.805,177.732,177.671,177.656 ,177.56)
ORBIT_NUMBER = 9581
ORBITAL_ECCENTRICITY = 0.572
ORBITAL_INCLINATION = 86.88
ORBITAL_SEMIMAJOR_AXIS = 8788.32
PERIAPSIS_ALTITUDE = 374.55
PERIAPSIS_ARGUMENT_ANGLE = 124.1
PERIAPSIS_TIME = 2011-07-05T10:23:17.000Z
SPACECRAFT_ORIENTATION = (0.0,-1.0,0.0)
^MEX_ORIENTATION_DESC = "MEX_ORIENTATION_DESC.TXT"
SPACECRAFT_POINTING_MODE = ACROSSTRACK
^MEX_POINTING_DESC = "MEX_POINTING_DESC.TXT"
RIGHT_ASCENSION = -1e+32
DECLINATION = -1e+32
OFFSET_ANGLE = -0.05
SPACECRAFT_SOLAR_DISTANCE = 2.19519e+08
TARGET_NAME = MARS
/* CAMERA DATA ELEMENTS */
DETECTOR_TEMPERATURE = 17.351
FOCAL_PLANE_TEMPERATURE = 8.3794
INST_CMPRS_NAME = "DISCRETE COSINE TRANSFORMATION (DCT)"
INST_CMPRS_RATIO = 16.3912
INST_CMPRS_QUALITY = 0
INST_CMPRS_QUANTZ_TBL_ID = 0
INSTRUMENT_TEMPERATURE = 10.2145
LENS_TEMPERATURE = 8.7872
MACROPIXEL_SIZE = 2
MISSING_FRAMES = 1
PIXEL_SUBSAMPLING_FLAG = N
SIGNAL_CHAIN_ID = 3
/* RADIOMETRIC DATA ELEMENTS */
BANDWIDTH = 174.0
CENTER_FILTER_WAVELENGTH = 675.0
RADIANCE_OFFSET = 2.42763
RADIANCE_SCALING_FACTOR = 0.0103246
REFLECTANCE_SCALING_FACTOR = 0.00026761
MEX:REFLECTANCE_OFFSET = 0.0629231
/* IMAGE OBJECT DEFINITIONS */
OBJECT = IMAGE
  INTERCHANGE_FORMAT = BINARY
  LINES = 26517
  LINE_SAMPLES = 5083
  SAMPLE_TYPE = UNSIGNED_INTEGER
  SAMPLE_BITS = 8
  BANDS = 1
  BAND_STORAGE_TYPE = BAND_SEQUENTIAL
  MAXIMUM = 255
  MEAN = 127.734
  MINIMUM = 1
  STANDARD_DEVIATION = 52.2874
END_OBJECT = IMAGE
/* MAP OBJECT DEFINITIONS */
OBJECT = IMAGE_MAP_PROJECTION
  ^DATA_SET_MAP_PROJECTION_CATALOG= "DSMAP.CAT"
  A_AXIS_RADIUS = 3396.0
  B_AXIS_RADIUS = 3396.0
  C_AXIS_RADIUS = 3396.0
  CENTER_LATITUDE = 0.0
  CENTER_LONGITUDE = 177.0
  COORDINATE_SYSTEM_NAME = PLANETOGRAPHIC
  COORDINATE_SYSTEM_TYPE = "BODY-FIXED ROTATING"
  EASTERNMOST_LONGITUDE = 178.714
  FIRST_STANDARD_PARALLEL = "N/A"
  LINE_FIRST_PIXEL = 1
  LINE_LAST_PIXEL = 26517
  LINE_PROJECTION_OFFSET = 150638.75
  MAP_PROJECTION_ROTATION = 0.0
  MAP_PROJECTION_TYPE = SINUSOIDAL
  MAP_RESOLUTION = 2370.85521546667
  MAP_SCALE = 0.025
  MAXIMUM_LATITUDE = 63.5977
  MINIMUM_LATITUDE = 52.3266
  POSITIVE_LONGITUDE_DIRECTION = EAST
  REFERENCE_LATITUDE = "N/A"
  REFERENCE_LONGITUDE = "N/A"
  SAMPLE_FIRST_PIXEL = 1
  SAMPLE_LAST_PIXEL = 5083
  SAMPLE_PROJECTION_OFFSET = 2606.25
  SECOND_STANDARD_PARALLEL = "N/A"
  WESTERNMOST_LONGITUDE = 174.534
END_OBJECT = IMAGE_MAP_PROJECTION
END
