PDS_VERSION_ID = PDS3
/* FILE DATA ELEMENTS */
RECORD_TYPE = UNDEFINED
/* POINTERS TO DATA OBJECTS */
^IMAGE = ("H9579_0001_S14.TIF")
/* IDENTIFICATION DATA ELEMENTS */
DATA_SET_ID = "MEX-M-HRSC-4-REFDR-MAPPROJECT-EXT3-V4.0"
DATA_SET_NAME = "MARS EXPRESS HRSC MAP PROJECTED REFDR EXTENSION3 V4.0"
DETECTOR_ID = MEX_HRSC_S1
EVENT_TYPE = "MARS-REGIONAL-MAPPING-Im-Fl"
INSTRUMENT_HOST_ID = MEX
INSTRUMENT_HOST_NAME = "MARS EXPRESS"
INSTRUMENT_ID = HRSC
INSTRUMENT_NAME = "HIGH RESOLUTION STEREO CAMERA"
MISSION_NAME = "MARS EXPRESS"
MISSION_PHASE_NAME = ME_Phase_23
PROCESSING_LEVEL_ID = 4
PRODUCT_CREATION_TIME = 2023-02-04T12:09:02.000Z
PRODUCT_ID = "H9579_0001_S14.TIF"
RELEASE_ID = 0007
REVISION_ID = 0000
/* QUALITY DATA ELEMENTS */
DATA_QUALITY_ID = 1
DATA_QUALITY_DESC = "Data calculated based on original SPICE kernels"
/* TIME DATA ELEMENTS */
SPACECRAFT_CLOCK_START_COUNT = "1/0257891424.08278"
SPACECRAFT_CLOCK_STOP_COUNT = "1/0257891786.07855"
START_TIME = 2011-07-04T20:30:27.207Z
STOP_TIME = 2011-07-04T20:33:47.172Z
/* ORBITAL DATA ELEMENTS */
ASCENDING_NODE_LONGITUDE = 34.35
MAXIMUM_RESOLUTION = 0.0422
FOOTPRINT_POINT_LATITUDE = (28.1141,28.1095,28.1038,28.0971, 28.0891,28.08,28.0656,28.0649,28.0275, 27.4556,27.1085,26.6503,26.3111,25.7276 ,25.3712,24.7772,24.5355,24.1706, 23.6846,23.4366,23.1906,22.8155,22.5647 ,22.3157,22.0603,21.8046,21.4211, 21.0272,20.7657,20.3786,20.1155,19.8537 ,19.5911,19.3292,19.0684,18.807,18.5464 ,18.2862,17.8962,17.6363,17.3767, 17.1175,16.8588,16.6005,16.3427,16.0849 ,15.6987,15.5704,15.5432,15.5498,15.554 ,15.5582,15.5597,15.5618,15.5617, 15.5616,15.5622,15.949,16.2073,16.4663, 16.7249,16.9846,17.3741,17.6341,17.8947 ,18.1574,18.4184,18.6824,18.9413, 19.2004,19.4637,19.7321,19.9948,20.3863 ,20.6475,20.9101,21.1681,21.4274, 21.8133,22.069,22.3239,22.5746,22.8278, 23.0791,23.328,23.573,23.8197,24.065, 24.3067,24.5488,24.7919,25.3893,25.7479 ,26.0986,26.6832,27.1438,27.6032, 27.9436,28.0558,28.1141)
FOOTPRINT_POINT_LONGITUDE = (23.625,23.3248,23.0237,22.7214,22.4183 ,22.1139,21.6929,21.6737,21.6498, 21.6433,21.6401,21.6372,21.6391,21.634, 21.6299,21.6232,21.6202,21.6144,21.6082 ,21.6035,21.5995,21.5928,21.588,21.5839 ,21.5786,21.5729,21.565,21.5538,21.5468 ,21.5407,21.534,21.5276,21.5206,21.5136 ,21.5068,21.4995,21.4922,21.4848, 21.4733,21.4653,21.4572,21.449,21.4407, 21.4323,21.4239,21.4151,21.4017,21.3973 ,21.3963,21.7453,22.0933,22.417,22.8548 ,23.3599,23.7488,23.7717,23.7799, 23.7769,23.7748,23.7727,23.7706,23.7684 ,23.765,23.7628,23.7604,23.7577,23.7553 ,23.7523,23.7503,23.7483,23.7455, 23.7417,23.7391,23.7355,23.7331,23.7303 ,23.7276,23.7247,23.7202,23.7171, 23.7142,23.7113,23.7079,23.7047,23.7015 ,23.6987,23.6955,23.6923,23.6892,23.686 ,23.6827,23.6741,23.6686,23.6634, 23.6545,23.6471,23.6396,23.6336,23.6318 ,23.625)
ORBIT_NUMBER = 9579
ORBITAL_ECCENTRICITY = 0.573
ORBITAL_INCLINATION = 86.87
ORBITAL_SEMIMAJOR_AXIS = 8793.35
PERIAPSIS_ALTITUDE = 374.31
PERIAPSIS_ARGUMENT_ANGLE = 124.43
PERIAPSIS_TIME = 2011-07-04T20:23:57.000Z
SPACECRAFT_ORIENTATION = (0.0,-1.0,0.0)
^MEX_ORIENTATION_DESC = "MEX_ORIENTATION_DESC.TXT"
SPACECRAFT_POINTING_MODE = ACROSSTRACK
^MEX_POINTING_DESC = "MEX_POINTING_DESC.TXT"
RIGHT_ASCENSION = -1e+32
DECLINATION = -1e+32
OFFSET_ANGLE = -0.4
SPACECRAFT_SOLAR_DISTANCE = 2.1941e+08
TARGET_NAME = MARS
/* CAMERA DATA ELEMENTS */
DETECTOR_TEMPERATURE = 18.5744
FOCAL_PLANE_TEMPERATURE = 8.3794
INST_CMPRS_NAME = "DISCRETE COSINE TRANSFORMATION (DCT)"
INST_CMPRS_RATIO = 11.3787
INST_CMPRS_QUALITY = 0
INST_CMPRS_QUANTZ_TBL_ID = 0
INSTRUMENT_TEMPERATURE = 12.8652
LENS_TEMPERATURE = 8.7872
MACROPIXEL_SIZE = 2
MISSING_FRAMES = 0
PIXEL_SUBSAMPLING_FLAG = N
SIGNAL_CHAIN_ID = 1
/* RADIOMETRIC DATA ELEMENTS */
BANDWIDTH = 180.0
CENTER_FILTER_WAVELENGTH = 677.0
RADIANCE_OFFSET = 8.44699
RADIANCE_SCALING_FACTOR = 0.0168585
REFLECTANCE_SCALING_FACTOR = 0.000423427
MEX:REFLECTANCE_OFFSET = 0.212159
/* IMAGE OBJECT DEFINITIONS */
OBJECT = IMAGE
  INTERCHANGE_FORMAT = BINARY
  LINES = 14849
  LINE_SAMPLES = 2974
  SAMPLE_TYPE = UNSIGNED_INTEGER
  SAMPLE_BITS = 8
  BANDS = 1
  BAND_STORAGE_TYPE = BAND_SEQUENTIAL
  MAXIMUM = 255
  MEAN = 134.924
  MINIMUM = 1
  STANDARD_DEVIATION = 21.4637
END_OBJECT = IMAGE
/* MAP OBJECT DEFINITIONS */
OBJECT = IMAGE_MAP_PROJECTION
  ^DATA_SET_MAP_PROJECTION_CATALOG= "DSMAP.CAT"
  A_AXIS_RADIUS = 3396.0
  B_AXIS_RADIUS = 3396.0
  C_AXIS_RADIUS = 3396.0
  CENTER_LATITUDE = 0.0
  CENTER_LONGITUDE = 23.0
  COORDINATE_SYSTEM_NAME = PLANETOGRAPHIC
  COORDINATE_SYSTEM_TYPE = "BODY-FIXED ROTATING"
  EASTERNMOST_LONGITUDE = 23.7799
  FIRST_STANDARD_PARALLEL = "N/A"
  LINE_FIRST_PIXEL = 1
  LINE_LAST_PIXEL = 14849
  LINE_PROJECTION_OFFSET = 33276.75
  MAP_PROJECTION_ROTATION = 0.0
  MAP_PROJECTION_TYPE = SINUSOIDAL
  MAP_RESOLUTION = 1185.42760773333
  MAP_SCALE = 0.05
  MAXIMUM_LATITUDE = 28.1141
  MINIMUM_LATITUDE = 15.5432
  POSITIVE_LONGITUDE_DIRECTION = EAST
  REFERENCE_LATITUDE = "N/A"
  REFERENCE_LONGITUDE = "N/A"
  SAMPLE_FIRST_PIXEL = 1
  SAMPLE_LAST_PIXEL = 2974
  SAMPLE_PROJECTION_OFFSET = 1964.25
  SECOND_STANDARD_PARALLEL = "N/A"
  WESTERNMOST_LONGITUDE = 21.3963
END_OBJECT = IMAGE_MAP_PROJECTION
END
