PDS_VERSION_ID = PDS3
/* FILE DATA ELEMENTS */
RECORD_TYPE = UNDEFINED
/* POINTERS TO DATA OBJECTS */
^IMAGE = ("H9579_0000_ND4.TIF")
/* IDENTIFICATION DATA ELEMENTS */
DATA_SET_ID = "MEX-M-HRSC-4-REFDR-MAPPROJECT-EXT3-V4.0"
DATA_SET_NAME = "MARS EXPRESS HRSC MAP PROJECTED REFDR EXTENSION3 V4.0"
DETECTOR_ID = MEX_HRSC_NADIR
EVENT_TYPE = "MARS-REGIONAL-MAPPING-Im-Fl-Pf"
INSTRUMENT_HOST_ID = MEX
INSTRUMENT_HOST_NAME = "MARS EXPRESS"
INSTRUMENT_ID = HRSC
INSTRUMENT_NAME = "HIGH RESOLUTION STEREO CAMERA"
MISSION_NAME = "MARS EXPRESS"
MISSION_PHASE_NAME = ME_Phase_23
PROCESSING_LEVEL_ID = 4
PRODUCT_CREATION_TIME = 2023-02-04T12:09:02.000Z
PRODUCT_ID = "H9579_0000_ND4.TIF"
RELEASE_ID = 0007
REVISION_ID = 0000
/* QUALITY DATA ELEMENTS */
DATA_QUALITY_ID = 1
DATA_QUALITY_DESC = "Data calculated based on original SPICE kernels"
/* TIME DATA ELEMENTS */
SPACECRAFT_CLOCK_START_COUNT = "1/0257890938.09062"
SPACECRAFT_CLOCK_STOP_COUNT = "1/0257891184.18256"
START_TIME = 2011-07-04T20:22:56.304Z
STOP_TIME = 2011-07-04T20:25:49.297Z
/* ORBITAL DATA ELEMENTS */
ASCENDING_NODE_LONGITUDE = 34.35
MAXIMUM_RESOLUTION = 0.0151
FOOTPRINT_POINT_LATITUDE = (59.4258,59.3972,59.3628,59.3166, 59.3152,59.3104,58.8694,58.6489,58.4283 ,58.2076,57.8763,57.6555,57.3242, 57.1032,56.8822,56.6611,56.3294,55.9977 ,55.7764,55.5552,55.2233,54.8913,54.67, 54.4487,54.2273,54.0059,53.7845,53.5632 ,53.3418,53.1204,52.8991,52.6777, 52.4564,52.235,52.0137,51.7924,51.5712, 51.1287,50.6864,50.2442,49.8022,49.3604 ,48.9187,48.3671,48.2568,48.2492, 48.2666,48.2788,48.3,48.3138,48.3142, 48.3147,48.7575,49.2005,49.6438,49.8655 ,50.0873,50.3092,50.5311,50.753,50.975, 51.1971,51.4191,51.6413,51.8634,52.0856 ,52.3079,52.5301,52.7524,52.9747,53.197 ,53.4194,53.6418,53.8641,54.0866,54.309 ,54.5314,54.7538,55.0874,55.3098, 55.5323,55.7547,55.977,56.1994,56.4218, 56.6442,56.8665,57.0888,57.3111,57.5333 ,57.7556,57.9778,58.1999,58.422,58.6441 ,58.8661,59.0881,59.31,59.421,59.4258)
FOOTPRINT_POINT_LONGITUDE = (21.948,21.1908,20.4031,19.484,19.4591, 19.338,19.4327,19.4789,19.5243,19.5689, 19.63,19.675,19.7396,19.7801,19.8201, 19.8592,19.9171,19.9731,20.0089,20.0447 ,20.0973,20.148,20.1815,20.2145,20.2464 ,20.2778,20.3088,20.3391,20.3691, 20.3981,20.4265,20.455,20.4828,20.5099, 20.5365,20.5627,20.5882,20.6382,20.6866 ,20.7328,20.7774,20.8211,20.8604, 20.9113,20.921,20.9216,21.37,21.7131, 22.3958,22.9333,22.9531,22.9629,22.9355 ,22.9077,22.8789,22.8642,22.8493, 22.8341,22.8187,22.8032,22.7874,22.7713 ,22.7551,22.7386,22.7219,22.7049, 22.6877,22.6702,22.6524,22.6344,22.6161 ,22.5977,22.5788,22.5596,22.5403, 22.5207,22.5007,22.4804,22.4495,22.4284 ,22.407,22.3852,22.3631,22.3407,22.318, 22.295,22.2715,22.2477,22.2235,22.1989, 22.1739,22.1485,22.1227,22.0964,22.0698 ,22.0427,22.0152,21.9872,21.973,21.948)
ORBIT_NUMBER = 9579
ORBITAL_ECCENTRICITY = 0.573
ORBITAL_INCLINATION = 86.87
ORBITAL_SEMIMAJOR_AXIS = 8793.35
PERIAPSIS_ALTITUDE = 374.31
PERIAPSIS_ARGUMENT_ANGLE = 124.43
PERIAPSIS_TIME = 2011-07-04T20:23:57.000Z
SPACECRAFT_ORIENTATION = (0.0,-1.0,0.0)
^MEX_ORIENTATION_DESC = "MEX_ORIENTATION_DESC.TXT"
SPACECRAFT_POINTING_MODE = ACROSSTRACK
^MEX_POINTING_DESC = "MEX_POINTING_DESC.TXT"
RIGHT_ASCENSION = -1e+32
DECLINATION = -1e+32
OFFSET_ANGLE = -0.4
SPACECRAFT_SOLAR_DISTANCE = 2.1941e+08
TARGET_NAME = MARS
/* CAMERA DATA ELEMENTS */
DETECTOR_TEMPERATURE = 18.3705
FOCAL_PLANE_TEMPERATURE = 8.1755
INST_CMPRS_NAME = "DISCRETE COSINE TRANSFORMATION (DCT)"
INST_CMPRS_RATIO = 8.24874
INST_CMPRS_QUALITY = 0
INST_CMPRS_QUANTZ_TBL_ID = 0
INSTRUMENT_TEMPERATURE = 10.6223
LENS_TEMPERATURE = 8.9911
MACROPIXEL_SIZE = 1
MISSING_FRAMES = 0
PIXEL_SUBSAMPLING_FLAG = N
SIGNAL_CHAIN_ID = 0
/* RADIOMETRIC DATA ELEMENTS */
BANDWIDTH = 177.0
CENTER_FILTER_WAVELENGTH = 677.5
RADIANCE_OFFSET = 3.2004
RADIANCE_SCALING_FACTOR = 0.0119151
REFLECTANCE_SCALING_FACTOR = 0.000304718
MEX:REFLECTANCE_OFFSET = 0.0818472
/* IMAGE OBJECT DEFINITIONS */
OBJECT = IMAGE
  INTERCHANGE_FORMAT = BINARY
  LINES = 53009
  LINE_SAMPLES = 10212
  SAMPLE_TYPE = UNSIGNED_INTEGER
  SAMPLE_BITS = 8
  BANDS = 1
  BAND_STORAGE_TYPE = BAND_SEQUENTIAL
  MAXIMUM = 255
  MEAN = 112.973
  MINIMUM = 1
  STANDARD_DEVIATION = 45.9979
END_OBJECT = IMAGE
/* MAP OBJECT DEFINITIONS */
OBJECT = IMAGE_MAP_PROJECTION
  ^DATA_SET_MAP_PROJECTION_CATALOG= "DSMAP.CAT"
  A_AXIS_RADIUS = 3396.0
  B_AXIS_RADIUS = 3396.0
  C_AXIS_RADIUS = 3396.0
  CENTER_LATITUDE = 0.0
  CENTER_LONGITUDE = 21.0
  COORDINATE_SYSTEM_NAME = PLANETOGRAPHIC
  COORDINATE_SYSTEM_TYPE = "BODY-FIXED ROTATING"
  EASTERNMOST_LONGITUDE = 22.9629
  FIRST_STANDARD_PARALLEL = "N/A"
  LINE_FIRST_PIXEL = 1
  LINE_LAST_PIXEL = 53009
  LINE_PROJECTION_OFFSET = 281793.0
  MAP_PROJECTION_ROTATION = 0.0
  MAP_PROJECTION_TYPE = SINUSOIDAL
  MAP_RESOLUTION = 4741.71043093333
  MAP_SCALE = 0.0125
  MAXIMUM_LATITUDE = 59.4258
  MINIMUM_LATITUDE = 48.2492
  POSITIVE_LONGITUDE_DIRECTION = EAST
  REFERENCE_LATITUDE = "N/A"
  REFERENCE_LONGITUDE = "N/A"
  SAMPLE_FIRST_PIXEL = 1
  SAMPLE_LAST_PIXEL = 10212
  SAMPLE_PROJECTION_OFFSET = 4021.0
  SECOND_STANDARD_PARALLEL = "N/A"
  WESTERNMOST_LONGITUDE = 19.338
END_OBJECT = IMAGE_MAP_PROJECTION
END
