PDS_VERSION_ID = PDS3
/* FILE DATA ELEMENTS */
RECORD_TYPE = UNDEFINED
/* POINTERS TO DATA OBJECTS */
^IMAGE = ("H9573_0000_IR4.TIF")
/* IDENTIFICATION DATA ELEMENTS */
DATA_SET_ID = "MEX-M-HRSC-4-REFDR-MAPPROJECT-EXT3-V4.0"
DATA_SET_NAME = "MARS EXPRESS HRSC MAP PROJECTED REFDR EXTENSION3 V4.0"
DETECTOR_ID = MEX_HRSC_IR
EVENT_TYPE = "MARS-REGIONAL-MAPPING-Te-Im-Pf"
INSTRUMENT_HOST_ID = MEX
INSTRUMENT_HOST_NAME = "MARS EXPRESS"
INSTRUMENT_ID = HRSC
INSTRUMENT_NAME = "HIGH RESOLUTION STEREO CAMERA"
MISSION_NAME = "MARS EXPRESS"
MISSION_PHASE_NAME = ME_Phase_23
PROCESSING_LEVEL_ID = 4
PRODUCT_CREATION_TIME = 2023-02-04T12:09:02.000Z
PRODUCT_ID = "H9573_0000_IR4.TIF"
RELEASE_ID = 0007
REVISION_ID = 0000
/* QUALITY DATA ELEMENTS */
DATA_QUALITY_ID = 1
DATA_QUALITY_DESC = "Data calculated based on original SPICE kernels"
/* TIME DATA ELEMENTS */
SPACECRAFT_CLOCK_START_COUNT = "1/0257739870.09115"
SPACECRAFT_CLOCK_STOP_COUNT = "1/0257740123.06154"
START_TIME = 2011-07-03T02:24:39.399Z
STOP_TIME = 2011-07-03T02:27:39.611Z
/* ORBITAL DATA ELEMENTS */
ASCENDING_NODE_LONGITUDE = 34.47
MAXIMUM_RESOLUTION = 0.0624
FOOTPRINT_POINT_LATITUDE = (58.7132,58.6889,58.6584,58.6081, 58.6069,58.5185,57.9525,57.6126,57.2726 ,56.8173,56.4759,56.248,55.9057,55.6776 ,55.4489,55.2205,54.8771,54.5333, 54.3041,54.0745,53.8451,53.6152,53.3851 ,53.1547,52.9248,52.5791,52.3482, 52.1181,51.8879,51.6572,51.4257,51.1947 ,50.9647,50.7333,50.386,50.0393,49.8074 ,49.5768,49.3441,49.1149,48.8837, 48.5384,48.3062,47.9561,47.7216,47.4889 ,47.1393,47.0229,47.0085,47.0266, 47.0442,47.0626,47.0794,47.0798,47.081, 47.3143,47.7726,48.0058,48.2385,48.4687 ,48.7005,48.933,49.2824,49.5139,49.8607 ,50.0928,50.3243,50.5569,50.7892, 51.0217,51.2541,51.4865,51.7184,52.0664 ,52.4136,52.6453,52.8766,53.2233, 53.4541,53.6851,53.9157,54.1463,54.3766 ,54.7217,54.9526,55.1824,55.4123, 55.6422,55.8721,56.1018,56.4456,56.6747 ,56.9038,57.1326,57.3614,57.5898, 57.9323,58.5023,58.6162,58.7132)
FOOTPRINT_POINT_LONGITUDE = (276.331,275.644,274.911,273.902, 273.879,273.82,273.925,273.987,274.047, 274.123,274.179,274.216,274.269,274.304 ,274.338,274.372,274.421,274.468, 274.499,274.53,274.56,274.589,274.618, 274.646,274.674,274.714,274.74,274.767, 274.792,274.818,274.842,274.866,274.89, 274.913,274.947,274.98,275.001,275.023, 275.043,275.065,275.085,275.115,275.134 ,275.16,275.177,275.194,275.219,275.228 ,275.229,275.679,276.094,276.652, 277.134,277.152,277.157,277.147,277.13, 277.119,277.108,277.098,277.087,277.076 ,277.058,277.047,277.03,277.018,277.006 ,276.993,276.98,276.966,276.953,276.939 ,276.925,276.904,276.882,276.867, 276.852,276.83,276.814,276.799,276.783, 276.767,276.75,276.726,276.708,276.691, 276.673,276.655,276.637,276.618,276.59, 276.571,276.551,276.531,276.511,276.491 ,276.459,276.405,276.394,276.331)
ORBIT_NUMBER = 9573
ORBITAL_ECCENTRICITY = 0.573
ORBITAL_INCLINATION = 86.87
ORBITAL_SEMIMAJOR_AXIS = 8795.87
PERIAPSIS_ALTITUDE = 373.26
PERIAPSIS_ARGUMENT_ANGLE = 125.47
PERIAPSIS_TIME = 2011-07-03T02:26:12.000Z
SPACECRAFT_ORIENTATION = (0.0,-1.0,0.0)
^MEX_ORIENTATION_DESC = "MEX_ORIENTATION_DESC.TXT"
SPACECRAFT_POINTING_MODE = ACROSSTRACK
^MEX_POINTING_DESC = "MEX_POINTING_DESC.TXT"
RIGHT_ASCENSION = -1e+32
DECLINATION = -1e+32
OFFSET_ANGLE = -0.1
SPACECRAFT_SOLAR_DISTANCE = 2.19087e+08
TARGET_NAME = MARS
/* CAMERA DATA ELEMENTS */
DETECTOR_TEMPERATURE = 17.351
FOCAL_PLANE_TEMPERATURE = 8.3794
INST_CMPRS_NAME = "DISCRETE COSINE TRANSFORMATION (DCT)"
INST_CMPRS_RATIO = 7.68422
INST_CMPRS_QUALITY = 0
INST_CMPRS_QUANTZ_TBL_ID = 0
INSTRUMENT_TEMPERATURE = 11.234
LENS_TEMPERATURE = 8.7872
MACROPIXEL_SIZE = 4
MISSING_FRAMES = 0
PIXEL_SUBSAMPLING_FLAG = N
SIGNAL_CHAIN_ID = 2
/* RADIOMETRIC DATA ELEMENTS */
BANDWIDTH = 81.0
CENTER_FILTER_WAVELENGTH = 955.5
RADIANCE_OFFSET = 0.574684
RADIANCE_SCALING_FACTOR = 0.00528586
REFLECTANCE_SCALING_FACTOR = 0.000547365
MEX:REFLECTANCE_OFFSET = 0.05951
/* IMAGE OBJECT DEFINITIONS */
OBJECT = IMAGE
  INTERCHANGE_FORMAT = BINARY
  LINES = 13789
  LINE_SAMPLES = 2293
  SAMPLE_TYPE = UNSIGNED_INTEGER
  SAMPLE_BITS = 8
  BANDS = 1
  BAND_STORAGE_TYPE = BAND_SEQUENTIAL
  MAXIMUM = 255
  MEAN = 77.6992
  MINIMUM = 1
  STANDARD_DEVIATION = 32.1364
END_OBJECT = IMAGE
/* MAP OBJECT DEFINITIONS */
OBJECT = IMAGE_MAP_PROJECTION
  ^DATA_SET_MAP_PROJECTION_CATALOG= "DSMAP.CAT"
  A_AXIS_RADIUS = 3396.0
  B_AXIS_RADIUS = 3396.0
  C_AXIS_RADIUS = 3396.0
  CENTER_LATITUDE = 0.0
  CENTER_LONGITUDE = 276.0
  COORDINATE_SYSTEM_NAME = PLANETOGRAPHIC
  COORDINATE_SYSTEM_TYPE = "BODY-FIXED ROTATING"
  EASTERNMOST_LONGITUDE = 277.157
  FIRST_STANDARD_PARALLEL = "N/A"
  LINE_FIRST_PIXEL = 1
  LINE_LAST_PIXEL = 13789
  LINE_PROJECTION_OFFSET = 69519.625
  MAP_PROJECTION_ROTATION = 0.0
  MAP_PROJECTION_TYPE = SINUSOIDAL
  MAP_RESOLUTION = 1185.42760773333
  MAP_SCALE = 0.05
  MAXIMUM_LATITUDE = 58.7132
  MINIMUM_LATITUDE = 47.0085
  POSITIVE_LONGITUDE_DIRECTION = EAST
  REFERENCE_LATITUDE = "N/A"
  REFERENCE_LONGITUDE = "N/A"
  SAMPLE_FIRST_PIXEL = 1
  SAMPLE_LAST_PIXEL = 2293
  SAMPLE_PROJECTION_OFFSET = 1350.125
  SECOND_STANDARD_PARALLEL = "N/A"
  WESTERNMOST_LONGITUDE = 273.82
END_OBJECT = IMAGE_MAP_PROJECTION
END
