PDS_VERSION_ID = PDS3
/* FILE DATA ELEMENTS */
RECORD_TYPE = UNDEFINED
/* POINTERS TO DATA OBJECTS */
^IMAGE = ("H9571_0000_IR4.TIF")
/* IDENTIFICATION DATA ELEMENTS */
DATA_SET_ID = "MEX-M-HRSC-4-REFDR-MAPPROJECT-EXT3-V4.0"
DATA_SET_NAME = "MARS EXPRESS HRSC MAP PROJECTED REFDR EXTENSION3 V4.0"
DETECTOR_ID = MEX_HRSC_IR
EVENT_TYPE = "MARS-LOCAL-MAPPING-Te-Im-Pf"
INSTRUMENT_HOST_ID = MEX
INSTRUMENT_HOST_NAME = "MARS EXPRESS"
INSTRUMENT_ID = HRSC
INSTRUMENT_NAME = "HIGH RESOLUTION STEREO CAMERA"
MISSION_NAME = "MARS EXPRESS"
MISSION_PHASE_NAME = ME_Phase_23
PROCESSING_LEVEL_ID = 4
PRODUCT_CREATION_TIME = 2023-02-04T12:09:02.000Z
PRODUCT_ID = "H9571_0000_IR4.TIF"
RELEASE_ID = 0007
REVISION_ID = 0000
/* QUALITY DATA ELEMENTS */
DATA_QUALITY_ID = 1
DATA_QUALITY_DESC = "Data calculated based on original SPICE kernels"
/* TIME DATA ELEMENTS */
SPACECRAFT_CLOCK_START_COUNT = "1/0257689548.08267"
SPACECRAFT_CLOCK_STOP_COUNT = "1/0257689800.47092"
START_TIME = 2011-07-02T12:25:57.023Z
STOP_TIME = 2011-07-02T12:28:54.456Z
/* ORBITAL DATA ELEMENTS */
ASCENDING_NODE_LONGITUDE = 34.51
MAXIMUM_RESOLUTION = 0.063
FOOTPRINT_POINT_LATITUDE = (55.8102,55.7565,55.6969,55.6086, 55.6063,55.5055,55.1706,54.7237,54.4995 ,54.1632,53.9389,53.6021,53.3773, 53.1526,52.9276,52.7024,52.3643,52.1388 ,51.9131,51.6875,51.4617,51.2358, 51.0097,50.6705,50.4443,50.2183,49.992, 49.7651,49.4246,49.1977,48.8572,48.63, 48.4028,48.062,47.7212,47.3798,47.1521, 46.9245,46.6967,46.469,46.0135,45.6718, 45.4438,45.102,44.8739,44.5319,44.3036, 44.1896,44.1509,44.1917,44.2281,44.2585 ,44.3085,44.3097,44.3112,44.5401, 44.8836,45.2269,45.5699,45.7987,46.0275 ,46.2564,46.4851,46.8281,47.1709, 47.3995,47.6278,47.8565,48.085,48.313, 48.5414,48.7696,48.9977,49.3401,49.5679 ,49.7958,50.0235,50.2512,50.479,50.7066 ,50.9343,51.2748,51.502,51.7292,51.9562 ,52.2964,52.6366,52.8632,53.2027, 53.4291,53.6554,53.8814,54.1073,54.3333 ,54.5589,54.8972,55.2352,55.5726,55.685 ,55.8102)
FOOTPRINT_POINT_LONGITUDE = (119.275,118.602,117.913,116.982, 116.959,116.806,116.874,116.962,117.004 ,117.066,117.107,117.168,117.207, 117.245,117.283,117.321,117.375,117.411 ,117.446,117.481,117.515,117.549, 117.582,117.63,117.662,117.694,117.725, 117.755,117.798,117.827,117.87,117.897, 117.924,117.964,118.004,118.041,118.066 ,118.09,118.114,118.137,118.183,118.216 ,118.238,118.27,118.291,118.321,118.341 ,118.351,118.354,118.807,119.233, 119.615,120.291,120.309,120.315,120.3, 120.276,120.253,120.229,120.213,120.196 ,120.179,120.162,120.137,120.11,120.092 ,120.074,120.056,120.037,120.018, 119.999,119.98,119.96,119.931,119.91, 119.89,119.869,119.848,119.826,119.805, 119.783,119.749,119.726,119.703,119.68, 119.644,119.608,119.583,119.545,119.52, 119.494,119.468,119.441,119.414,119.386 ,119.345,119.302,119.258,119.243, 119.275)
ORBIT_NUMBER = 9571
ORBITAL_ECCENTRICITY = 0.573
ORBITAL_INCLINATION = 86.87
ORBITAL_SEMIMAJOR_AXIS = 8798.25
PERIAPSIS_ALTITUDE = 373.03
PERIAPSIS_ARGUMENT_ANGLE = 125.81
PERIAPSIS_TIME = 2011-07-02T12:26:51.000Z
SPACECRAFT_ORIENTATION = (0.0,-1.0,0.0)
^MEX_ORIENTATION_DESC = "MEX_ORIENTATION_DESC.TXT"
SPACECRAFT_POINTING_MODE = ACROSSTRACK
^MEX_POINTING_DESC = "MEX_POINTING_DESC.TXT"
RIGHT_ASCENSION = -1e+32
DECLINATION = -1e+32
OFFSET_ANGLE = -1.18
SPACECRAFT_SOLAR_DISTANCE = 2.1898e+08
TARGET_NAME = MARS
/* CAMERA DATA ELEMENTS */
DETECTOR_TEMPERATURE = 17.5549
FOCAL_PLANE_TEMPERATURE = 8.5833
INST_CMPRS_NAME = "DISCRETE COSINE TRANSFORMATION (DCT)"
INST_CMPRS_RATIO = 7.65294
INST_CMPRS_QUALITY = 0
INST_CMPRS_QUANTZ_TBL_ID = 0
INSTRUMENT_TEMPERATURE = 11.4379
LENS_TEMPERATURE = 8.7872
MACROPIXEL_SIZE = 4
MISSING_FRAMES = 0
PIXEL_SUBSAMPLING_FLAG = N
SIGNAL_CHAIN_ID = 2
/* RADIOMETRIC DATA ELEMENTS */
BANDWIDTH = 81.0
CENTER_FILTER_WAVELENGTH = 955.5
RADIANCE_OFFSET = 0.78366
RADIANCE_SCALING_FACTOR = 0.00475318
REFLECTANCE_SCALING_FACTOR = 0.000491722
MEX:REFLECTANCE_OFFSET = 0.0810705
/* IMAGE OBJECT DEFINITIONS */
OBJECT = IMAGE
  INTERCHANGE_FORMAT = BINARY
  LINES = 13598
  LINE_SAMPLES = 2610
  SAMPLE_TYPE = UNSIGNED_INTEGER
  SAMPLE_BITS = 8
  BANDS = 1
  BAND_STORAGE_TYPE = BAND_SEQUENTIAL
  MAXIMUM = 255
  MEAN = 81.8814
  MINIMUM = 1
  STANDARD_DEVIATION = 33.3301
END_OBJECT = IMAGE
/* MAP OBJECT DEFINITIONS */
OBJECT = IMAGE_MAP_PROJECTION
  ^DATA_SET_MAP_PROJECTION_CATALOG= "DSMAP.CAT"
  A_AXIS_RADIUS = 3396.0
  B_AXIS_RADIUS = 3396.0
  C_AXIS_RADIUS = 3396.0
  CENTER_LATITUDE = 0.0
  CENTER_LONGITUDE = 119.0
  COORDINATE_SYSTEM_NAME = PLANETOGRAPHIC
  COORDINATE_SYSTEM_TYPE = "BODY-FIXED ROTATING"
  EASTERNMOST_LONGITUDE = 120.315
  FIRST_STANDARD_PARALLEL = "N/A"
  LINE_FIRST_PIXEL = 1
  LINE_LAST_PIXEL = 13598
  LINE_PROJECTION_OFFSET = 66016.375
  MAP_PROJECTION_ROTATION = 0.0
  MAP_PROJECTION_TYPE = SINUSOIDAL
  MAP_RESOLUTION = 1185.42760773333
  MAP_SCALE = 0.05
  MAXIMUM_LATITUDE = 55.8102
  MINIMUM_LATITUDE = 44.1509
  POSITIVE_LONGITUDE_DIRECTION = EAST
  REFERENCE_LATITUDE = "N/A"
  REFERENCE_LONGITUDE = "N/A"
  SAMPLE_FIRST_PIXEL = 1
  SAMPLE_LAST_PIXEL = 2610
  SAMPLE_PROJECTION_OFFSET = 1476.375
  SECOND_STANDARD_PARALLEL = "N/A"
  WESTERNMOST_LONGITUDE = 116.806
END_OBJECT = IMAGE_MAP_PROJECTION
END
