PDS_VERSION_ID = PDS3
/* FILE DATA ELEMENTS */
RECORD_TYPE = UNDEFINED
/* POINTERS TO DATA OBJECTS */
^IMAGE = ("H9568_0000_P14.TIF")
/* IDENTIFICATION DATA ELEMENTS */
DATA_SET_ID = "MEX-M-HRSC-4-REFDR-MAPPROJECT-EXT3-V4.0"
DATA_SET_NAME = "MARS EXPRESS HRSC MAP PROJECTED REFDR EXTENSION3 V4.0"
DETECTOR_ID = MEX_HRSC_P1
EVENT_TYPE = "MARS-REGIONAL-MAPPING-Vo-Te-La"
INSTRUMENT_HOST_ID = MEX
INSTRUMENT_HOST_NAME = "MARS EXPRESS"
INSTRUMENT_ID = HRSC
INSTRUMENT_NAME = "HIGH RESOLUTION STEREO CAMERA"
MISSION_NAME = "MARS EXPRESS"
MISSION_PHASE_NAME = ME_Phase_23
PROCESSING_LEVEL_ID = 4
PRODUCT_CREATION_TIME = 2023-02-04T12:09:02.000Z
PRODUCT_ID = "H9568_0000_P14.TIF"
RELEASE_ID = 0007
REVISION_ID = 0000
/* QUALITY DATA ELEMENTS */
DATA_QUALITY_ID = 1
DATA_QUALITY_DESC = "Data calculated based on original SPICE kernels"
/* TIME DATA ELEMENTS */
SPACECRAFT_CLOCK_START_COUNT = "1/0257614424.08255"
SPACECRAFT_CLOCK_STOP_COUNT = "1/0257614742.07683"
START_TIME = 2011-07-01T15:34:02.183Z
STOP_TIME = 2011-07-01T15:37:03.781Z
/* ORBITAL DATA ELEMENTS */
ASCENDING_NODE_LONGITUDE = 34.56
MAXIMUM_RESOLUTION = 0.0391
FOOTPRINT_POINT_LATITUDE = (28.7577,28.7623,28.7653,28.7681, 28.7687,28.7678,28.7677,28.7534,28.3392 ,28.0272,27.6086,27.1843,26.7595,26.436 ,26.2191,26.0026,25.7865,25.5663, 25.3465,25.1265,24.9072,24.6834,24.3483 ,24.0107,23.784,23.4438,23.0933,22.861, 22.6313,22.2907,21.9453,21.7143,21.484, 21.2543,21.0229,20.7926,20.5626,20.3374 ,20.1101,19.7689,19.4232,19.197,18.9691 ,18.7422,18.5156,18.2887,18.0626, 17.7238,17.611,17.5838,17.5796,17.5758, 17.5694,17.5593,17.5519,17.5455,17.5449 ,17.5453,17.7717,17.9982,18.2252, 18.5657,18.7932,19.1357,19.3653,19.5939 ,19.8175,20.043,20.2722,20.5088,20.7388 ,20.9684,21.1992,21.4298,21.6602, 21.8913,22.1228,22.3537,22.7013,22.934, 23.1632,23.5067,23.7358,23.9641,24.3005 ,24.6372,24.8616,25.1926,25.4133, 25.6344,25.8531,26.0698,26.2871,26.721, 27.1454,27.7826,28.3042,28.6196,28.721, 28.7577)
FOOTPRINT_POINT_LONGITUDE = (69.5079,69.1578,68.8639,68.4064, 67.9507,67.6415,67.6233,67.6127,67.6087 ,67.6056,67.6001,67.595,67.5891,67.5842 ,67.5807,67.5772,67.5737,67.5697, 67.5661,67.5622,67.5584,67.554,67.5478, 67.5403,67.5359,67.529,67.5187,67.5131, 67.5083,67.5022,67.4939,67.4878,67.4818 ,67.4757,67.4689,67.4623,67.4556, 67.4504,67.4443,67.4347,67.423,67.4165, 67.4091,67.402,67.3947,67.3872,67.3797, 67.3683,67.3644,67.3635,67.8149,68.1381 ,68.5051,69.0032,69.3288,69.5685, 69.5903,69.5981,69.5969,69.5957,69.5943 ,69.5926,69.5913,69.5889,69.5867, 69.5854,69.5871,69.588,69.5866,69.5808, 69.5792,69.578,69.5762,69.5747,69.5735, 69.5718,69.5701,69.569,69.5667,69.5647, 69.5651,69.5619,69.5597,69.5582,69.5559 ,69.5534,69.5518,69.5491,69.5474, 69.5454,69.5435,69.5417,69.5396,69.5351 ,69.5323,69.5254,69.5212,69.5169, 69.5166,69.5079)
ORBIT_NUMBER = 9568
ORBITAL_ECCENTRICITY = 0.573
ORBITAL_INCLINATION = 86.89
ORBITAL_SEMIMAJOR_AXIS = 8798.58
PERIAPSIS_ALTITUDE = 372.25
PERIAPSIS_ARGUMENT_ANGLE = 126.33
PERIAPSIS_TIME = 2011-07-01T15:27:57.000Z
SPACECRAFT_ORIENTATION = (0.0,-1.0,0.0)
^MEX_ORIENTATION_DESC = "MEX_ORIENTATION_DESC.TXT"
SPACECRAFT_POINTING_MODE = ACROSSTRACK
^MEX_POINTING_DESC = "MEX_POINTING_DESC.TXT"
RIGHT_ASCENSION = -1e+32
DECLINATION = -1e+32
OFFSET_ANGLE = 0.269
SPACECRAFT_SOLAR_DISTANCE = 2.18819e+08
TARGET_NAME = MARS
/* CAMERA DATA ELEMENTS */
DETECTOR_TEMPERATURE = 17.351
FOCAL_PLANE_TEMPERATURE = 7.9716
INST_CMPRS_NAME = "DISCRETE COSINE TRANSFORMATION (DCT)"
INST_CMPRS_RATIO = 13.1698
INST_CMPRS_QUALITY = 0
INST_CMPRS_QUANTZ_TBL_ID = 0
INSTRUMENT_TEMPERATURE = 11.0301
LENS_TEMPERATURE = 8.5833
MACROPIXEL_SIZE = 2
MISSING_FRAMES = 0
PIXEL_SUBSAMPLING_FLAG = N
SIGNAL_CHAIN_ID = 3
/* RADIOMETRIC DATA ELEMENTS */
BANDWIDTH = 174.0
CENTER_FILTER_WAVELENGTH = 675.0
RADIANCE_OFFSET = 3.90189
RADIANCE_SCALING_FACTOR = 0.0255953
REFLECTANCE_SCALING_FACTOR = 0.000659204
MEX:REFLECTANCE_OFFSET = 0.100493
/* IMAGE OBJECT DEFINITIONS */
OBJECT = IMAGE
  INTERCHANGE_FORMAT = BINARY
  LINES = 13290
  LINE_SAMPLES = 2674
  SAMPLE_TYPE = UNSIGNED_INTEGER
  SAMPLE_BITS = 8
  BANDS = 1
  BAND_STORAGE_TYPE = BAND_SEQUENTIAL
  MAXIMUM = 255
  MEAN = 95.8565
  MINIMUM = 1
  STANDARD_DEVIATION = 43.4219
END_OBJECT = IMAGE
/* MAP OBJECT DEFINITIONS */
OBJECT = IMAGE_MAP_PROJECTION
  ^DATA_SET_MAP_PROJECTION_CATALOG= "DSMAP.CAT"
  A_AXIS_RADIUS = 3396.0
  B_AXIS_RADIUS = 3396.0
  C_AXIS_RADIUS = 3396.0
  CENTER_LATITUDE = 0.0
  CENTER_LONGITUDE = 69.0
  COORDINATE_SYSTEM_NAME = PLANETOGRAPHIC
  COORDINATE_SYSTEM_TYPE = "BODY-FIXED ROTATING"
  EASTERNMOST_LONGITUDE = 69.5981
  FIRST_STANDARD_PARALLEL = "N/A"
  LINE_FIRST_PIXEL = 1
  LINE_LAST_PIXEL = 13290
  LINE_PROJECTION_OFFSET = 34080.75
  MAP_PROJECTION_ROTATION = 0.0
  MAP_PROJECTION_TYPE = SINUSOIDAL
  MAP_RESOLUTION = 1185.42760773333
  MAP_SCALE = 0.05
  MAXIMUM_LATITUDE = 28.7687
  MINIMUM_LATITUDE = 17.5449
  POSITIVE_LONGITUDE_DIRECTION = EAST
  REFERENCE_LATITUDE = "N/A"
  REFERENCE_LONGITUDE = "N/A"
  SAMPLE_FIRST_PIXEL = 1
  SAMPLE_LAST_PIXEL = 2674
  SAMPLE_PROJECTION_OFFSET = 1930.25
  SECOND_STANDARD_PARALLEL = "N/A"
  WESTERNMOST_LONGITUDE = 67.3635
END_OBJECT = IMAGE_MAP_PROJECTION
END
