PDS_VERSION_ID = PDS3
/* FILE DATA ELEMENTS */
RECORD_TYPE = UNDEFINED
/* POINTERS TO DATA OBJECTS */
^IMAGE = ("H9566_0000_IR4.TIF")
/* IDENTIFICATION DATA ELEMENTS */
DATA_SET_ID = "MEX-M-HRSC-4-REFDR-MAPPROJECT-EXT3-V4.0"
DATA_SET_NAME = "MARS EXPRESS HRSC MAP PROJECTED REFDR EXTENSION3 V4.0"
DETECTOR_ID = MEX_HRSC_IR
EVENT_TYPE = "MARS-REGIONAL-MAPPING-Te-Im-Pf"
INSTRUMENT_HOST_ID = MEX
INSTRUMENT_HOST_NAME = "MARS EXPRESS"
INSTRUMENT_ID = HRSC
INSTRUMENT_NAME = "HIGH RESOLUTION STEREO CAMERA"
MISSION_NAME = "MARS EXPRESS"
MISSION_PHASE_NAME = ME_Phase_23
PROCESSING_LEVEL_ID = 4
PRODUCT_CREATION_TIME = 2023-02-04T12:09:02.000Z
PRODUCT_ID = "H9566_0000_IR4.TIF"
RELEASE_ID = 0007
REVISION_ID = 0000
/* QUALITY DATA ELEMENTS */
DATA_QUALITY_ID = 1
DATA_QUALITY_DESC = "Data calculated based on original SPICE kernels"
/* TIME DATA ELEMENTS */
SPACECRAFT_CLOCK_START_COUNT = "1/0257563624.08268"
SPACECRAFT_CLOCK_STOP_COUNT = "1/0257563876.40647"
START_TIME = 2011-07-01T01:27:13.048Z
STOP_TIME = 2011-07-01T01:30:13.259Z
/* ORBITAL DATA ELEMENTS */
ASCENDING_NODE_LONGITUDE = 34.6
MAXIMUM_RESOLUTION = 0.062
FOOTPRINT_POINT_LATITUDE = (57.3614,57.3349,57.3033,57.2731, 57.2721,57.191,56.8508,56.3974,55.9424, 55.7143,55.4867,55.2589,55.031,54.8021, 54.5736,54.3449,54.1157,53.887,53.6577, 53.4283,53.1984,52.9689,52.6241,52.3942 ,52.0495,51.8196,51.5893,51.3585, 51.1282,50.8983,50.5534,50.2058,49.9744 ,49.6274,49.3951,49.1636,48.932,48.6998 ,48.4673,48.1189,47.8863,47.5376,47.305 ,47.0721,46.723,46.4902,46.2572,46.0246 ,45.7917,45.6755,45.6612,45.6747, 45.6885,45.7084,45.7087,45.7098,45.9433 ,46.1772,46.4107,46.6442,46.9944, 47.2278,47.5776,47.9279,48.2772,48.6268 ,48.86,49.2075,49.44,49.6715,50.0198, 50.2521,50.4837,50.7159,51.0636,51.2943 ,51.5256,51.7567,51.9883,52.3345, 52.5657,52.7965,53.1423,53.3726,53.7182 ,53.9486,54.1786,54.4085,54.6383, 54.9826,55.2121,55.5561,55.7853,56.0141 ,56.2426,56.471,56.6994,57.1551,57.2691 ,57.3614)
FOOTPRINT_POINT_LONGITUDE = (272.659,271.797,270.982,270.321, 270.299,270.253,270.309,270.382,270.451 ,270.485,270.518,270.551,270.583, 270.615,270.646,270.676,270.705,270.735 ,270.763,270.792,270.819,270.846, 270.886,270.912,270.95,270.975,270.999, 271.023,271.046,271.069,271.103,271.135 ,271.156,271.187,271.207,271.227, 271.246,271.265,271.283,271.31,271.327, 271.353,271.369,271.386,271.409,271.425 ,271.44,271.454,271.469,271.476,271.477 ,271.88,272.354,273.339,273.357,273.363 ,273.354,273.345,273.336,273.327, 273.313,273.303,273.288,273.273,273.258 ,273.243,273.232,273.217,273.206, 273.195,273.179,273.167,273.156,273.144 ,273.126,273.114,273.102,273.09,273.077 ,273.058,273.044,273.031,273.011, 272.997,272.975,272.961,272.946,272.931 ,272.916,272.893,272.877,272.853, 272.836,272.819,272.803,272.785,272.768 ,272.732,272.723,272.659)
ORBIT_NUMBER = 9566
ORBITAL_ECCENTRICITY = 0.573
ORBITAL_INCLINATION = 86.87
ORBITAL_SEMIMAJOR_AXIS = 8798.43
PERIAPSIS_ALTITUDE = 372.49
PERIAPSIS_ARGUMENT_ANGLE = 126.68
PERIAPSIS_TIME = 2011-07-01T01:28:44.000Z
SPACECRAFT_ORIENTATION = (0.0,-1.0,0.0)
^MEX_ORIENTATION_DESC = "MEX_ORIENTATION_DESC.TXT"
SPACECRAFT_POINTING_MODE = NADIR
^MEX_POINTING_DESC = "MEX_POINTING_DESC.TXT"
RIGHT_ASCENSION = -1e+32
DECLINATION = -1e+32
OFFSET_ANGLE = -1e+32
SPACECRAFT_SOLAR_DISTANCE = 2.18712e+08
TARGET_NAME = MARS
/* CAMERA DATA ELEMENTS */
DETECTOR_TEMPERATURE = 17.351
FOCAL_PLANE_TEMPERATURE = 9.195
INST_CMPRS_NAME = "DISCRETE COSINE TRANSFORMATION (DCT)"
INST_CMPRS_RATIO = 7.22389
INST_CMPRS_QUALITY = 0
INST_CMPRS_QUANTZ_TBL_ID = 0
INSTRUMENT_TEMPERATURE = 10.8262
LENS_TEMPERATURE = 8.5833
MACROPIXEL_SIZE = 4
MISSING_FRAMES = 0
PIXEL_SUBSAMPLING_FLAG = N
SIGNAL_CHAIN_ID = 2
/* RADIOMETRIC DATA ELEMENTS */
BANDWIDTH = 81.0
CENTER_FILTER_WAVELENGTH = 955.5
RADIANCE_OFFSET = 0.60603
RADIANCE_SCALING_FACTOR = 0.00696587
REFLECTANCE_SCALING_FACTOR = 0.000718867
MEX:REFLECTANCE_OFFSET = 0.0625414
/* IMAGE OBJECT DEFINITIONS */
OBJECT = IMAGE
  INTERCHANGE_FORMAT = BINARY
  LINES = 13788
  LINE_SAMPLES = 2257
  SAMPLE_TYPE = UNSIGNED_INTEGER
  SAMPLE_BITS = 8
  BANDS = 1
  BAND_STORAGE_TYPE = BAND_SEQUENTIAL
  MAXIMUM = 255
  MEAN = 75.2815
  MINIMUM = 1
  STANDARD_DEVIATION = 37.1132
END_OBJECT = IMAGE
/* MAP OBJECT DEFINITIONS */
OBJECT = IMAGE_MAP_PROJECTION
  ^DATA_SET_MAP_PROJECTION_CATALOG= "DSMAP.CAT"
  A_AXIS_RADIUS = 3396.0
  B_AXIS_RADIUS = 3396.0
  C_AXIS_RADIUS = 3396.0
  CENTER_LATITUDE = 0.0
  CENTER_LONGITUDE = 272.0
  COORDINATE_SYSTEM_NAME = PLANETOGRAPHIC
  COORDINATE_SYSTEM_TYPE = "BODY-FIXED ROTATING"
  EASTERNMOST_LONGITUDE = 273.363
  FIRST_STANDARD_PARALLEL = "N/A"
  LINE_FIRST_PIXEL = 1
  LINE_LAST_PIXEL = 13788
  LINE_PROJECTION_OFFSET = 67898.625
  MAP_PROJECTION_ROTATION = 0.0
  MAP_PROJECTION_TYPE = SINUSOIDAL
  MAP_RESOLUTION = 1185.42760773333
  MAP_SCALE = 0.05
  MAXIMUM_LATITUDE = 57.3614
  MINIMUM_LATITUDE = 45.6612
  POSITIVE_LONGITUDE_DIRECTION = EAST
  REFERENCE_LATITUDE = "N/A"
  REFERENCE_LONGITUDE = "N/A"
  SAMPLE_FIRST_PIXEL = 1
  SAMPLE_LAST_PIXEL = 2257
  SAMPLE_PROJECTION_OFFSET = 1120.625
  SECOND_STANDARD_PARALLEL = "N/A"
  WESTERNMOST_LONGITUDE = 270.253
END_OBJECT = IMAGE_MAP_PROJECTION
END
