PDS_VERSION_ID = PDS3
/* FILE DATA ELEMENTS */
RECORD_TYPE = UNDEFINED
/* POINTERS TO DATA OBJECTS */
^IMAGE = ("H9565_0000_S24.TIF")
/* IDENTIFICATION DATA ELEMENTS */
DATA_SET_ID = "MEX-M-HRSC-4-REFDR-MAPPROJECT-EXT3-V4.0"
DATA_SET_NAME = "MARS EXPRESS HRSC MAP PROJECTED REFDR EXTENSION3 V4.0"
DETECTOR_ID = MEX_HRSC_S2
EVENT_TYPE = "MARS-REGIONAL-MAPPING-Fl-Pf"
INSTRUMENT_HOST_ID = MEX
INSTRUMENT_HOST_NAME = "MARS EXPRESS"
INSTRUMENT_ID = HRSC
INSTRUMENT_NAME = "HIGH RESOLUTION STEREO CAMERA"
MISSION_NAME = "MARS EXPRESS"
MISSION_PHASE_NAME = ME_Phase_23
PROCESSING_LEVEL_ID = 4
PRODUCT_CREATION_TIME = 2023-02-04T12:09:02.000Z
PRODUCT_ID = "H9565_0000_S24.TIF"
RELEASE_ID = 0007
REVISION_ID = 0000
/* QUALITY DATA ELEMENTS */
DATA_QUALITY_ID = 1
DATA_QUALITY_DESC = "Data calculated based on original SPICE kernels"
/* TIME DATA ELEMENTS */
SPACECRAFT_CLOCK_START_COUNT = "1/0257538490.09041"
SPACECRAFT_CLOCK_STOP_COUNT = "1/0257538707.39896"
START_TIME = 2011-06-30T18:29:21.289Z
STOP_TIME = 2011-06-30T18:31:48.671Z
/* ORBITAL DATA ELEMENTS */
ASCENDING_NODE_LONGITUDE = 34.62
MAXIMUM_RESOLUTION = 0.0322
FOOTPRINT_POINT_LATITUDE = (53.8835,53.8712,53.8596,53.8473, 53.8345,53.8211,53.8035,53.8026,53.9076 ,53.7195,53.5315,53.3434,53.1555, 52.9673,52.7795,52.4978,52.3101,52.1229 ,51.9351,51.7477,51.5606,51.3735, 51.1864,50.9996,50.7193,50.5328,50.3466 ,50.1602,49.9739,49.7876,49.5086, 49.3226,49.1375,48.9521,48.7666,48.4882 ,48.3037,48.1189,47.9345,47.75,47.5653, 47.3801,47.196,46.829,46.3694,46.0033, 45.6374,45.2722,44.7238,44.6325,44.5984 ,44.6066,44.6215,44.6309,44.6393, 44.6529,44.6535,44.6541,45.2039,45.5711 ,45.8467,46.2124,46.3964,46.5815, 46.9492,47.2261,47.5032,47.6879,47.8729 ,48.0579,48.2434,48.4285,48.6144, 48.8929,49.0794,49.2649,49.4511,49.6376 ,49.8239,50.0087,50.1985,50.4844,50.85, 51.0385,51.3208,51.5084,51.6957,51.8832 ,52.0714,52.2593,52.4479,52.6362, 52.9191,53.1079,53.2963,53.485,53.6741, 53.8633,53.9578,53.8835)
FOOTPRINT_POINT_LONGITUDE = (15.7625,15.3823,15.046,14.711,14.3778, 14.0458,13.6321,13.6115,13.5663,13.5863 ,13.6059,13.6253,13.6443,13.6632, 13.6815,13.7086,13.7262,13.7434,13.7606 ,13.7773,13.7937,13.8098,13.8257, 13.8412,13.8641,13.8789,13.8935,13.9078 ,13.9219,13.9358,13.956,13.9693,13.9821 ,13.9947,14.0072,14.0256,14.0374,14.049 ,14.0603,14.0714,14.0825,14.0935,14.104 ,14.1243,14.1488,14.1674,14.1853, 14.2024,14.2272,14.2312,14.2326,14.5172 ,14.9555,15.2808,15.6649,16.1871, 16.2065,16.2135,16.1981,16.1874,16.1791 ,16.1664,16.1604,16.155,16.1421,16.1327 ,16.123,16.1163,16.1096,16.1028,16.096, 16.0889,16.0821,16.0713,16.0644,16.0568 ,16.0493,16.0419,16.0341,16.0253, 16.0194,16.0111,15.9893,15.9818,15.9698 ,15.9613,15.9523,15.9433,15.9345, 15.9254,15.9165,15.9072,15.8932,15.8838 ,15.8738,15.8639,15.854,15.844,15.8389, 15.7625)
ORBIT_NUMBER = 9565
ORBITAL_ECCENTRICITY = 0.573
ORBITAL_INCLINATION = 86.87
ORBITAL_SEMIMAJOR_AXIS = 8796.45
PERIAPSIS_ALTITUDE = 372.9
PERIAPSIS_ARGUMENT_ANGLE = 126.84
PERIAPSIS_TIME = 2011-06-30T18:29:00.000Z
SPACECRAFT_ORIENTATION = (0.0,-1.0,0.0)
^MEX_ORIENTATION_DESC = "MEX_ORIENTATION_DESC.TXT"
SPACECRAFT_POINTING_MODE = ACROSSTRACK
^MEX_POINTING_DESC = "MEX_POINTING_DESC.TXT"
RIGHT_ASCENSION = -1e+32
DECLINATION = -1e+32
OFFSET_ANGLE = 0.3
SPACECRAFT_SOLAR_DISTANCE = 2.18659e+08
TARGET_NAME = MARS
/* CAMERA DATA ELEMENTS */
DETECTOR_TEMPERATURE = 18.7783
FOCAL_PLANE_TEMPERATURE = 8.5833
INST_CMPRS_NAME = "DISCRETE COSINE TRANSFORMATION (DCT)"
INST_CMPRS_RATIO = 10.8449
INST_CMPRS_QUALITY = 0
INST_CMPRS_QUANTZ_TBL_ID = 0
INSTRUMENT_TEMPERATURE = 11.234
LENS_TEMPERATURE = 8.7872
MACROPIXEL_SIZE = 2
MISSING_FRAMES = 0
PIXEL_SUBSAMPLING_FLAG = N
SIGNAL_CHAIN_ID = 1
/* RADIOMETRIC DATA ELEMENTS */
BANDWIDTH = 178.0
CENTER_FILTER_WAVELENGTH = 679.0
RADIANCE_OFFSET = 3.7427
RADIANCE_SCALING_FACTOR = 0.0218563
REFLECTANCE_SCALING_FACTOR = 0.000553405
MEX:REFLECTANCE_OFFSET = 0.0947655
/* IMAGE OBJECT DEFINITIONS */
OBJECT = IMAGE
  INTERCHANGE_FORMAT = BINARY
  LINES = 22208
  LINE_SAMPLES = 3978
  SAMPLE_TYPE = UNSIGNED_INTEGER
  SAMPLE_BITS = 8
  BANDS = 1
  BAND_STORAGE_TYPE = BAND_SEQUENTIAL
  MAXIMUM = 255
  MEAN = 68.252
  MINIMUM = 1
  STANDARD_DEVIATION = 22.3898
END_OBJECT = IMAGE
/* MAP OBJECT DEFINITIONS */
OBJECT = IMAGE_MAP_PROJECTION
  ^DATA_SET_MAP_PROJECTION_CATALOG= "DSMAP.CAT"
  A_AXIS_RADIUS = 3396.0
  B_AXIS_RADIUS = 3396.0
  C_AXIS_RADIUS = 3396.0
  CENTER_LATITUDE = 0.0
  CENTER_LONGITUDE = 15.0
  COORDINATE_SYSTEM_NAME = PLANETOGRAPHIC
  COORDINATE_SYSTEM_TYPE = "BODY-FIXED ROTATING"
  EASTERNMOST_LONGITUDE = 16.2135
  FIRST_STANDARD_PARALLEL = "N/A"
  LINE_FIRST_PIXEL = 1
  LINE_LAST_PIXEL = 22208
  LINE_PROJECTION_OFFSET = 127939.75
  MAP_PROJECTION_ROTATION = 0.0
  MAP_PROJECTION_TYPE = SINUSOIDAL
  MAP_RESOLUTION = 2370.85521546667
  MAP_SCALE = 0.025
  MAXIMUM_LATITUDE = 53.9578
  MINIMUM_LATITUDE = 44.5984
  POSITIVE_LONGITUDE_DIRECTION = EAST
  REFERENCE_LATITUDE = "N/A"
  REFERENCE_LONGITUDE = "N/A"
  SAMPLE_FIRST_PIXEL = 1
  SAMPLE_LAST_PIXEL = 3978
  SAMPLE_PROJECTION_OFFSET = 2000.25
  SECOND_STANDARD_PARALLEL = "N/A"
  WESTERNMOST_LONGITUDE = 13.5663
END_OBJECT = IMAGE_MAP_PROJECTION
END
