PDS_VERSION_ID = PDS3
/* FILE DATA ELEMENTS */
RECORD_TYPE = UNDEFINED
/* POINTERS TO DATA OBJECTS */
^IMAGE = ("H9564_0000_IR4.TIF")
/* IDENTIFICATION DATA ELEMENTS */
DATA_SET_ID = "MEX-M-HRSC-4-REFDR-MAPPROJECT-EXT3-V4.0"
DATA_SET_NAME = "MARS EXPRESS HRSC MAP PROJECTED REFDR EXTENSION3 V4.0"
DETECTOR_ID = MEX_HRSC_IR
EVENT_TYPE = "MARS-REGIONAL-MAPPING-Te-Im-Pf"
INSTRUMENT_HOST_ID = MEX
INSTRUMENT_HOST_NAME = "MARS EXPRESS"
INSTRUMENT_ID = HRSC
INSTRUMENT_NAME = "HIGH RESOLUTION STEREO CAMERA"
MISSION_NAME = "MARS EXPRESS"
MISSION_PHASE_NAME = ME_Phase_23
PROCESSING_LEVEL_ID = 4
PRODUCT_CREATION_TIME = 2023-02-04T12:09:02.000Z
PRODUCT_ID = "H9564_0000_IR4.TIF"
RELEASE_ID = 0007
REVISION_ID = 0000
/* QUALITY DATA ELEMENTS */
DATA_QUALITY_ID = 1
DATA_QUALITY_DESC = "Data calculated based on original SPICE kernels"
/* TIME DATA ELEMENTS */
SPACECRAFT_CLOCK_START_COUNT = "1/0257513181.07280"
SPACECRAFT_CLOCK_STOP_COUNT = "1/0257513512.46948"
START_TIME = 2011-06-30T11:26:30.522Z
STOP_TIME = 2011-06-30T11:30:49.670Z
/* ORBITAL DATA ELEMENTS */
ASCENDING_NODE_LONGITUDE = 34.64
MAXIMUM_RESOLUTION = 0.0626
FOOTPRINT_POINT_LATITUDE = (62.1308,62.0946,62.0521,62.0116, 62.0102,61.9112,61.2731,60.6325,59.9897 ,59.345,59.0219,58.6985,58.3746,57.8876 ,57.5629,57.2368,56.7475,56.4208, 55.9301,55.6027,55.2744,54.946,54.617, 54.288,53.7936,53.4637,53.1333,52.8027, 52.4718,52.1404,51.8089,51.4772,51.1453 ,50.813,50.4805,50.1479,49.815,49.4823, 48.9819,48.6481,48.1472,47.8131,47.4788 ,46.9774,46.4753,45.9729,45.6379, 45.4705,45.4562,45.4729,45.4913,45.5033 ,45.5036,45.5047,46.0086,46.3443, 46.6801,47.0158,47.3513,47.8545,48.1895 ,48.5245,48.8595,49.1942,49.5288, 49.8634,50.1978,50.5311,50.8647,51.365, 51.698,52.0309,52.3637,52.696,53.0282, 53.3601,53.6918,54.0232,54.52,54.8506, 55.1806,55.51,55.8396,56.3329,56.6617, 56.9899,57.3177,57.6452,57.9724,58.2992 ,58.6256,58.9513,59.2766,59.6016, 59.9264,60.5741,61.2201,61.8641,62.0248 ,62.1308)
FOOTPRINT_POINT_LONGITUDE = (116.775,115.732,114.746,113.949, 113.922,113.864,114.021,114.17,114.31, 114.444,114.508,114.57,114.631,114.719, 114.776,114.831,114.911,114.963,115.038 ,115.087,115.134,115.18,115.225,115.268 ,115.331,115.372,115.411,115.45,115.487 ,115.524,115.559,115.594,115.628,115.66 ,115.692,115.723,115.753,115.782, 115.825,115.852,115.891,115.916,115.941 ,115.976,116.01,116.042,116.063,116.073 ,116.074,116.585,117.292,117.947, 117.965,117.971,117.952,117.94,117.927, 117.913,117.9,117.879,117.865,117.851, 117.836,117.82,117.805,117.789,117.772, 117.756,117.739,117.713,117.696,117.677 ,117.659,117.639,117.62,117.6,117.579, 117.559,117.526,117.504,117.481,117.459 ,117.435,117.399,117.374,117.348, 117.322,117.296,117.268,117.24,117.211, 117.182,117.152,117.121,117.09,117.025, 116.956,116.884,116.866,116.775)
ORBIT_NUMBER = 9564
ORBITAL_ECCENTRICITY = 0.573
ORBITAL_INCLINATION = 86.87
ORBITAL_SEMIMAJOR_AXIS = 8800.67
PERIAPSIS_ALTITUDE = 372.16
PERIAPSIS_ARGUMENT_ANGLE = 127.01
PERIAPSIS_TIME = 2011-06-30T11:29:22.000Z
SPACECRAFT_ORIENTATION = (0.0,-1.0,0.0)
^MEX_ORIENTATION_DESC = "MEX_ORIENTATION_DESC.TXT"
SPACECRAFT_POINTING_MODE = NADIR
^MEX_POINTING_DESC = "MEX_POINTING_DESC.TXT"
RIGHT_ASCENSION = -1e+32
DECLINATION = -1e+32
OFFSET_ANGLE = -1e+32
SPACECRAFT_SOLAR_DISTANCE = 2.18606e+08
TARGET_NAME = MARS
/* CAMERA DATA ELEMENTS */
DETECTOR_TEMPERATURE = 17.7588
FOCAL_PLANE_TEMPERATURE = 9.8067
INST_CMPRS_NAME = "DISCRETE COSINE TRANSFORMATION (DCT)"
INST_CMPRS_RATIO = 8.00714
INST_CMPRS_QUALITY = 0
INST_CMPRS_QUANTZ_TBL_ID = 0
INSTRUMENT_TEMPERATURE = 11.4379
LENS_TEMPERATURE = 10.0106
MACROPIXEL_SIZE = 4
MISSING_FRAMES = 0
PIXEL_SUBSAMPLING_FLAG = N
SIGNAL_CHAIN_ID = 2
/* RADIOMETRIC DATA ELEMENTS */
BANDWIDTH = 81.0
CENTER_FILTER_WAVELENGTH = 955.5
RADIANCE_OFFSET = 0.553786
RADIANCE_SCALING_FACTOR = 0.00295025
REFLECTANCE_SCALING_FACTOR = 0.000304165
MEX:REFLECTANCE_OFFSET = 0.0570942
/* IMAGE OBJECT DEFINITIONS */
OBJECT = IMAGE
  INTERCHANGE_FORMAT = BINARY
  LINES = 19641
  LINE_SAMPLES = 2826
  SAMPLE_TYPE = UNSIGNED_INTEGER
  SAMPLE_BITS = 8
  BANDS = 1
  BAND_STORAGE_TYPE = BAND_SEQUENTIAL
  MAXIMUM = 255
  MEAN = 131.173
  MINIMUM = 1
  STANDARD_DEVIATION = 46.4518
END_OBJECT = IMAGE
/* MAP OBJECT DEFINITIONS */
OBJECT = IMAGE_MAP_PROJECTION
  ^DATA_SET_MAP_PROJECTION_CATALOG= "DSMAP.CAT"
  A_AXIS_RADIUS = 3396.0
  B_AXIS_RADIUS = 3396.0
  C_AXIS_RADIUS = 3396.0
  CENTER_LATITUDE = 0.0
  CENTER_LONGITUDE = 116.0
  COORDINATE_SYSTEM_NAME = PLANETOGRAPHIC
  COORDINATE_SYSTEM_TYPE = "BODY-FIXED ROTATING"
  EASTERNMOST_LONGITUDE = 117.971
  FIRST_STANDARD_PARALLEL = "N/A"
  LINE_FIRST_PIXEL = 1
  LINE_LAST_PIXEL = 19641
  LINE_PROJECTION_OFFSET = 73552.375
  MAP_PROJECTION_ROTATION = 0.0
  MAP_PROJECTION_TYPE = SINUSOIDAL
  MAP_RESOLUTION = 1185.42760773333
  MAP_SCALE = 0.05
  MAXIMUM_LATITUDE = 62.1308
  MINIMUM_LATITUDE = 45.4562
  POSITIVE_LONGITUDE_DIRECTION = EAST
  REFERENCE_LATITUDE = "N/A"
  REFERENCE_LONGITUDE = "N/A"
  SAMPLE_FIRST_PIXEL = 1
  SAMPLE_LAST_PIXEL = 2826
  SAMPLE_PROJECTION_OFFSET = 1183.625
  SECOND_STANDARD_PARALLEL = "N/A"
  WESTERNMOST_LONGITUDE = 113.864
END_OBJECT = IMAGE_MAP_PROJECTION
END
