PDS_VERSION_ID = PDS3
/* FILE DATA ELEMENTS */
RECORD_TYPE = UNDEFINED
/* POINTERS TO DATA OBJECTS */
^IMAGE = ("H9561_0000_IR4.TIF")
/* IDENTIFICATION DATA ELEMENTS */
DATA_SET_ID = "MEX-M-HRSC-4-REFDR-MAPPROJECT-EXT3-V4.0"
DATA_SET_NAME = "MARS EXPRESS HRSC MAP PROJECTED REFDR EXTENSION3 V4.0"
DETECTOR_ID = MEX_HRSC_IR
EVENT_TYPE = "MARS-REGIONAL-MAPPING-Te-Fl-Mw"
INSTRUMENT_HOST_ID = MEX
INSTRUMENT_HOST_NAME = "MARS EXPRESS"
INSTRUMENT_ID = HRSC
INSTRUMENT_NAME = "HIGH RESOLUTION STEREO CAMERA"
MISSION_NAME = "MARS EXPRESS"
MISSION_PHASE_NAME = ME_Phase_23
PROCESSING_LEVEL_ID = 4
PRODUCT_CREATION_TIME = 2023-02-04T12:09:02.000Z
PRODUCT_ID = "H9561_0000_IR4.TIF"
RELEASE_ID = 0007
REVISION_ID = 0000
/* QUALITY DATA ELEMENTS */
DATA_QUALITY_ID = 1
DATA_QUALITY_DESC = "Data calculated based on original SPICE kernels"
/* TIME DATA ELEMENTS */
SPACECRAFT_CLOCK_START_COUNT = "1/0257437970.09043"
SPACECRAFT_CLOCK_STOP_COUNT = "1/0257438213.54932"
START_TIME = 2011-06-29T14:32:59.130Z
STOP_TIME = 2011-06-29T14:35:32.663Z
/* ORBITAL DATA ELEMENTS */
ASCENDING_NODE_LONGITUDE = 34.69
MAXIMUM_RESOLUTION = 0.0649
FOOTPRINT_POINT_LATITUDE = (41.0258,41.0172,41.0107,41.0048, 40.9917,40.9912,40.9377,40.6497,40.3597 ,40.1672,39.7842,39.5908,39.2064, 39.0139,38.8218,38.6295,38.3415,38.1495 ,37.7677,37.5751,37.1923,36.8092, 36.5217,36.2303,36.0353,35.8425,35.6481 ,35.4487,35.1584,34.9578,34.7645, 34.5649,34.3679,34.1661,33.9695,33.7675 ,33.4679,33.2668,33.0651,32.8611, 32.6584,32.4541,32.2478,32.0391,31.8323 ,31.6304,31.4258,31.2109,31.1053, 31.0262,31.0311,31.0436,31.0452,31.0461 ,31.0447,31.0446,31.0458,31.2546, 31.5703,31.8798,32.086,32.2899,32.6005, 32.8069,33.1077,33.3065,33.5069,33.8109 ,34.1112,34.3137,34.5113,34.7076, 34.9048,35.1027,35.2996,35.4972,35.6971 ,35.99,36.2822,36.4746,36.7625,37.1466, 37.3391,37.627,37.8198,38.1093,38.3016, 38.495,38.7816,39.0704,39.2632,39.4568, 39.8415,40.0341,40.2265,40.419,40.6119, 40.8056,40.9028,41.0258)
FOOTPRINT_POINT_LONGITUDE = (64.9267,64.2899,63.9471,63.6861, 63.1963,63.18,63.153,63.1638,63.1732, 63.1797,63.1931,63.1987,63.2105,63.2161 ,63.2216,63.2269,63.2348,63.2399, 63.2505,63.2548,63.2641,63.2726,63.2786 ,63.2825,63.2847,63.2882,63.2925, 63.2947,63.3013,63.3025,63.3067,63.3081 ,63.3104,63.3114,63.3158,63.3178, 63.3219,63.3239,63.3254,63.3259,63.3278 ,63.33,63.3312,63.3313,63.332,63.3345, 63.3358,63.3345,63.3347,63.3346,63.6877 ,64.1266,64.379,64.7157,65.1203,65.1371 ,65.1427,65.1409,65.1354,65.1309,65.128 ,65.1262,65.1212,65.118,65.1141,65.1122 ,65.1096,65.1042,65.1005,65.0964, 65.0927,65.0896,65.0862,65.0823,65.0789 ,65.0752,65.0703,65.0653,65.058,65.0542 ,65.0488,65.0414,65.0374,65.0318, 65.0276,65.0211,65.017,65.0124,65.0071, 65.0005,64.996,64.9911,64.9822,64.9776, 64.9731,64.9684,64.9634,64.9581,64.9552 ,64.9267)
ORBIT_NUMBER = 9561
ORBITAL_ECCENTRICITY = 0.573
ORBITAL_INCLINATION = 86.89
ORBITAL_SEMIMAJOR_AXIS = 8800.44
PERIAPSIS_ALTITUDE = 371.68
PERIAPSIS_ARGUMENT_ANGLE = 127.54
PERIAPSIS_TIME = 2011-06-29T14:30:30.000Z
SPACECRAFT_ORIENTATION = (0.0,-1.0,0.0)
^MEX_ORIENTATION_DESC = "MEX_ORIENTATION_DESC.TXT"
SPACECRAFT_POINTING_MODE = NADIR
^MEX_POINTING_DESC = "MEX_POINTING_DESC.TXT"
RIGHT_ASCENSION = -1e+32
DECLINATION = -1e+32
OFFSET_ANGLE = -1e+32
SPACECRAFT_SOLAR_DISTANCE = 2.18447e+08
TARGET_NAME = MARS
/* CAMERA DATA ELEMENTS */
DETECTOR_TEMPERATURE = 17.7588
FOCAL_PLANE_TEMPERATURE = 8.5833
INST_CMPRS_NAME = "DISCRETE COSINE TRANSFORMATION (DCT)"
INST_CMPRS_RATIO = 7.94459
INST_CMPRS_QUALITY = 0
INST_CMPRS_QUANTZ_TBL_ID = 0
INSTRUMENT_TEMPERATURE = 11.234
LENS_TEMPERATURE = 8.9911
MACROPIXEL_SIZE = 4
MISSING_FRAMES = 0
PIXEL_SUBSAMPLING_FLAG = N
SIGNAL_CHAIN_ID = 2
/* RADIOMETRIC DATA ELEMENTS */
BANDWIDTH = 81.0
CENTER_FILTER_WAVELENGTH = 955.5
RADIANCE_OFFSET = 0.911914
RADIANCE_SCALING_FACTOR = 0.00646859
REFLECTANCE_SCALING_FACTOR = 0.000665932
MEX:REFLECTANCE_OFFSET = 0.0938801
/* IMAGE OBJECT DEFINITIONS */
OBJECT = IMAGE
  INTERCHANGE_FORMAT = BINARY
  LINES = 11803
  LINE_SAMPLES = 1976
  SAMPLE_TYPE = UNSIGNED_INTEGER
  SAMPLE_BITS = 8
  BANDS = 1
  BAND_STORAGE_TYPE = BAND_SEQUENTIAL
  MAXIMUM = 255
  MEAN = 134.764
  MINIMUM = 1
  STANDARD_DEVIATION = 33.8144
END_OBJECT = IMAGE
/* MAP OBJECT DEFINITIONS */
OBJECT = IMAGE_MAP_PROJECTION
  ^DATA_SET_MAP_PROJECTION_CATALOG= "DSMAP.CAT"
  A_AXIS_RADIUS = 3396.0
  B_AXIS_RADIUS = 3396.0
  C_AXIS_RADIUS = 3396.0
  CENTER_LATITUDE = 0.0
  CENTER_LONGITUDE = 64.0
  COORDINATE_SYSTEM_NAME = PLANETOGRAPHIC
  COORDINATE_SYSTEM_TYPE = "BODY-FIXED ROTATING"
  EASTERNMOST_LONGITUDE = 65.1427
  FIRST_STANDARD_PARALLEL = "N/A"
  LINE_FIRST_PIXEL = 1
  LINE_LAST_PIXEL = 11803
  LINE_PROJECTION_OFFSET = 48579.625
  MAP_PROJECTION_ROTATION = 0.0
  MAP_PROJECTION_TYPE = SINUSOIDAL
  MAP_RESOLUTION = 1185.42760773333
  MAP_SCALE = 0.05
  MAXIMUM_LATITUDE = 41.0258
  MINIMUM_LATITUDE = 31.0262
  POSITIVE_LONGITUDE_DIRECTION = EAST
  REFERENCE_LATITUDE = "N/A"
  REFERENCE_LONGITUDE = "N/A"
  SAMPLE_FIRST_PIXEL = 1
  SAMPLE_LAST_PIXEL = 1976
  SAMPLE_PROJECTION_OFFSET = 782.375
  SECOND_STANDARD_PARALLEL = "N/A"
  WESTERNMOST_LONGITUDE = 63.153
END_OBJECT = IMAGE_MAP_PROJECTION
END
