PDS_VERSION_ID = PDS3
/* FILE DATA ELEMENTS */
RECORD_TYPE = UNDEFINED
/* POINTERS TO DATA OBJECTS */
^IMAGE = ("H9545_0000_IR4.TIF")
/* IDENTIFICATION DATA ELEMENTS */
DATA_SET_ID = "MEX-M-HRSC-4-REFDR-MAPPROJECT-EXT3-V4.0"
DATA_SET_NAME = "MARS EXPRESS HRSC MAP PROJECTED REFDR EXTENSION3 V4.0"
DETECTOR_ID = MEX_HRSC_IR
EVENT_TYPE = "MARS-REGIONAL-MAPPING-Vo-Te"
INSTRUMENT_HOST_ID = MEX
INSTRUMENT_HOST_NAME = "MARS EXPRESS"
INSTRUMENT_ID = HRSC
INSTRUMENT_NAME = "HIGH RESOLUTION STEREO CAMERA"
MISSION_NAME = "MARS EXPRESS"
MISSION_PHASE_NAME = ME_Phase_23
PROCESSING_LEVEL_ID = 4
PRODUCT_CREATION_TIME = 2023-02-04T12:09:02.000Z
PRODUCT_ID = "H9545_0000_IR4.TIF"
RELEASE_ID = 0007
REVISION_ID = 0000
/* QUALITY DATA ELEMENTS */
DATA_QUALITY_ID = 1
DATA_QUALITY_DESC = "Data calculated based on original SPICE kernels"
/* TIME DATA ELEMENTS */
SPACECRAFT_CLOCK_START_COUNT = "1/0257034874.09067"
SPACECRAFT_CLOCK_STOP_COUNT = "1/0257035095.42063"
START_TIME = 2011-06-24T22:34:43.389Z
STOP_TIME = 2011-06-24T22:37:14.164Z
/* ORBITAL DATA ELEMENTS */
ASCENDING_NODE_LONGITUDE = 35.0
MAXIMUM_RESOLUTION = 0.0616
FOOTPRINT_POINT_LATITUDE = (54.4414,54.4335,54.4189,54.4042, 54.3918,54.3655,54.3646,54.2927,54.0885 ,53.8833,53.6791,53.4742,53.2691,52.961 ,52.7555,52.5496,52.2409,52.0348,51.829 ,51.6225,51.4163,51.2095,50.8993, 50.6922,50.4854,50.2778,50.0705,49.8631 ,49.5516,49.3437,48.9887,48.6402, 48.3779,48.2028,47.8542,47.592,47.4172, 47.155,46.9797,46.8044,46.4546,46.2791, 46.1025,45.8401,45.6645,45.4014,45.1379 ,44.8696,44.7644,44.6727,44.6835, 44.6981,44.7089,44.7146,44.7149,44.716, 45.0174,45.1934,45.3696,45.634,45.8101, 46.0745,46.2508,46.4268,46.6904,46.8664 ,47.042,47.3047,47.4801,47.6556,47.9186 ,48.2691,48.4451,48.6209,48.9702, 49.1462,49.3212,49.5217,49.7301,49.9385 ,50.1469,50.355,50.6668,50.9784,51.1862 ,51.3942,51.6015,51.912,52.1192,52.3264 ,52.5327,52.7396,53.0492,53.2556, 53.4617,53.6678,53.9762,54.1818,54.2845 ,54.4414)
FOOTPRINT_POINT_LONGITUDE = (260.868,260.559,260.066,259.635, 259.307,258.691,258.671,258.631,258.659 ,258.686,258.713,258.739,258.765, 258.803,258.828,258.852,258.888,258.911 ,258.935,258.957,258.98,259.001,259.034 ,259.055,259.075,259.095,259.115, 259.135,259.164,259.183,259.214,259.244 ,259.266,259.28,259.308,259.328,259.342 ,259.362,259.374,259.387,259.412, 259.424,259.436,259.453,259.465,259.482 ,259.498,259.515,259.521,259.526,259.88 ,260.439,260.947,261.32,261.337,261.343 ,261.333,261.328,261.322,261.313, 261.307,261.298,261.292,261.285,261.276 ,261.27,261.263,261.254,261.247,261.241 ,261.231,261.217,261.21,261.202,261.188 ,261.18,261.173,261.164,261.155,261.146 ,261.136,261.127,261.113,261.098, 261.088,261.078,261.067,261.052,261.042 ,261.031,261.02,261.009,260.992,260.981 ,260.969,260.958,260.94,260.928,260.922 ,260.868)
ORBIT_NUMBER = 9545
ORBITAL_ECCENTRICITY = 0.574
ORBITAL_INCLINATION = 86.87
ORBITAL_SEMIMAJOR_AXIS = 8806.06
PERIAPSIS_ALTITUDE = 370.23
PERIAPSIS_ARGUMENT_ANGLE = 130.3
PERIAPSIS_TIME = 2011-06-24T22:36:25.000Z
SPACECRAFT_ORIENTATION = (0.0,-1.0,0.0)
^MEX_ORIENTATION_DESC = "MEX_ORIENTATION_DESC.TXT"
SPACECRAFT_POINTING_MODE = NADIR
^MEX_POINTING_DESC = "MEX_POINTING_DESC.TXT"
RIGHT_ASCENSION = -1e+32
DECLINATION = -1e+32
OFFSET_ANGLE = -1e+32
SPACECRAFT_SOLAR_DISTANCE = 2.17606e+08
TARGET_NAME = MARS
/* CAMERA DATA ELEMENTS */
DETECTOR_TEMPERATURE = 17.5549
FOCAL_PLANE_TEMPERATURE = 8.5833
INST_CMPRS_NAME = "DISCRETE COSINE TRANSFORMATION (DCT)"
INST_CMPRS_RATIO = 7.22708
INST_CMPRS_QUALITY = 0
INST_CMPRS_QUANTZ_TBL_ID = 0
INSTRUMENT_TEMPERATURE = 11.6418
LENS_TEMPERATURE = 8.9911
MACROPIXEL_SIZE = 4
MISSING_FRAMES = 0
PIXEL_SUBSAMPLING_FLAG = N
SIGNAL_CHAIN_ID = 2
/* RADIOMETRIC DATA ELEMENTS */
BANDWIDTH = 81.0
CENTER_FILTER_WAVELENGTH = 955.5
RADIANCE_OFFSET = 0.689621
RADIANCE_SCALING_FACTOR = 0.00356489
REFLECTANCE_SCALING_FACTOR = 0.000364179
MEX:REFLECTANCE_OFFSET = 0.0704497
/* IMAGE OBJECT DEFINITIONS */
OBJECT = IMAGE
  INTERCHANGE_FORMAT = BINARY
  LINES = 11513
  LINE_SAMPLES = 2079
  SAMPLE_TYPE = UNSIGNED_INTEGER
  SAMPLE_BITS = 8
  BANDS = 1
  BAND_STORAGE_TYPE = BAND_SEQUENTIAL
  MAXIMUM = 255
  MEAN = 103.07
  MINIMUM = 1
  STANDARD_DEVIATION = 47.5722
END_OBJECT = IMAGE
/* MAP OBJECT DEFINITIONS */
OBJECT = IMAGE_MAP_PROJECTION
  ^DATA_SET_MAP_PROJECTION_CATALOG= "DSMAP.CAT"
  A_AXIS_RADIUS = 3396.0
  B_AXIS_RADIUS = 3396.0
  C_AXIS_RADIUS = 3396.0
  CENTER_LATITUDE = 0.0
  CENTER_LONGITUDE = 260.0
  COORDINATE_SYSTEM_NAME = PLANETOGRAPHIC
  COORDINATE_SYSTEM_TYPE = "BODY-FIXED ROTATING"
  EASTERNMOST_LONGITUDE = 261.343
  FIRST_STANDARD_PARALLEL = "N/A"
  LINE_FIRST_PIXEL = 1
  LINE_LAST_PIXEL = 11513
  LINE_PROJECTION_OFFSET = 64459.125
  MAP_PROJECTION_ROTATION = 0.0
  MAP_PROJECTION_TYPE = SINUSOIDAL
  MAP_RESOLUTION = 1185.42760773333
  MAP_SCALE = 0.05
  MAXIMUM_LATITUDE = 54.4414
  MINIMUM_LATITUDE = 44.6727
  POSITIVE_LONGITUDE_DIRECTION = EAST
  REFERENCE_LATITUDE = "N/A"
  REFERENCE_LONGITUDE = "N/A"
  SAMPLE_FIRST_PIXEL = 1
  SAMPLE_LAST_PIXEL = 2079
  SAMPLE_PROJECTION_OFFSET = 944.625
  SECOND_STANDARD_PARALLEL = "N/A"
  WESTERNMOST_LONGITUDE = 258.631
END_OBJECT = IMAGE_MAP_PROJECTION
END
