PDS_VERSION_ID = PDS3
/* FILE DATA ELEMENTS */
RECORD_TYPE = UNDEFINED
/* POINTERS TO DATA OBJECTS */
^IMAGE = ("H9542_0000_P24.TIF")
/* IDENTIFICATION DATA ELEMENTS */
DATA_SET_ID = "MEX-M-HRSC-4-REFDR-MAPPROJECT-EXT3-V4.0"
DATA_SET_NAME = "MARS EXPRESS HRSC MAP PROJECTED REFDR EXTENSION3 V4.0"
DETECTOR_ID = MEX_HRSC_P2
EVENT_TYPE = "MARS-REGIONAL-MAPPING-Vo-Im-Lc"
INSTRUMENT_HOST_ID = MEX
INSTRUMENT_HOST_NAME = "MARS EXPRESS"
INSTRUMENT_ID = HRSC
INSTRUMENT_NAME = "HIGH RESOLUTION STEREO CAMERA"
MISSION_NAME = "MARS EXPRESS"
MISSION_PHASE_NAME = ME_Phase_23
PROCESSING_LEVEL_ID = 4
PRODUCT_CREATION_TIME = 2023-02-04T12:09:02.000Z
PRODUCT_ID = "H9542_0000_P24.TIF"
RELEASE_ID = 0007
REVISION_ID = 0000
/* QUALITY DATA ELEMENTS */
DATA_QUALITY_ID = 1
DATA_QUALITY_DESC = "Data calculated based on original SPICE kernels"
/* TIME DATA ELEMENTS */
SPACECRAFT_CLOCK_START_COUNT = "1/0256959620.08235"
SPACECRAFT_CLOCK_STOP_COUNT = "1/0256959869.14773"
START_TIME = 2011-06-24T01:41:25.307Z
STOP_TIME = 2011-06-24T01:44:11.884Z
/* ORBITAL DATA ELEMENTS */
ASCENDING_NODE_LONGITUDE = 35.05
MAXIMUM_RESOLUTION = 0.0346
FOOTPRINT_POINT_LATITUDE = (35.3035,35.3052,35.3066,35.3076, 35.3083,35.3086,35.3083,35.3083,35.3534 ,34.9851,34.6174,34.3357,33.9597, 33.5845,33.2101,32.7324,32.3503,31.9691 ,31.7758,31.5811,31.3865,31.1922, 30.9982,30.8044,30.6083,30.4103,30.2125 ,30.015,29.8178,29.6208,29.4197,29.2186 ,29.0177,28.8172,28.617,28.3112,28.107, 27.9031,27.6996,27.39,27.183,26.9755, 26.7689,26.4544,26.244,26.0339,25.8241, 25.6104,25.5036,25.4772,25.4714,25.467, 25.4623,25.4574,25.4522,25.4468,25.4465 ,25.4469,25.6612,25.874,26.0844,26.2953 ,26.5064,26.7166,26.9238,27.1314, 27.3393,27.6503,27.8543,28.0588,28.3659 ,28.5706,28.7713,28.9723,29.1737, 29.3752,29.6761,29.8737,30.0715,30.2697 ,30.468,30.7644,30.9587,31.1531,31.3479 ,31.5429,31.7381,31.9325,32.3145, 32.5059,32.6977,32.8896,33.1772,33.4587 ,33.8343,34.2113,34.6805,35.2334, 35.3259,35.3035)
FOOTPRINT_POINT_LONGITUDE = (207.739,207.468,207.197,206.923, 206.648,206.371,205.986,205.969,205.915 ,205.924,205.933,205.939,205.947, 205.954,205.961,205.969,205.975,205.98, 205.983,205.985,205.987,205.989,205.991 ,205.993,205.995,205.996,205.998, 205.999,206.0,206.002,206.003,206.003, 206.004,206.005,206.005,206.006,206.006 ,206.006,206.006,206.005,206.004, 206.004,206.003,206.002,206.001,206.0, 205.999,205.997,205.996,205.996,206.426 ,206.736,207.045,207.352,207.657, 207.961,207.98,207.987,207.982,207.978, 207.974,207.969,207.965,207.96,207.956, 207.952,207.947,207.94,207.936,207.931, 207.924,207.92,207.915,207.911,207.906, 207.901,207.894,207.89,207.885,207.88, 207.875,207.868,207.863,207.858,207.853 ,207.848,207.843,207.838,207.828, 207.823,207.818,207.813,207.805,207.797 ,207.786,207.776,207.762,207.745, 207.742,207.739)
ORBIT_NUMBER = 9542
ORBITAL_ECCENTRICITY = 0.573
ORBITAL_INCLINATION = 86.88
ORBITAL_SEMIMAJOR_AXIS = 8799.78
PERIAPSIS_ALTITUDE = 370.01
PERIAPSIS_ARGUMENT_ANGLE = 130.82
PERIAPSIS_TIME = 2011-06-24T01:37:24.000Z
SPACECRAFT_ORIENTATION = (0.0,-1.0,0.0)
^MEX_ORIENTATION_DESC = "MEX_ORIENTATION_DESC.TXT"
SPACECRAFT_POINTING_MODE = ACROSSTRACK
^MEX_POINTING_DESC = "MEX_POINTING_DESC.TXT"
RIGHT_ASCENSION = -1e+32
DECLINATION = -1e+32
OFFSET_ANGLE = -0.6
SPACECRAFT_SOLAR_DISTANCE = 2.1745e+08
TARGET_NAME = MARS
/* CAMERA DATA ELEMENTS */
DETECTOR_TEMPERATURE = 18.5744
FOCAL_PLANE_TEMPERATURE = 8.3794
INST_CMPRS_NAME = "DISCRETE COSINE TRANSFORMATION (DCT)"
INST_CMPRS_RATIO = 6.41115
INST_CMPRS_QUALITY = 0
INST_CMPRS_QUANTZ_TBL_ID = 0
INSTRUMENT_TEMPERATURE = 11.234
LENS_TEMPERATURE = 8.7872
MACROPIXEL_SIZE = 2
MISSING_FRAMES = 0
PIXEL_SUBSAMPLING_FLAG = N
SIGNAL_CHAIN_ID = 3
/* RADIOMETRIC DATA ELEMENTS */
BANDWIDTH = 177.0
CENTER_FILTER_WAVELENGTH = 676.5
RADIANCE_OFFSET = 6.00198
RADIANCE_SCALING_FACTOR = 0.0185159
REFLECTANCE_SCALING_FACTOR = 0.000464221
MEX:REFLECTANCE_OFFSET = 0.150478
/* IMAGE OBJECT DEFINITIONS */
OBJECT = IMAGE
  INTERCHANGE_FORMAT = BINARY
  LINES = 23519
  LINE_SAMPLES = 4065
  SAMPLE_TYPE = UNSIGNED_INTEGER
  SAMPLE_BITS = 8
  BANDS = 1
  BAND_STORAGE_TYPE = BAND_SEQUENTIAL
  MAXIMUM = 255
  MEAN = 111.315
  MINIMUM = 1
  STANDARD_DEVIATION = 38.6988
END_OBJECT = IMAGE
/* MAP OBJECT DEFINITIONS */
OBJECT = IMAGE_MAP_PROJECTION
  ^DATA_SET_MAP_PROJECTION_CATALOG= "DSMAP.CAT"
  A_AXIS_RADIUS = 3396.0
  B_AXIS_RADIUS = 3396.0
  C_AXIS_RADIUS = 3396.0
  CENTER_LATITUDE = 0.0
  CENTER_LONGITUDE = 207.0
  COORDINATE_SYSTEM_NAME = PLANETOGRAPHIC
  COORDINATE_SYSTEM_TYPE = "BODY-FIXED ROTATING"
  EASTERNMOST_LONGITUDE = 207.987
  FIRST_STANDARD_PARALLEL = "N/A"
  LINE_FIRST_PIXEL = 1
  LINE_LAST_PIXEL = 23519
  LINE_PROJECTION_OFFSET = 83834.25
  MAP_PROJECTION_ROTATION = 0.0
  MAP_PROJECTION_TYPE = SINUSOIDAL
  MAP_RESOLUTION = 2370.85521546667
  MAP_SCALE = 0.025
  MAXIMUM_LATITUDE = 35.3534
  MINIMUM_LATITUDE = 25.4465
  POSITIVE_LONGITUDE_DIRECTION = EAST
  REFERENCE_LATITUDE = "N/A"
  REFERENCE_LONGITUDE = "N/A"
  SAMPLE_FIRST_PIXEL = 1
  SAMPLE_LAST_PIXEL = 4065
  SAMPLE_PROJECTION_OFFSET = 2047.75
  SECOND_STANDARD_PARALLEL = "N/A"
  WESTERNMOST_LONGITUDE = 205.915
END_OBJECT = IMAGE_MAP_PROJECTION
END
