PDS_VERSION_ID = PDS3
/* FILE DATA ELEMENTS */
RECORD_TYPE = UNDEFINED
/* POINTERS TO DATA OBJECTS */
^IMAGE = ("H9528_0000_P24.TIF")
/* IDENTIFICATION DATA ELEMENTS */
DATA_SET_ID = "MEX-M-HRSC-4-REFDR-MAPPROJECT-EXT3-V4.0"
DATA_SET_NAME = "MARS EXPRESS HRSC MAP PROJECTED REFDR EXTENSION3 V4.0"
DETECTOR_ID = MEX_HRSC_P2
EVENT_TYPE = "MARS-REGIONAL-MAPPING-Vo-Pf"
INSTRUMENT_HOST_ID = MEX
INSTRUMENT_HOST_NAME = "MARS EXPRESS"
INSTRUMENT_ID = HRSC
INSTRUMENT_NAME = "HIGH RESOLUTION STEREO CAMERA"
MISSION_NAME = "MARS EXPRESS"
MISSION_PHASE_NAME = ME_Phase_23
PROCESSING_LEVEL_ID = 4
PRODUCT_CREATION_TIME = 2023-02-04T12:09:02.000Z
PRODUCT_ID = "H9528_0000_P24.TIF"
RELEASE_ID = 0007
REVISION_ID = 0000
/* QUALITY DATA ELEMENTS */
DATA_QUALITY_ID = 1
DATA_QUALITY_DESC = "Data calculated based on original SPICE kernels"
/* TIME DATA ELEMENTS */
SPACECRAFT_CLOCK_START_COUNT = "1/0256607091.08394"
SPACECRAFT_CLOCK_STOP_COUNT = "1/0256607411.15973"
START_TIME = 2011-06-19T23:45:53.943Z
STOP_TIME = 2011-06-19T23:49:52.757Z
/* ORBITAL DATA ELEMENTS */
ASCENDING_NODE_LONGITUDE = 35.32
MAXIMUM_RESOLUTION = 0.0671
FOOTPRINT_POINT_LATITUDE = (34.8144,34.8111,34.8051,34.7979, 34.7977,34.842,34.3116,33.7825,33.2549, 32.8514,32.3122,31.7745,31.2269,30.9525 ,30.405,29.9875,29.7082,29.4293,29.1509 ,28.8683,28.584,28.3002,28.017,27.73, 27.4409,27.1525,26.8645,26.4245,26.1312 ,25.8385,25.5402,25.242,24.9446,24.648, 24.3516,24.056,23.7613,23.4672,23.1737, 22.8809,22.5889,22.2976,22.0069,21.7169 ,21.4275,21.139,20.8511,20.7074,20.7011 ,20.6995,20.6975,20.694,20.6909,20.6877 ,20.6875,20.6885,20.9767,21.2656, 21.5552,21.8456,22.1366,22.4283,22.7207 ,23.0138,23.3076,23.6021,23.8972,24.193 ,24.4895,24.7867,25.0844,25.3829,25.682 ,26.1249,26.5659,26.8598,27.1484, 27.4375,27.7272,28.0149,28.2987,28.5831 ,28.868,29.1513,29.4303,29.7097,29.9896 ,30.408,30.6822,30.9566,31.2316,31.7805 ,32.3192,32.8594,33.2639,33.7927, 34.3228,34.7212,34.8543,34.8144)
FOOTPRINT_POINT_LONGITUDE = (200.465,199.993,199.364,198.797, 198.781,198.752,198.76,198.767,198.773, 198.777,198.782,198.785,198.788,198.789 ,198.791,198.792,198.792,198.792, 198.791,198.791,198.79,198.789,198.788, 198.787,198.785,198.783,198.781,198.778 ,198.775,198.772,198.769,198.765, 198.762,198.758,198.754,198.75,198.745, 198.741,198.736,198.731,198.726,198.72, 198.715,198.709,198.703,198.697,198.691 ,198.687,198.687,198.985,199.303, 199.825,200.255,200.666,200.685,200.691 ,200.688,200.684,200.681,200.677, 200.674,200.67,200.667,200.663,200.659, 200.656,200.652,200.648,200.645,200.641 ,200.637,200.633,200.629,200.624, 200.618,200.614,200.61,200.606,200.602, 200.598,200.594,200.59,200.586,200.582, 200.578,200.574,200.57,200.564,200.559, 200.555,200.551,200.542,200.534,200.525 ,200.518,200.509,200.5,200.492,200.49, 200.465)
ORBIT_NUMBER = 9528
ORBITAL_ECCENTRICITY = 0.574
ORBITAL_INCLINATION = 86.88
ORBITAL_SEMIMAJOR_AXIS = 8803.13
PERIAPSIS_ALTITUDE = 368.68
PERIAPSIS_ARGUMENT_ANGLE = 133.25
PERIAPSIS_TIME = 2011-06-19T23:42:24.000Z
SPACECRAFT_ORIENTATION = (0.0,-1.0,0.0)
^MEX_ORIENTATION_DESC = "MEX_ORIENTATION_DESC.TXT"
SPACECRAFT_POINTING_MODE = NADIR
^MEX_POINTING_DESC = "MEX_POINTING_DESC.TXT"
RIGHT_ASCENSION = -1e+32
DECLINATION = -1e+32
OFFSET_ANGLE = -1e+32
SPACECRAFT_SOLAR_DISTANCE = 2.16732e+08
TARGET_NAME = MARS
/* CAMERA DATA ELEMENTS */
DETECTOR_TEMPERATURE = 18.7783
FOCAL_PLANE_TEMPERATURE = 8.5833
INST_CMPRS_NAME = "DISCRETE COSINE TRANSFORMATION (DCT)"
INST_CMPRS_RATIO = 10.9565
INST_CMPRS_QUALITY = 0
INST_CMPRS_QUANTZ_TBL_ID = 0
INSTRUMENT_TEMPERATURE = 10.2145
LENS_TEMPERATURE = 9.6028
MACROPIXEL_SIZE = 4
MISSING_FRAMES = 0
PIXEL_SUBSAMPLING_FLAG = N
SIGNAL_CHAIN_ID = 3
/* RADIOMETRIC DATA ELEMENTS */
BANDWIDTH = 177.0
CENTER_FILTER_WAVELENGTH = 676.5
RADIANCE_OFFSET = 5.92933
RADIANCE_SCALING_FACTOR = 0.016767
REFLECTANCE_SCALING_FACTOR = 0.000417598
MEX:REFLECTANCE_OFFSET = 0.147676
/* IMAGE OBJECT DEFINITIONS */
OBJECT = IMAGE
  INTERCHANGE_FORMAT = BINARY
  LINES = 16806
  LINE_SAMPLES = 2118
  SAMPLE_TYPE = UNSIGNED_INTEGER
  SAMPLE_BITS = 8
  BANDS = 1
  BAND_STORAGE_TYPE = BAND_SEQUENTIAL
  MAXIMUM = 255
  MEAN = 114.678
  MINIMUM = 1
  STANDARD_DEVIATION = 38.723
END_OBJECT = IMAGE
/* MAP OBJECT DEFINITIONS */
OBJECT = IMAGE_MAP_PROJECTION
  ^DATA_SET_MAP_PROJECTION_CATALOG= "DSMAP.CAT"
  A_AXIS_RADIUS = 3396.0
  B_AXIS_RADIUS = 3396.0
  C_AXIS_RADIUS = 3396.0
  CENTER_LATITUDE = 0.0
  CENTER_LONGITUDE = 200.0
  COORDINATE_SYSTEM_NAME = PLANETOGRAPHIC
  COORDINATE_SYSTEM_TYPE = "BODY-FIXED ROTATING"
  EASTERNMOST_LONGITUDE = 200.691
  FIRST_STANDARD_PARALLEL = "N/A"
  LINE_FIRST_PIXEL = 1
  LINE_LAST_PIXEL = 16806
  LINE_PROJECTION_OFFSET = 41314.375
  MAP_PROJECTION_ROTATION = 0.0
  MAP_PROJECTION_TYPE = SINUSOIDAL
  MAP_RESOLUTION = 1185.42760773333
  MAP_SCALE = 0.05
  MAXIMUM_LATITUDE = 34.8543
  MINIMUM_LATITUDE = 20.6875
  POSITIVE_LONGITUDE_DIRECTION = EAST
  REFERENCE_LATITUDE = "N/A"
  REFERENCE_LONGITUDE = "N/A"
  SAMPLE_FIRST_PIXEL = 1
  SAMPLE_LAST_PIXEL = 2118
  SAMPLE_PROJECTION_OFFSET = 1408.125
  SECOND_STANDARD_PARALLEL = "N/A"
  WESTERNMOST_LONGITUDE = 198.687
END_OBJECT = IMAGE_MAP_PROJECTION
END
