PDS_VERSION_ID = PDS3
/* FILE DATA ELEMENTS */
RECORD_TYPE = UNDEFINED
/* POINTERS TO DATA OBJECTS */
^IMAGE = ("H9528_0000_IR4.TIF")
/* IDENTIFICATION DATA ELEMENTS */
DATA_SET_ID = "MEX-M-HRSC-4-REFDR-MAPPROJECT-EXT3-V4.0"
DATA_SET_NAME = "MARS EXPRESS HRSC MAP PROJECTED REFDR EXTENSION3 V4.0"
DETECTOR_ID = MEX_HRSC_IR
EVENT_TYPE = "MARS-REGIONAL-MAPPING-Vo-Pf"
INSTRUMENT_HOST_ID = MEX
INSTRUMENT_HOST_NAME = "MARS EXPRESS"
INSTRUMENT_ID = HRSC
INSTRUMENT_NAME = "HIGH RESOLUTION STEREO CAMERA"
MISSION_NAME = "MARS EXPRESS"
MISSION_PHASE_NAME = ME_Phase_23
PROCESSING_LEVEL_ID = 4
PRODUCT_CREATION_TIME = 2023-02-04T12:09:02.000Z
PRODUCT_ID = "H9528_0000_IR4.TIF"
RELEASE_ID = 0007
REVISION_ID = 0000
/* QUALITY DATA ELEMENTS */
DATA_QUALITY_ID = 1
DATA_QUALITY_DESC = "Data calculated based on original SPICE kernels"
/* TIME DATA ELEMENTS */
SPACECRAFT_CLOCK_START_COUNT = "1/0256607091.08394"
SPACECRAFT_CLOCK_STOP_COUNT = "1/0256607411.15973"
START_TIME = 2011-06-19T23:45:00.140Z
STOP_TIME = 2011-06-19T23:48:39.765Z
/* ORBITAL DATA ELEMENTS */
ASCENDING_NODE_LONGITUDE = 35.32
MAXIMUM_RESOLUTION = 0.0652
FOOTPRINT_POINT_LATITUDE = (34.8821,34.8778,34.87,34.8611,34.8607, 34.8046,34.4017,33.9989,33.7303,33.3277 ,33.0592,32.5225,32.12,31.4495,31.0474, 30.3775,29.8421,29.437,29.1623,28.7503, 28.3386,28.0643,27.7851,27.5037,27.2226 ,26.8011,26.5203,26.2324,25.9447, 25.6571,25.3698,25.0798,24.7857,24.4916 ,24.1978,23.9031,23.6027,23.3023, 23.0024,22.7005,22.3937,22.0873,21.7809 ,21.4701,21.1574,20.8448,20.6886, 20.6577,20.6598,20.6595,20.6562,20.6533 ,20.6531,20.6542,20.9672,21.2804, 21.7494,22.0562,22.3632,22.8232,23.1237 ,23.4246,23.7255,24.025,24.3192,24.6137 ,24.9083,25.203,25.4908,25.7789,26.067, 26.3554,26.6409,26.9223,27.2039,27.4855 ,27.7673,28.0477,28.3226,28.735,29.0101 ,29.2853,29.6952,30.0976,30.5001, 30.7685,31.0369,31.3055,31.7084,31.9771 ,32.3802,32.6491,33.0524,33.3214, 33.7248,33.9938,34.3973,34.6665,34.8011 ,34.8821)
FOOTPRINT_POINT_LONGITUDE = (200.43,199.843,199.286,198.834,198.819 ,198.792,198.8,198.806,198.811,198.817, 198.82,198.827,198.832,198.838,198.841, 198.846,198.848,198.85,198.851,198.851, 198.852,198.852,198.851,198.851,198.85, 198.849,198.848,198.846,198.845,198.843 ,198.841,198.839,198.837,198.834, 198.831,198.828,198.825,198.822,198.818 ,198.814,198.81,198.806,198.801,198.797 ,198.792,198.786,198.784,198.783, 199.273,199.781,200.289,200.577,200.594 ,200.599,200.597,200.595,200.592,200.59 ,200.587,200.584,200.582,200.58,200.577 ,200.575,200.572,200.57,200.568,200.565 ,200.563,200.56,200.558,200.555,200.552 ,200.55,200.547,200.544,200.542,200.539 ,200.536,200.532,200.529,200.526, 200.522,200.517,200.512,200.509,200.506 ,200.503,200.498,200.495,200.489, 200.486,200.481,200.477,200.471,200.467 ,200.462,200.458,200.455,200.43)
ORBIT_NUMBER = 9528
ORBITAL_ECCENTRICITY = 0.574
ORBITAL_INCLINATION = 86.88
ORBITAL_SEMIMAJOR_AXIS = 8803.13
PERIAPSIS_ALTITUDE = 368.68
PERIAPSIS_ARGUMENT_ANGLE = 133.25
PERIAPSIS_TIME = 2011-06-19T23:42:24.000Z
SPACECRAFT_ORIENTATION = (0.0,-1.0,0.0)
^MEX_ORIENTATION_DESC = "MEX_ORIENTATION_DESC.TXT"
SPACECRAFT_POINTING_MODE = NADIR
^MEX_POINTING_DESC = "MEX_POINTING_DESC.TXT"
RIGHT_ASCENSION = -1e+32
DECLINATION = -1e+32
OFFSET_ANGLE = -1e+32
SPACECRAFT_SOLAR_DISTANCE = 2.16732e+08
TARGET_NAME = MARS
/* CAMERA DATA ELEMENTS */
DETECTOR_TEMPERATURE = 17.5549
FOCAL_PLANE_TEMPERATURE = 8.5833
INST_CMPRS_NAME = "DISCRETE COSINE TRANSFORMATION (DCT)"
INST_CMPRS_RATIO = 9.8501
INST_CMPRS_QUALITY = 0
INST_CMPRS_QUANTZ_TBL_ID = 0
INSTRUMENT_TEMPERATURE = 10.2145
LENS_TEMPERATURE = 9.6028
MACROPIXEL_SIZE = 4
MISSING_FRAMES = 0
PIXEL_SUBSAMPLING_FLAG = N
SIGNAL_CHAIN_ID = 2
/* RADIOMETRIC DATA ELEMENTS */
BANDWIDTH = 81.0
CENTER_FILTER_WAVELENGTH = 955.5
RADIANCE_OFFSET = 1.53703
RADIANCE_SCALING_FACTOR = 0.00509649
REFLECTANCE_SCALING_FACTOR = 0.000516476
MEX:REFLECTANCE_OFFSET = 0.155762
/* IMAGE OBJECT DEFINITIONS */
OBJECT = IMAGE
  INTERCHANGE_FORMAT = BINARY
  LINES = 16806
  LINE_SAMPLES = 2118
  SAMPLE_TYPE = UNSIGNED_INTEGER
  SAMPLE_BITS = 8
  BANDS = 1
  BAND_STORAGE_TYPE = BAND_SEQUENTIAL
  MAXIMUM = 255
  MEAN = 109.876
  MINIMUM = 1
  STANDARD_DEVIATION = 36.9106
END_OBJECT = IMAGE
/* MAP OBJECT DEFINITIONS */
OBJECT = IMAGE_MAP_PROJECTION
  ^DATA_SET_MAP_PROJECTION_CATALOG= "DSMAP.CAT"
  A_AXIS_RADIUS = 3396.0
  B_AXIS_RADIUS = 3396.0
  C_AXIS_RADIUS = 3396.0
  CENTER_LATITUDE = 0.0
  CENTER_LONGITUDE = 200.0
  COORDINATE_SYSTEM_NAME = PLANETOGRAPHIC
  COORDINATE_SYSTEM_TYPE = "BODY-FIXED ROTATING"
  EASTERNMOST_LONGITUDE = 200.599
  FIRST_STANDARD_PARALLEL = "N/A"
  LINE_FIRST_PIXEL = 1
  LINE_LAST_PIXEL = 16806
  LINE_PROJECTION_OFFSET = 41314.375
  MAP_PROJECTION_ROTATION = 0.0
  MAP_PROJECTION_TYPE = SINUSOIDAL
  MAP_RESOLUTION = 1185.42760773333
  MAP_SCALE = 0.05
  MAXIMUM_LATITUDE = 34.8821
  MINIMUM_LATITUDE = 20.6531
  POSITIVE_LONGITUDE_DIRECTION = EAST
  REFERENCE_LATITUDE = "N/A"
  REFERENCE_LONGITUDE = "N/A"
  SAMPLE_FIRST_PIXEL = 1
  SAMPLE_LAST_PIXEL = 2118
  SAMPLE_PROJECTION_OFFSET = 1408.125
  SECOND_STANDARD_PARALLEL = "N/A"
  WESTERNMOST_LONGITUDE = 198.783
END_OBJECT = IMAGE_MAP_PROJECTION
END
