PDS_VERSION_ID = PDS3
/* FILE DATA ELEMENTS */
RECORD_TYPE = UNDEFINED
/* POINTERS TO DATA OBJECTS */
^IMAGE = ("H9527_0000_S14.TIF")
/* IDENTIFICATION DATA ELEMENTS */
DATA_SET_ID = "MEX-M-HRSC-4-REFDR-MAPPROJECT-EXT3-V4.0"
DATA_SET_NAME = "MARS EXPRESS HRSC MAP PROJECTED REFDR EXTENSION3 V4.0"
DETECTOR_ID = MEX_HRSC_S1
EVENT_TYPE = "MARS-REGIONAL-MAPPING-Vo-Im-Fl"
INSTRUMENT_HOST_ID = MEX
INSTRUMENT_HOST_NAME = "MARS EXPRESS"
INSTRUMENT_ID = HRSC
INSTRUMENT_NAME = "HIGH RESOLUTION STEREO CAMERA"
MISSION_NAME = "MARS EXPRESS"
MISSION_PHASE_NAME = ME_Phase_23
PROCESSING_LEVEL_ID = 4
PRODUCT_CREATION_TIME = 2023-02-04T12:09:02.000Z
PRODUCT_ID = "H9527_0000_S14.TIF"
RELEASE_ID = 0007
REVISION_ID = 0000
/* QUALITY DATA ELEMENTS */
DATA_QUALITY_ID = 1
DATA_QUALITY_DESC = "Data calculated based on original SPICE kernels"
/* TIME DATA ELEMENTS */
SPACECRAFT_CLOCK_START_COUNT = "1/0256581782.09141"
SPACECRAFT_CLOCK_STOP_COUNT = "1/0256582099.39167"
START_TIME = 2011-06-19T16:43:05.135Z
STOP_TIME = 2011-06-19T16:46:58.814Z
/* ORBITAL DATA ELEMENTS */
ASCENDING_NODE_LONGITUDE = 35.34
MAXIMUM_RESOLUTION = 0.0313
FOOTPRINT_POINT_LATITUDE = (43.4888,43.4785,43.4636,43.4488, 43.4482,43.3817,42.857,42.3335,41.8074, 41.5435,41.0167,40.7521,40.4869,40.2226 ,39.9324,39.6164,39.3014,38.9856, 38.6698,38.1959,37.8801,37.5625,37.0888 ,36.7766,36.301,35.9836,35.6661,35.1911 ,34.8745,34.5575,34.0825,33.7659, 33.4494,33.1324,32.8162,32.342,32.0261, 31.7093,31.3932,30.9061,30.5883,30.27, 29.951,29.6318,29.319,29.0044,28.6819, 28.3557,28.1973,28.1942,28.2084,28.2103 ,28.2119,28.21,28.2099,28.2104,28.5331, 28.8482,29.1707,29.4839,29.9616,30.2809 ,30.5985,30.9163,31.2338,31.5549, 32.0399,32.356,32.674,32.9905,33.3074, 33.7848,34.1038,34.4192,34.7362,35.0542 ,35.5306,35.8478,36.1654,36.6413, 36.9581,37.4313,37.7478,38.064,38.3804, 38.8555,39.1728,39.4879,39.8042,40.2538 ,40.7825,41.0466,41.3112,41.5761, 41.8406,42.1048,42.764,43.2899,43.4207, 43.4888)
FOOTPRINT_POINT_LONGITUDE = (302.513,301.909,301.29,300.804,300.787 ,300.758,300.786,300.814,300.84,300.852 ,300.875,300.886,300.897,300.908, 300.919,300.931,300.942,300.954,300.964 ,300.98,300.99,300.999,301.012,301.022, 301.034,301.042,301.049,301.059,301.065 ,301.071,301.08,301.085,301.091,301.095 ,301.1,301.106,301.11,301.113,301.117, 301.117,301.119,301.12,301.121,301.122, 301.124,301.126,301.128,301.128,301.129 ,301.129,301.613,301.934,302.368, 302.771,302.787,302.793,302.79,302.791, 302.788,302.786,302.78,302.776,302.772, 302.768,302.764,302.759,302.75,302.747, 302.743,302.739,302.735,302.728,302.723 ,302.719,302.715,302.71,302.702,302.697 ,302.692,302.684,302.679,302.672, 302.666,302.661,302.655,302.646,302.639 ,302.633,302.627,302.617,302.606,302.6, 302.594,302.588,302.582,302.575,302.559 ,302.546,302.543,302.513)
ORBIT_NUMBER = 9527
ORBITAL_ECCENTRICITY = 0.574
ORBITAL_INCLINATION = 86.87
ORBITAL_SEMIMAJOR_AXIS = 8805.6
PERIAPSIS_ALTITUDE = 368.76
PERIAPSIS_ARGUMENT_ANGLE = 133.45
PERIAPSIS_TIME = 2011-06-19T16:42:50.000Z
SPACECRAFT_ORIENTATION = (0.0,-1.0,0.0)
^MEX_ORIENTATION_DESC = "MEX_ORIENTATION_DESC.TXT"
SPACECRAFT_POINTING_MODE = NADIR
^MEX_POINTING_DESC = "MEX_POINTING_DESC.TXT"
RIGHT_ASCENSION = -1e+32
DECLINATION = -1e+32
OFFSET_ANGLE = -1e+32
SPACECRAFT_SOLAR_DISTANCE = 2.16682e+08
TARGET_NAME = MARS
/* CAMERA DATA ELEMENTS */
DETECTOR_TEMPERATURE = 17.5549
FOCAL_PLANE_TEMPERATURE = 8.7872
INST_CMPRS_NAME = "DISCRETE COSINE TRANSFORMATION (DCT)"
INST_CMPRS_RATIO = 8.86819
INST_CMPRS_QUALITY = 0
INST_CMPRS_QUANTZ_TBL_ID = 0
INSTRUMENT_TEMPERATURE = 11.4379
LENS_TEMPERATURE = 9.195
MACROPIXEL_SIZE = 2
MISSING_FRAMES = 0
PIXEL_SUBSAMPLING_FLAG = N
SIGNAL_CHAIN_ID = 1
/* RADIOMETRIC DATA ELEMENTS */
BANDWIDTH = 180.0
CENTER_FILTER_WAVELENGTH = 677.0
RADIANCE_OFFSET = 4.02726
RADIANCE_SCALING_FACTOR = 0.0235349
REFLECTANCE_SCALING_FACTOR = 0.000576498
MEX:REFLECTANCE_OFFSET = 0.0986495
/* IMAGE OBJECT DEFINITIONS */
OBJECT = IMAGE
  INTERCHANGE_FORMAT = BINARY
  LINES = 36056
  LINE_SAMPLES = 3863
  SAMPLE_TYPE = UNSIGNED_INTEGER
  SAMPLE_BITS = 8
  BANDS = 1
  BAND_STORAGE_TYPE = BAND_SEQUENTIAL
  MAXIMUM = 255
  MEAN = 88.7252
  MINIMUM = 1
  STANDARD_DEVIATION = 32.4553
END_OBJECT = IMAGE
/* MAP OBJECT DEFINITIONS */
OBJECT = IMAGE_MAP_PROJECTION
  ^DATA_SET_MAP_PROJECTION_CATALOG= "DSMAP.CAT"
  A_AXIS_RADIUS = 3396.0
  B_AXIS_RADIUS = 3396.0
  C_AXIS_RADIUS = 3396.0
  CENTER_LATITUDE = 0.0
  CENTER_LONGITUDE = 302.0
  COORDINATE_SYSTEM_NAME = PLANETOGRAPHIC
  COORDINATE_SYSTEM_TYPE = "BODY-FIXED ROTATING"
  EASTERNMOST_LONGITUDE = 302.793
  FIRST_STANDARD_PARALLEL = "N/A"
  LINE_FIRST_PIXEL = 1
  LINE_LAST_PIXEL = 36056
  LINE_PROJECTION_OFFSET = 102947.25
  MAP_PROJECTION_ROTATION = 0.0
  MAP_PROJECTION_TYPE = SINUSOIDAL
  MAP_RESOLUTION = 2370.85521546667
  MAP_SCALE = 0.025
  MAXIMUM_LATITUDE = 43.4888
  MINIMUM_LATITUDE = 28.1942
  POSITIVE_LONGITUDE_DIRECTION = EAST
  REFERENCE_LATITUDE = "N/A"
  REFERENCE_LONGITUDE = "N/A"
  SAMPLE_FIRST_PIXEL = 1
  SAMPLE_LAST_PIXEL = 3863
  SAMPLE_PROJECTION_OFFSET = 2151.75
  SECOND_STANDARD_PARALLEL = "N/A"
  WESTERNMOST_LONGITUDE = 300.758
END_OBJECT = IMAGE_MAP_PROJECTION
END
