PDS_VERSION_ID = PDS3
/* FILE DATA ELEMENTS */
RECORD_TYPE = UNDEFINED
/* POINTERS TO DATA OBJECTS */
^IMAGE = ("H9526_0000_P24.TIF")
/* IDENTIFICATION DATA ELEMENTS */
DATA_SET_ID = "MEX-M-HRSC-4-REFDR-MAPPROJECT-EXT3-V4.0"
DATA_SET_NAME = "MARS EXPRESS HRSC MAP PROJECTED REFDR EXTENSION3 V4.0"
DETECTOR_ID = MEX_HRSC_P2
EVENT_TYPE = "MARS-REGIONAL-MAPPING-Im-Fl-Mw"
INSTRUMENT_HOST_ID = MEX
INSTRUMENT_HOST_NAME = "MARS EXPRESS"
INSTRUMENT_ID = HRSC
INSTRUMENT_NAME = "HIGH RESOLUTION STEREO CAMERA"
MISSION_NAME = "MARS EXPRESS"
MISSION_PHASE_NAME = ME_Phase_23
PROCESSING_LEVEL_ID = 4
PRODUCT_CREATION_TIME = 2023-02-04T12:09:02.000Z
PRODUCT_ID = "H9526_0000_P24.TIF"
RELEASE_ID = 0007
REVISION_ID = 0000
/* QUALITY DATA ELEMENTS */
DATA_QUALITY_ID = 1
DATA_QUALITY_DESC = "Data calculated based on original SPICE kernels"
/* TIME DATA ELEMENTS */
SPACECRAFT_CLOCK_START_COUNT = "1/0256556632.08259"
SPACECRAFT_CLOCK_STOP_COUNT = "1/0256556881.49654"
START_TIME = 2011-06-19T09:44:51.209Z
STOP_TIME = 2011-06-19T09:47:48.137Z
/* ORBITAL DATA ELEMENTS */
ASCENDING_NODE_LONGITUDE = 35.36
MAXIMUM_RESOLUTION = 0.0624
FOOTPRINT_POINT_LATITUDE = (41.1637,41.1529,41.1308,41.1304, 41.1705,40.9473,40.7229,40.4976,40.2677 ,40.0429,39.819,39.595,39.2604,39.0368, 38.8116,38.5881,38.3655,38.033,37.8111, 37.4809,37.2568,37.0357,36.7045,36.4837 ,36.2639,36.0428,35.8227,35.6021, 35.3823,35.1625,34.8341,34.6151,34.3962 ,34.1772,33.8505,33.6327,33.3064, 32.9809,32.7636,32.5472,32.3309,32.1146 ,31.8988,31.6827,31.4665,31.1441, 30.7144,30.2857,30.1791,30.1734,30.1766 ,30.1805,30.1856,30.1891,30.1892, 30.1901,30.5119,30.9413,31.4797,31.6954 ,31.9116,32.1281,32.4527,32.6694, 32.8862,33.213,33.4304,33.6484,33.866, 34.0848,34.3029,34.5218,34.7409,34.9601 ,35.2907,35.511,35.7299,35.9498,36.1705 ,36.3917,36.6129,36.8346,37.056,37.278, 37.5001,37.7223,37.9442,38.2807,38.5072 ,38.8433,39.2933,39.516,39.7401,39.9648 ,40.1897,40.5249,40.8647,41.0965, 41.2093,41.1637)
FOOTPRINT_POINT_LONGITUDE = (45.014,44.3601,43.328,43.3121,43.2858, 43.2936,43.302,43.3108,43.3219,43.3301, 43.3377,43.3452,43.3556,43.3625,43.3703 ,43.377,43.3832,43.3916,43.3971,43.404, 43.4105,43.4154,43.4223,43.4268,43.4308 ,43.4353,43.4393,43.4435,43.4471, 43.4508,43.4556,43.4587,43.4617,43.4647 ,43.4683,43.4706,43.4739,43.4767, 43.4787,43.4802,43.4817,43.4831,43.4843 ,43.4856,43.4869,43.488,43.4893,43.4901 ,43.49,43.49,43.8622,44.3328,44.6914, 45.2145,45.2309,45.2364,45.232,45.2258, 45.2179,45.2147,45.2116,45.2084,45.2032 ,45.1997,45.1961,45.1913,45.1876,45.184 ,45.18,45.1766,45.1726,45.1688,45.1651, 45.1611,45.156,45.1523,45.1476,45.1433, 45.1392,45.1354,45.1313,45.1274,45.1231 ,45.1191,45.1149,45.1105,45.1058, 45.1008,45.0986,45.0926,45.0853,45.0798 ,45.0751,45.0706,45.0661,45.0575, 45.0516,45.0509,45.0485,45.014)
ORBIT_NUMBER = 9526
ORBITAL_ECCENTRICITY = 0.574
ORBITAL_INCLINATION = 86.87
ORBITAL_SEMIMAJOR_AXIS = 8810.41
PERIAPSIS_ALTITUDE = 368.58
PERIAPSIS_ARGUMENT_ANGLE = 133.61
PERIAPSIS_TIME = 2011-06-19T09:43:09.000Z
SPACECRAFT_ORIENTATION = (0.0,-1.0,0.0)
^MEX_ORIENTATION_DESC = "MEX_ORIENTATION_DESC.TXT"
SPACECRAFT_POINTING_MODE = ACROSSTRACK
^MEX_POINTING_DESC = "MEX_POINTING_DESC.TXT"
RIGHT_ASCENSION = -1e+32
DECLINATION = -1e+32
OFFSET_ANGLE = 0.1
SPACECRAFT_SOLAR_DISTANCE = 2.16631e+08
TARGET_NAME = MARS
/* CAMERA DATA ELEMENTS */
DETECTOR_TEMPERATURE = 18.7783
FOCAL_PLANE_TEMPERATURE = 8.9911
INST_CMPRS_NAME = "DISCRETE COSINE TRANSFORMATION (DCT)"
INST_CMPRS_RATIO = 7.22954
INST_CMPRS_QUALITY = 0
INST_CMPRS_QUANTZ_TBL_ID = 0
INSTRUMENT_TEMPERATURE = 11.234
LENS_TEMPERATURE = 9.195
MACROPIXEL_SIZE = 4
MISSING_FRAMES = 0
PIXEL_SUBSAMPLING_FLAG = N
SIGNAL_CHAIN_ID = 3
/* RADIOMETRIC DATA ELEMENTS */
BANDWIDTH = 177.0
CENTER_FILTER_WAVELENGTH = 676.5
RADIANCE_OFFSET = 2.87795
RADIANCE_SCALING_FACTOR = 0.0238889
REFLECTANCE_SCALING_FACTOR = 0.00059442
MEX:REFLECTANCE_OFFSET = 0.0716112
/* IMAGE OBJECT DEFINITIONS */
OBJECT = IMAGE
  INTERCHANGE_FORMAT = BINARY
  LINES = 13073
  LINE_SAMPLES = 1871
  SAMPLE_TYPE = UNSIGNED_INTEGER
  SAMPLE_BITS = 8
  BANDS = 1
  BAND_STORAGE_TYPE = BAND_SEQUENTIAL
  MAXIMUM = 255
  MEAN = 149.429
  MINIMUM = 1
  STANDARD_DEVIATION = 37.9432
END_OBJECT = IMAGE
/* MAP OBJECT DEFINITIONS */
OBJECT = IMAGE_MAP_PROJECTION
  ^DATA_SET_MAP_PROJECTION_CATALOG= "DSMAP.CAT"
  A_AXIS_RADIUS = 3396.0
  B_AXIS_RADIUS = 3396.0
  C_AXIS_RADIUS = 3396.0
  CENTER_LATITUDE = 0.0
  CENTER_LONGITUDE = 44.0
  COORDINATE_SYSTEM_NAME = PLANETOGRAPHIC
  COORDINATE_SYSTEM_TYPE = "BODY-FIXED ROTATING"
  EASTERNMOST_LONGITUDE = 45.2364
  FIRST_STANDARD_PARALLEL = "N/A"
  LINE_FIRST_PIXEL = 1
  LINE_LAST_PIXEL = 13073
  LINE_PROJECTION_OFFSET = 48844.375
  MAP_PROJECTION_ROTATION = 0.0
  MAP_PROJECTION_TYPE = SINUSOIDAL
  MAP_RESOLUTION = 1185.42760773333
  MAP_SCALE = 0.05
  MAXIMUM_LATITUDE = 41.2093
  MINIMUM_LATITUDE = 30.1734
  POSITIVE_LONGITUDE_DIRECTION = EAST
  REFERENCE_LATITUDE = "N/A"
  REFERENCE_LONGITUDE = "N/A"
  SAMPLE_FIRST_PIXEL = 1
  SAMPLE_LAST_PIXEL = 1871
  SAMPLE_PROJECTION_OFFSET = 632.625
  SECOND_STANDARD_PARALLEL = "N/A"
  WESTERNMOST_LONGITUDE = 43.2858
END_OBJECT = IMAGE_MAP_PROJECTION
END
