PDS_VERSION_ID = PDS3
/* FILE DATA ELEMENTS */
RECORD_TYPE = UNDEFINED
/* POINTERS TO DATA OBJECTS */
^IMAGE = ("H9520_0000_ND4.TIF")
/* IDENTIFICATION DATA ELEMENTS */
DATA_SET_ID = "MEX-M-HRSC-4-REFDR-MAPPROJECT-EXT3-V4.0"
DATA_SET_NAME = "MARS EXPRESS HRSC MAP PROJECTED REFDR EXTENSION3 V4.0"
DETECTOR_ID = MEX_HRSC_NADIR
EVENT_TYPE = "MARS-REGIONAL-MAPPING-Vo-Te-Fl"
INSTRUMENT_HOST_ID = MEX
INSTRUMENT_HOST_NAME = "MARS EXPRESS"
INSTRUMENT_ID = HRSC
INSTRUMENT_NAME = "HIGH RESOLUTION STEREO CAMERA"
MISSION_NAME = "MARS EXPRESS"
MISSION_PHASE_NAME = ME_Phase_23
PROCESSING_LEVEL_ID = 4
PRODUCT_CREATION_TIME = 2023-02-04T12:09:02.000Z
PRODUCT_ID = "H9520_0000_ND4.TIF"
RELEASE_ID = 0007
REVISION_ID = 0000
/* QUALITY DATA ELEMENTS */
DATA_QUALITY_ID = 1
DATA_QUALITY_DESC = "Data calculated based on original SPICE kernels"
/* TIME DATA ELEMENTS */
SPACECRAFT_CLOCK_START_COUNT = "1/0256405549.07314"
SPACECRAFT_CLOCK_STOP_COUNT = "1/0256405761.64818"
START_TIME = 2011-06-17T15:46:25.491Z
STOP_TIME = 2011-06-17T15:48:44.498Z
/* ORBITAL DATA ELEMENTS */
ASCENDING_NODE_LONGITUDE = 35.48
MAXIMUM_RESOLUTION = 0.0148
FOOTPRINT_POINT_LATITUDE = (40.9531,40.9455,40.9378,40.9318, 40.9223,40.9219,40.9218,40.6954,40.3733 ,40.1933,40.0133,39.8333,39.6534, 39.4735,39.2936,39.1138,38.934,38.7543, 38.5746,38.395,38.2154,38.0358,37.8563, 37.6769,37.4975,37.3181,37.1388,36.9596 ,36.7804,36.6013,36.4222,36.2432, 36.0643,35.8854,35.7066,35.5279,35.3492 ,35.1706,34.9921,34.6353,34.2787, 33.9225,33.5665,33.2109,32.8557,32.5007 ,32.1462,32.0576,32.0471,32.0506, 32.0536,32.0559,32.0585,32.0607,32.0614 ,32.0614,32.0617,32.4168,32.7723, 33.1281,33.4843,33.8408,34.1977,34.5548 ,34.7335,34.9123,35.0911,35.27,35.449, 35.6281,35.8072,35.9864,36.1656,36.3449 ,36.5243,36.7037,36.8833,37.0628, 37.2424,37.4221,37.6019,37.7817,37.9615 ,38.1413,38.3213,38.5013,38.6813, 38.8614,39.0416,39.2217,39.4019,39.5822 ,39.7625,39.9429,40.1233,40.3037, 40.5672,40.8697,40.9454,40.9531)
FOOTPRINT_POINT_LONGITUDE = (298.584,298.04,297.611,297.331,296.935 ,296.919,296.889,296.898,296.911, 296.918,296.925,296.932,296.938,296.945 ,296.952,296.958,296.963,296.969, 296.975,296.981,296.986,296.992,296.997 ,297.003,297.008,297.013,297.017, 297.022,297.027,297.032,297.036,297.041 ,297.045,297.049,297.053,297.056,297.06 ,297.064,297.067,297.074,297.081, 297.086,297.092,297.097,297.102,297.107 ,297.11,297.111,297.111,297.356,297.601 ,297.829,298.139,298.532,298.744, 298.761,298.769,298.763,298.758,298.753 ,298.748,298.743,298.737,298.732, 298.729,298.726,298.723,298.72,298.717, 298.714,298.711,298.708,298.704,298.701 ,298.698,298.695,298.692,298.689, 298.685,298.682,298.679,298.675,298.671 ,298.667,298.663,298.66,298.657,298.653 ,298.649,298.645,298.641,298.637, 298.633,298.629,298.625,298.621,298.616 ,298.609,298.607,298.584)
ORBIT_NUMBER = 9520
ORBITAL_ECCENTRICITY = 0.574
ORBITAL_INCLINATION = 86.87
ORBITAL_SEMIMAJOR_AXIS = 8808.47
PERIAPSIS_ALTITUDE = 367.87
PERIAPSIS_ARGUMENT_ANGLE = 134.65
PERIAPSIS_TIME = 2011-06-17T15:45:18.000Z
SPACECRAFT_ORIENTATION = (0.0,-1.0,0.0)
^MEX_ORIENTATION_DESC = "MEX_ORIENTATION_DESC.TXT"
SPACECRAFT_POINTING_MODE = NADIR
^MEX_POINTING_DESC = "MEX_POINTING_DESC.TXT"
RIGHT_ASCENSION = -1e+32
DECLINATION = -1e+32
OFFSET_ANGLE = -1e+32
SPACECRAFT_SOLAR_DISTANCE = 2.16329e+08
TARGET_NAME = MARS
/* CAMERA DATA ELEMENTS */
DETECTOR_TEMPERATURE = 18.3705
FOCAL_PLANE_TEMPERATURE = 8.7872
INST_CMPRS_NAME = "DISCRETE COSINE TRANSFORMATION (DCT)"
INST_CMPRS_RATIO = 5.20039
INST_CMPRS_QUALITY = 0
INST_CMPRS_QUANTZ_TBL_ID = 0
INSTRUMENT_TEMPERATURE = 11.4379
LENS_TEMPERATURE = 8.9911
MACROPIXEL_SIZE = 1
MISSING_FRAMES = 0
PIXEL_SUBSAMPLING_FLAG = N
SIGNAL_CHAIN_ID = 0
/* RADIOMETRIC DATA ELEMENTS */
BANDWIDTH = 177.0
CENTER_FILTER_WAVELENGTH = 677.5
RADIANCE_OFFSET = 2.5117
RADIANCE_SCALING_FACTOR = 0.0303437
REFLECTANCE_SCALING_FACTOR = 0.000754367
MEX:REFLECTANCE_OFFSET = 0.0624427
/* IMAGE OBJECT DEFINITIONS */
OBJECT = IMAGE
  INTERCHANGE_FORMAT = BINARY
  LINES = 42235
  LINE_SAMPLES = 7072
  SAMPLE_TYPE = UNSIGNED_INTEGER
  SAMPLE_BITS = 8
  BANDS = 1
  BAND_STORAGE_TYPE = BAND_SEQUENTIAL
  MAXIMUM = 255
  MEAN = 83.7366
  MINIMUM = 1
  STANDARD_DEVIATION = 22.2663
END_OBJECT = IMAGE
/* MAP OBJECT DEFINITIONS */
OBJECT = IMAGE_MAP_PROJECTION
  ^DATA_SET_MAP_PROJECTION_CATALOG= "DSMAP.CAT"
  A_AXIS_RADIUS = 3396.0
  B_AXIS_RADIUS = 3396.0
  C_AXIS_RADIUS = 3396.0
  CENTER_LATITUDE = 0.0
  CENTER_LONGITUDE = 298.0
  COORDINATE_SYSTEM_NAME = PLANETOGRAPHIC
  COORDINATE_SYSTEM_TYPE = "BODY-FIXED ROTATING"
  EASTERNMOST_LONGITUDE = 298.769
  FIRST_STANDARD_PARALLEL = "N/A"
  LINE_FIRST_PIXEL = 1
  LINE_LAST_PIXEL = 42235
  LINE_PROJECTION_OFFSET = 194193.0
  MAP_PROJECTION_ROTATION = 0.0
  MAP_PROJECTION_TYPE = SINUSOIDAL
  MAP_RESOLUTION = 4741.71043093333
  MAP_SCALE = 0.0125
  MAXIMUM_LATITUDE = 40.9531
  MINIMUM_LATITUDE = 32.0471
  POSITIVE_LONGITUDE_DIRECTION = EAST
  REFERENCE_LATITUDE = "N/A"
  REFERENCE_LONGITUDE = "N/A"
  SAMPLE_FIRST_PIXEL = 1
  SAMPLE_LAST_PIXEL = 7072
  SAMPLE_PROJECTION_OFFSET = 3981.0
  SECOND_STANDARD_PARALLEL = "N/A"
  WESTERNMOST_LONGITUDE = 296.889
END_OBJECT = IMAGE_MAP_PROJECTION
END
