PDS_VERSION_ID = PDS3
/* FILE DATA ELEMENTS */
RECORD_TYPE = UNDEFINED
/* POINTERS TO DATA OBJECTS */
^IMAGE = ("H9520_0000_GR4.TIF")
/* IDENTIFICATION DATA ELEMENTS */
DATA_SET_ID = "MEX-M-HRSC-4-REFDR-MAPPROJECT-EXT3-V4.0"
DATA_SET_NAME = "MARS EXPRESS HRSC MAP PROJECTED REFDR EXTENSION3 V4.0"
DETECTOR_ID = MEX_HRSC_GREEN
EVENT_TYPE = "MARS-REGIONAL-MAPPING-Vo-Te-Fl"
INSTRUMENT_HOST_ID = MEX
INSTRUMENT_HOST_NAME = "MARS EXPRESS"
INSTRUMENT_ID = HRSC
INSTRUMENT_NAME = "HIGH RESOLUTION STEREO CAMERA"
MISSION_NAME = "MARS EXPRESS"
MISSION_PHASE_NAME = ME_Phase_23
PROCESSING_LEVEL_ID = 4
PRODUCT_CREATION_TIME = 2023-02-04T12:09:02.000Z
PRODUCT_ID = "H9520_0000_GR4.TIF"
RELEASE_ID = 0007
REVISION_ID = 0000
/* QUALITY DATA ELEMENTS */
DATA_QUALITY_ID = 1
DATA_QUALITY_DESC = "Data calculated based on original SPICE kernels"
/* TIME DATA ELEMENTS */
SPACECRAFT_CLOCK_START_COUNT = "1/0256405549.07314"
SPACECRAFT_CLOCK_STOP_COUNT = "1/0256405761.64818"
START_TIME = 2011-06-17T15:46:19.904Z
STOP_TIME = 2011-06-17T15:48:38.355Z
/* ORBITAL DATA ELEMENTS */
ASCENDING_NODE_LONGITUDE = 35.48
MAXIMUM_RESOLUTION = 0.0592
FOOTPRINT_POINT_LATITUDE = (40.9564,40.951,40.946,40.9356,40.9263, 40.9259,40.916,40.4609,40.1577,39.8008, 39.5295,39.3487,39.0775,38.8965,38.7158 ,38.5351,38.3544,38.1737,37.9932, 37.8126,37.632,37.4515,37.271,37.0905, 36.9101,36.7303,36.5498,36.3695,36.1892 ,36.009,35.8289,35.6488,35.4689,35.2889 ,35.109,34.9292,34.7494,34.5697,34.39, 34.2106,34.031,33.8514,33.4927,33.1343, 32.7761,32.4182,32.1499,32.0604,32.0424 ,32.0467,32.0499,32.0529,32.0544, 32.0556,32.0556,32.0566,32.5047,32.7737 ,33.1325,33.312,33.4916,33.6713,33.851, 34.0308,34.2107,34.3906,34.6607,34.8407 ,35.0209,35.2011,35.3814,35.5618, 35.7421,36.0128,36.1934,36.3741,36.5545 ,36.7351,36.9158,37.0965,37.2773, 37.4581,37.639,37.8199,38.0011,38.1824, 38.3633,38.5442,38.8159,38.997,39.1782, 39.3595,39.5407,39.8126,39.9939,40.2491 ,40.4769,40.8566,40.9326,40.9564)
FOOTPRINT_POINT_LONGITUDE = (298.583,298.164,297.854,297.328,296.94 ,296.925,296.9,296.918,296.93,296.944, 296.954,296.961,296.97,296.976,296.982, 296.988,296.993,296.999,297.005,297.01, 297.016,297.021,297.026,297.03,297.035, 297.041,297.045,297.049,297.054,297.058 ,297.062,297.066,297.07,297.074,297.077 ,297.081,297.084,297.088,297.091, 297.095,297.098,297.1,297.106,297.111, 297.116,297.121,297.123,297.124,297.125 ,297.429,297.704,298.04,298.315,298.744 ,298.759,298.764,298.758,298.754, 298.749,298.747,298.744,298.741,298.739 ,298.736,298.733,298.731,298.726, 298.724,298.721,298.718,298.715,298.712 ,298.709,298.704,298.701,298.697, 298.695,298.692,298.689,298.685,298.682 ,298.679,298.675,298.672,298.668, 298.664,298.66,298.657,298.652,298.648, 298.644,298.64,298.636,298.63,298.626, 298.621,298.616,298.608,298.606, 298.583)
ORBIT_NUMBER = 9520
ORBITAL_ECCENTRICITY = 0.574
ORBITAL_INCLINATION = 86.87
ORBITAL_SEMIMAJOR_AXIS = 8808.47
PERIAPSIS_ALTITUDE = 367.87
PERIAPSIS_ARGUMENT_ANGLE = 134.65
PERIAPSIS_TIME = 2011-06-17T15:45:18.000Z
SPACECRAFT_ORIENTATION = (0.0,-1.0,0.0)
^MEX_ORIENTATION_DESC = "MEX_ORIENTATION_DESC.TXT"
SPACECRAFT_POINTING_MODE = NADIR
^MEX_POINTING_DESC = "MEX_POINTING_DESC.TXT"
RIGHT_ASCENSION = -1e+32
DECLINATION = -1e+32
OFFSET_ANGLE = -1e+32
SPACECRAFT_SOLAR_DISTANCE = 2.16329e+08
TARGET_NAME = MARS
/* CAMERA DATA ELEMENTS */
DETECTOR_TEMPERATURE = 18.3705
FOCAL_PLANE_TEMPERATURE = 8.7872
INST_CMPRS_NAME = "DISCRETE COSINE TRANSFORMATION (DCT)"
INST_CMPRS_RATIO = 6.38038
INST_CMPRS_QUALITY = 0
INST_CMPRS_QUANTZ_TBL_ID = 0
INSTRUMENT_TEMPERATURE = 11.4379
LENS_TEMPERATURE = 8.9911
MACROPIXEL_SIZE = 4
MISSING_FRAMES = 0
PIXEL_SUBSAMPLING_FLAG = N
SIGNAL_CHAIN_ID = 2
/* RADIOMETRIC DATA ELEMENTS */
BANDWIDTH = 88.0
CENTER_FILTER_WAVELENGTH = 538.0
RADIANCE_OFFSET = 1.01512
RADIANCE_SCALING_FACTOR = 0.0081536
REFLECTANCE_SCALING_FACTOR = 0.000328524
MEX:REFLECTANCE_OFFSET = 0.0409012
/* IMAGE OBJECT DEFINITIONS */
OBJECT = IMAGE
  INTERCHANGE_FORMAT = BINARY
  LINES = 10559
  LINE_SAMPLES = 1768
  SAMPLE_TYPE = UNSIGNED_INTEGER
  SAMPLE_BITS = 8
  BANDS = 1
  BAND_STORAGE_TYPE = BAND_SEQUENTIAL
  MAXIMUM = 255
  MEAN = 94.7909
  MINIMUM = 1
  STANDARD_DEVIATION = 21.083
END_OBJECT = IMAGE
/* MAP OBJECT DEFINITIONS */
OBJECT = IMAGE_MAP_PROJECTION
  ^DATA_SET_MAP_PROJECTION_CATALOG= "DSMAP.CAT"
  A_AXIS_RADIUS = 3396.0
  B_AXIS_RADIUS = 3396.0
  C_AXIS_RADIUS = 3396.0
  CENTER_LATITUDE = 0.0
  CENTER_LONGITUDE = 298.0
  COORDINATE_SYSTEM_NAME = PLANETOGRAPHIC
  COORDINATE_SYSTEM_TYPE = "BODY-FIXED ROTATING"
  EASTERNMOST_LONGITUDE = 298.764
  FIRST_STANDARD_PARALLEL = "N/A"
  LINE_FIRST_PIXEL = 1
  LINE_LAST_PIXEL = 10559
  LINE_PROJECTION_OFFSET = 48547.875
  MAP_PROJECTION_ROTATION = 0.0
  MAP_PROJECTION_TYPE = SINUSOIDAL
  MAP_RESOLUTION = 1185.42760773333
  MAP_SCALE = 0.05
  MAXIMUM_LATITUDE = 40.9564
  MINIMUM_LATITUDE = 32.0424
  POSITIVE_LONGITUDE_DIRECTION = EAST
  REFERENCE_LATITUDE = "N/A"
  REFERENCE_LONGITUDE = "N/A"
  SAMPLE_FIRST_PIXEL = 1
  SAMPLE_LAST_PIXEL = 1768
  SAMPLE_PROJECTION_OFFSET = 994.875
  SECOND_STANDARD_PARALLEL = "N/A"
  WESTERNMOST_LONGITUDE = 296.9
END_OBJECT = IMAGE_MAP_PROJECTION
END
