PDS_VERSION_ID = PDS3
/* FILE DATA ELEMENTS */
RECORD_TYPE = UNDEFINED
/* POINTERS TO DATA OBJECTS */
^IMAGE = ("H9520_0000_BL4.TIF")
/* IDENTIFICATION DATA ELEMENTS */
DATA_SET_ID = "MEX-M-HRSC-4-REFDR-MAPPROJECT-EXT3-V4.0"
DATA_SET_NAME = "MARS EXPRESS HRSC MAP PROJECTED REFDR EXTENSION3 V4.0"
DETECTOR_ID = MEX_HRSC_BLUE
EVENT_TYPE = "MARS-REGIONAL-MAPPING-Vo-Te-Fl"
INSTRUMENT_HOST_ID = MEX
INSTRUMENT_HOST_NAME = "MARS EXPRESS"
INSTRUMENT_ID = HRSC
INSTRUMENT_NAME = "HIGH RESOLUTION STEREO CAMERA"
MISSION_NAME = "MARS EXPRESS"
MISSION_PHASE_NAME = ME_Phase_23
PROCESSING_LEVEL_ID = 4
PRODUCT_CREATION_TIME = 2023-02-04T12:09:02.000Z
PRODUCT_ID = "H9520_0000_BL4.TIF"
RELEASE_ID = 0007
REVISION_ID = 0000
/* QUALITY DATA ELEMENTS */
DATA_QUALITY_ID = 1
DATA_QUALITY_DESC = "Data calculated based on original SPICE kernels"
/* TIME DATA ELEMENTS */
SPACECRAFT_CLOCK_START_COUNT = "1/0256405549.07314"
SPACECRAFT_CLOCK_STOP_COUNT = "1/0256405761.64818"
START_TIME = 2011-06-17T15:46:31.227Z
STOP_TIME = 2011-06-17T15:48:50.859Z
/* ORBITAL DATA ELEMENTS */
ASCENDING_NODE_LONGITUDE = 35.48
MAXIMUM_RESOLUTION = 0.0595
FOOTPRINT_POINT_LATITUDE = (40.9409,40.9374,40.9312,40.9259, 40.9167,40.9112,40.9108,40.9194,40.5737 ,40.3955,40.2174,40.0394,39.8614, 39.6835,39.5055,39.3276,39.1498,38.9723 ,38.7947,38.5283,38.2621,38.0846, 37.9072,37.7299,37.5527,37.3756,37.1985 ,37.0215,36.8444,36.6671,36.4905, 36.3138,36.1372,35.9607,35.6959,35.5195 ,35.3432,35.167,34.9908,34.6388,34.1991 ,33.848,33.5848,33.2342,32.8839,32.534, 32.1847,32.0976,32.0441,32.0483,32.0505 ,32.0528,32.0564,32.0572,32.0573, 32.0583,32.3205,32.5832,32.9337,33.2846 ,33.6359,33.9876,34.1636,34.3397, 34.5158,34.692,34.8684,35.0448,35.2213, 35.3978,35.5745,35.7512,35.9281,36.1933 ,36.3702,36.5475,36.8134,36.9907, 37.1681,37.3456,37.5231,37.7007,37.8784 ,38.0556,38.2332,38.5003,38.6782, 38.8562,39.0343,39.3013,39.4794,39.6577 ,39.8361,40.0144,40.1928,40.3714,40.55, 40.8179,40.9057,40.9409)
FOOTPRINT_POINT_LONGITUDE = (298.587,298.307,297.903,297.608, 297.173,296.94,296.924,296.898,296.912, 296.919,296.926,296.933,296.939,296.946 ,296.952,296.959,296.965,296.971, 296.976,296.985,296.993,296.999,297.004 ,297.009,297.014,297.019,297.024, 297.028,297.033,297.038,297.042,297.046 ,297.05,297.054,297.06,297.064,297.067, 297.071,297.074,297.081,297.089,297.094 ,297.098,297.103,297.108,297.112, 297.116,297.116,297.117,297.456,297.672 ,297.934,298.383,298.753,298.768, 298.774,298.77,298.766,298.761,298.756, 298.75,298.745,298.742,298.74,298.737, 298.734,298.731,298.728,298.725,298.722 ,298.719,298.716,298.713,298.708, 298.704,298.702,298.697,298.694,298.69, 298.687,298.683,298.68,298.677,298.672, 298.668,298.663,298.66,298.656,298.652, 298.646,298.642,298.638,298.634,298.63, 298.626,298.622,298.618,298.612,298.61, 298.587)
ORBIT_NUMBER = 9520
ORBITAL_ECCENTRICITY = 0.574
ORBITAL_INCLINATION = 86.87
ORBITAL_SEMIMAJOR_AXIS = 8808.47
PERIAPSIS_ALTITUDE = 367.87
PERIAPSIS_ARGUMENT_ANGLE = 134.65
PERIAPSIS_TIME = 2011-06-17T15:45:18.000Z
SPACECRAFT_ORIENTATION = (0.0,-1.0,0.0)
^MEX_ORIENTATION_DESC = "MEX_ORIENTATION_DESC.TXT"
SPACECRAFT_POINTING_MODE = NADIR
^MEX_POINTING_DESC = "MEX_POINTING_DESC.TXT"
RIGHT_ASCENSION = -1e+32
DECLINATION = -1e+32
OFFSET_ANGLE = -1e+32
SPACECRAFT_SOLAR_DISTANCE = 2.16329e+08
TARGET_NAME = MARS
/* CAMERA DATA ELEMENTS */
DETECTOR_TEMPERATURE = 18.3705
FOCAL_PLANE_TEMPERATURE = 8.7872
INST_CMPRS_NAME = "DISCRETE COSINE TRANSFORMATION (DCT)"
INST_CMPRS_RATIO = 5.60007
INST_CMPRS_QUALITY = 0
INST_CMPRS_QUANTZ_TBL_ID = 0
INSTRUMENT_TEMPERATURE = 11.4379
LENS_TEMPERATURE = 8.9911
MACROPIXEL_SIZE = 4
MISSING_FRAMES = 0
PIXEL_SUBSAMPLING_FLAG = N
SIGNAL_CHAIN_ID = 2
/* RADIOMETRIC DATA ELEMENTS */
BANDWIDTH = 76.0
CENTER_FILTER_WAVELENGTH = 444.0
RADIANCE_OFFSET = 0.428142
RADIANCE_SCALING_FACTOR = 0.00309631
REFLECTANCE_SCALING_FACTOR = 0.000148878
MEX:REFLECTANCE_OFFSET = 0.020586
/* IMAGE OBJECT DEFINITIONS */
OBJECT = IMAGE
  INTERCHANGE_FORMAT = BINARY
  LINES = 10559
  LINE_SAMPLES = 1768
  SAMPLE_TYPE = UNSIGNED_INTEGER
  SAMPLE_BITS = 8
  BANDS = 1
  BAND_STORAGE_TYPE = BAND_SEQUENTIAL
  MAXIMUM = 255
  MEAN = 97.9639
  MINIMUM = 1
  STANDARD_DEVIATION = 20.0202
END_OBJECT = IMAGE
/* MAP OBJECT DEFINITIONS */
OBJECT = IMAGE_MAP_PROJECTION
  ^DATA_SET_MAP_PROJECTION_CATALOG= "DSMAP.CAT"
  A_AXIS_RADIUS = 3396.0
  B_AXIS_RADIUS = 3396.0
  C_AXIS_RADIUS = 3396.0
  CENTER_LATITUDE = 0.0
  CENTER_LONGITUDE = 298.0
  COORDINATE_SYSTEM_NAME = PLANETOGRAPHIC
  COORDINATE_SYSTEM_TYPE = "BODY-FIXED ROTATING"
  EASTERNMOST_LONGITUDE = 298.774
  FIRST_STANDARD_PARALLEL = "N/A"
  LINE_FIRST_PIXEL = 1
  LINE_LAST_PIXEL = 10559
  LINE_PROJECTION_OFFSET = 48547.875
  MAP_PROJECTION_ROTATION = 0.0
  MAP_PROJECTION_TYPE = SINUSOIDAL
  MAP_RESOLUTION = 1185.42760773333
  MAP_SCALE = 0.05
  MAXIMUM_LATITUDE = 40.9409
  MINIMUM_LATITUDE = 32.0441
  POSITIVE_LONGITUDE_DIRECTION = EAST
  REFERENCE_LATITUDE = "N/A"
  REFERENCE_LONGITUDE = "N/A"
  SAMPLE_FIRST_PIXEL = 1
  SAMPLE_LAST_PIXEL = 1768
  SAMPLE_PROJECTION_OFFSET = 994.875
  SECOND_STANDARD_PARALLEL = "N/A"
  WESTERNMOST_LONGITUDE = 296.898
END_OBJECT = IMAGE_MAP_PROJECTION
END
