PDS_VERSION_ID = PDS3
/* FILE DATA ELEMENTS */
RECORD_TYPE = UNDEFINED
/* POINTERS TO DATA OBJECTS */
^IMAGE = ("H9503_0000_IR4.TIF")
/* IDENTIFICATION DATA ELEMENTS */
DATA_SET_ID = "MEX-M-HRSC-4-REFDR-MAPPROJECT-EXT3-V4.0"
DATA_SET_NAME = "MARS EXPRESS HRSC MAP PROJECTED REFDR EXTENSION3 V4.0"
DETECTOR_ID = MEX_HRSC_IR
EVENT_TYPE = "MARS-REGIONAL-MAPPING-Vo-Te"
INSTRUMENT_HOST_ID = MEX
INSTRUMENT_HOST_NAME = "MARS EXPRESS"
INSTRUMENT_ID = HRSC
INSTRUMENT_NAME = "HIGH RESOLUTION STEREO CAMERA"
MISSION_NAME = "MARS EXPRESS"
MISSION_PHASE_NAME = ME_Phase_23
PROCESSING_LEVEL_ID = 4
PRODUCT_CREATION_TIME = 2023-02-04T12:09:02.000Z
PRODUCT_ID = "H9503_0000_IR4.TIF"
RELEASE_ID = 0007
REVISION_ID = 0000
/* QUALITY DATA ELEMENTS */
DATA_QUALITY_ID = 1
DATA_QUALITY_DESC = "Data calculated based on original SPICE kernels"
/* TIME DATA ELEMENTS */
SPACECRAFT_CLOCK_START_COUNT = "1/0255977483.08381"
SPACECRAFT_CLOCK_STOP_COUNT = "1/0255977673.31547"
START_TIME = 2011-06-12T16:51:31.789Z
STOP_TIME = 2011-06-12T16:53:29.644Z
/* ORBITAL DATA ELEMENTS */
ASCENDING_NODE_LONGITUDE = 35.8
MAXIMUM_RESOLUTION = 0.0605
FOOTPRINT_POINT_LATITUDE = (39.8746,39.872,39.8668,39.8609,39.8557 ,39.844,39.8436,39.8108,39.521,39.1578, 38.8674,38.7217,38.5035,38.2135,37.9231 ,37.7775,37.6318,37.4862,37.3405,37.122 ,36.9038,36.6126,36.3218,36.1759, 36.0296,35.8836,35.738,35.5923,35.4464, 35.2276,35.0814,34.8622,34.7164,34.5704 ,34.4246,34.2682,34.0944,33.9201, 33.6581,33.4834,33.3088,33.1345,32.96, 32.7855,32.6109,32.4363,32.2618,32.1745 ,32.1725,32.1777,32.1816,32.1863, 32.1882,32.1902,32.1914,32.1915,32.1925 ,32.3675,32.5426,32.717,32.8916,33.1536 ,33.3286,33.5033,33.6786,33.941,34.1154 ,34.3736,34.5196,34.6661,34.8122, 34.9586,35.105,35.3244,35.4704,35.6167, 35.7629,35.9093,36.1289,36.4201,36.5666 ,36.7861,37.078,37.2237,37.3697,37.661, 37.807,37.9532,38.1722,38.3179,38.4639, 38.6825,38.8284,39.0468,39.2652,39.4108 ,39.5565,39.7748,39.8476,39.8746)
FOOTPRINT_POINT_LONGITUDE = (237.486,237.259,236.896,236.578, 236.337,235.883,235.868,235.851,235.863 ,235.877,235.888,235.893,235.901, 235.912,235.922,235.927,235.932,235.937 ,235.941,235.948,235.955,235.964, 235.972,235.976,235.98,235.984,235.988, 235.992,235.995,236.001,236.004,236.009 ,236.013,236.016,236.019,236.022, 236.026,236.03,236.035,236.038,236.041, 236.044,236.047,236.05,236.053,236.056, 236.058,236.06,236.06,236.319,236.549, 236.91,237.083,237.342,237.587,237.602, 237.606,237.604,237.602,237.601,237.599 ,237.596,237.594,237.592,237.589, 237.586,237.584,237.581,237.579,237.577 ,237.576,237.574,237.572,237.569, 237.567,237.565,237.563,237.561,237.558 ,237.554,237.552,237.548,237.544, 237.542,237.54,237.536,237.533,237.531, 237.527,237.525,237.523,237.519,237.516 ,237.513,237.509,237.506,237.504,237.5, 237.499,237.486)
ORBIT_NUMBER = 9503
ORBITAL_ECCENTRICITY = 0.575
ORBITAL_INCLINATION = 86.88
ORBITAL_SEMIMAJOR_AXIS = 8818.5
PERIAPSIS_ALTITUDE = 365.14
PERIAPSIS_ARGUMENT_ANGLE = 137.55
PERIAPSIS_TIME = 2011-06-12T16:51:19.000Z
SPACECRAFT_ORIENTATION = (0.0,-1.0,0.0)
^MEX_ORIENTATION_DESC = "MEX_ORIENTATION_DESC.TXT"
SPACECRAFT_POINTING_MODE = NADIR
^MEX_POINTING_DESC = "MEX_POINTING_DESC.TXT"
RIGHT_ASCENSION = -1e+32
DECLINATION = -1e+32
OFFSET_ANGLE = -1e+32
SPACECRAFT_SOLAR_DISTANCE = 2.15488e+08
TARGET_NAME = MARS
/* CAMERA DATA ELEMENTS */
DETECTOR_TEMPERATURE = 17.5549
FOCAL_PLANE_TEMPERATURE = 8.3794
INST_CMPRS_NAME = "DISCRETE COSINE TRANSFORMATION (DCT)"
INST_CMPRS_RATIO = 5.20712
INST_CMPRS_QUALITY = 0
INST_CMPRS_QUANTZ_TBL_ID = 0
INSTRUMENT_TEMPERATURE = 11.4379
LENS_TEMPERATURE = 9.195
MACROPIXEL_SIZE = 4
MISSING_FRAMES = 0
PIXEL_SUBSAMPLING_FLAG = N
SIGNAL_CHAIN_ID = 2
/* RADIOMETRIC DATA ELEMENTS */
BANDWIDTH = 81.0
CENTER_FILTER_WAVELENGTH = 955.5
RADIANCE_OFFSET = 0.773211
RADIANCE_SCALING_FACTOR = 0.0072527
REFLECTANCE_SCALING_FACTOR = 0.000726561
MEX:REFLECTANCE_OFFSET = 0.0774588
/* IMAGE OBJECT DEFINITIONS */
OBJECT = IMAGE
  INTERCHANGE_FORMAT = BINARY
  LINES = 9089
  LINE_SAMPLES = 1673
  SAMPLE_TYPE = UNSIGNED_INTEGER
  SAMPLE_BITS = 8
  BANDS = 1
  BAND_STORAGE_TYPE = BAND_SEQUENTIAL
  MAXIMUM = 255
  MEAN = 94.9982
  MINIMUM = 1
  STANDARD_DEVIATION = 26.8239
END_OBJECT = IMAGE
/* MAP OBJECT DEFINITIONS */
OBJECT = IMAGE_MAP_PROJECTION
  ^DATA_SET_MAP_PROJECTION_CATALOG= "DSMAP.CAT"
  A_AXIS_RADIUS = 3396.0
  B_AXIS_RADIUS = 3396.0
  C_AXIS_RADIUS = 3396.0
  CENTER_LATITUDE = 0.0
  CENTER_LONGITUDE = 237.0
  COORDINATE_SYSTEM_NAME = PLANETOGRAPHIC
  COORDINATE_SYSTEM_TYPE = "BODY-FIXED ROTATING"
  EASTERNMOST_LONGITUDE = 237.606
  FIRST_STANDARD_PARALLEL = "N/A"
  LINE_FIRST_PIXEL = 1
  LINE_LAST_PIXEL = 9089
  LINE_PROJECTION_OFFSET = 47215.375
  MAP_PROJECTION_ROTATION = 0.0
  MAP_PROJECTION_TYPE = SINUSOIDAL
  MAP_RESOLUTION = 1185.42760773333
  MAP_SCALE = 0.05
  MAXIMUM_LATITUDE = 39.8746
  MINIMUM_LATITUDE = 32.1725
  POSITIVE_LONGITUDE_DIRECTION = EAST
  REFERENCE_LATITUDE = "N/A"
  REFERENCE_LONGITUDE = "N/A"
  SAMPLE_FIRST_PIXEL = 1
  SAMPLE_LAST_PIXEL = 1673
  SAMPLE_PROJECTION_OFFSET = 1053.875
  SECOND_STANDARD_PARALLEL = "N/A"
  WESTERNMOST_LONGITUDE = 235.851
END_OBJECT = IMAGE_MAP_PROJECTION
END
