PDS_VERSION_ID = PDS3
/* FILE DATA ELEMENTS */
RECORD_TYPE = UNDEFINED
/* POINTERS TO DATA OBJECTS */
^IMAGE = ("H9496_0000_S14.TIF")
/* IDENTIFICATION DATA ELEMENTS */
DATA_SET_ID = "MEX-M-HRSC-4-REFDR-MAPPROJECT-EXT3-V4.0"
DATA_SET_NAME = "MARS EXPRESS HRSC MAP PROJECTED REFDR EXTENSION3 V4.0"
DETECTOR_ID = MEX_HRSC_S1
EVENT_TYPE = "MARS-LOCAL-STEREO-Vo-Te"
INSTRUMENT_HOST_ID = MEX
INSTRUMENT_HOST_NAME = "MARS EXPRESS"
INSTRUMENT_ID = HRSC
INSTRUMENT_NAME = "HIGH RESOLUTION STEREO CAMERA"
MISSION_NAME = "MARS EXPRESS"
MISSION_PHASE_NAME = ME_Phase_23
PROCESSING_LEVEL_ID = 4
PRODUCT_CREATION_TIME = 2023-02-04T05:05:37.000Z
PRODUCT_ID = "H9496_0000_S14.TIF"
RELEASE_ID = 0006
REVISION_ID = 0000
/* QUALITY DATA ELEMENTS */
DATA_QUALITY_ID = 1
DATA_QUALITY_DESC = "Data calculated based on original SPICE kernels"
/* TIME DATA ELEMENTS */
SPACECRAFT_CLOCK_START_COUNT = "1/0255801438.09064"
SPACECRAFT_CLOCK_STOP_COUNT = "1/0255801711.57509"
START_TIME = 2011-06-10T15:57:21.121Z
STOP_TIME = 2011-06-10T16:00:12.257Z
/* ORBITAL DATA ELEMENTS */
ASCENDING_NODE_LONGITUDE = 35.94
MAXIMUM_RESOLUTION = 0.0168
FOOTPRINT_POINT_LATITUDE = (25.6876,25.6932,25.6968,25.6997, 25.7019,25.7041,25.7041,25.6861,25.3757 ,24.9589,24.4377,24.1243,23.915,23.6028 ,23.1868,22.9769,22.7637,22.5502, 22.3369,22.1245,21.9131,21.7004,21.4863 ,21.2531,21.0347,20.8169,20.5987,20.381 ,20.1633,19.9418,19.7184,19.3833, 19.0484,18.8251,18.5971,18.3684,18.0254 ,17.6827,17.3343,17.1007,16.7503, 16.5167,16.1603,15.8019,15.5632,15.3245 ,14.9585,14.7144,14.5925,14.5883, 14.5835,14.5761,14.5678,14.5561,14.5556 ,14.5556,14.922,15.1663,15.5277,15.8864 ,16.1269,16.3667,16.6005,16.8344, 17.0683,17.3038,17.5388,17.7663,17.9958 ,18.224,18.453,18.7962,19.1299,19.4643, 19.6881,19.9114,20.1337,20.461,20.6794, 20.8982,21.1165,21.3502,21.567,21.7802, 21.9937,22.207,22.4207,22.6343,22.848, 23.0606,23.373,23.7893,23.9976,24.31, 24.5185,24.7268,25.1433,25.56,25.6642, 25.6876)
FOOTPRINT_POINT_LONGITUDE = (233.915,233.595,233.352,233.109, 232.868,232.402,232.387,232.376,232.375 ,232.373,232.37,232.368,232.366,232.364 ,232.36,232.359,232.357,232.355,232.352 ,232.35,232.348,232.346,232.344,232.341 ,232.338,232.336,232.333,232.33,232.327 ,232.324,232.32,232.315,232.31,232.306, 232.302,232.298,232.292,232.286,232.279 ,232.275,232.268,232.263,232.255, 232.247,232.242,232.236,232.228,232.222 ,232.219,232.219,232.627,233.07,233.463 ,233.927,233.944,233.953,233.952, 233.951,233.95,233.949,233.948,233.947, 233.947,233.946,233.946,233.944,233.944 ,233.944,233.943,233.942,233.942, 233.941,233.941,233.941,233.94,233.94, 233.939,233.939,233.938,233.938,233.937 ,233.937,233.936,233.936,233.935, 233.935,233.934,233.933,233.933,233.932 ,233.931,233.93,233.929,233.928,233.927 ,233.927,233.925,233.924,233.924, 233.915)
ORBIT_NUMBER = 9496
ORBITAL_ECCENTRICITY = 0.575
ORBITAL_INCLINATION = 86.88
ORBITAL_SEMIMAJOR_AXIS = 8819.9
PERIAPSIS_ALTITUDE = 364.4
PERIAPSIS_ARGUMENT_ANGLE = 138.77
PERIAPSIS_TIME = 2011-06-10T15:53:55.000Z
SPACECRAFT_ORIENTATION = (0.0,-1.0,0.0)
^MEX_ORIENTATION_DESC = "MEX_ORIENTATION_DESC.TXT"
SPACECRAFT_POINTING_MODE = ACROSSTRACK
^MEX_POINTING_DESC = "MEX_POINTING_DESC.TXT"
RIGHT_ASCENSION = -1e+32
DECLINATION = -1e+32
OFFSET_ANGLE = 0.25
SPACECRAFT_SOLAR_DISTANCE = 2.15149e+08
TARGET_NAME = MARS
/* CAMERA DATA ELEMENTS */
DETECTOR_TEMPERATURE = 17.5549
FOCAL_PLANE_TEMPERATURE = 8.1755
INST_CMPRS_NAME = "DISCRETE COSINE TRANSFORMATION (DCT)"
INST_CMPRS_RATIO = 6.13263
INST_CMPRS_QUALITY = 0
INST_CMPRS_QUANTZ_TBL_ID = 0
INSTRUMENT_TEMPERATURE = 11.234
LENS_TEMPERATURE = 8.5833
MACROPIXEL_SIZE = 1
PIXEL_SUBSAMPLING_FLAG = N
SIGNAL_CHAIN_ID = 2
/* RADIOMETRIC DATA ELEMENTS */
BANDWIDTH = 180.0
CENTER_FILTER_WAVELENGTH = 677.0
RADIANCE_OFFSET = 4.59092
RADIANCE_SCALING_FACTOR = 0.0291903
REFLECTANCE_SCALING_FACTOR = 0.000704956
MEX:REFLECTANCE_OFFSET = 0.110872
/* IMAGE OBJECT DEFINITIONS */
OBJECT = IMAGE
  INTERCHANGE_FORMAT = BINARY
  LINES = 52782
  LINE_SAMPLES = 8405
  SAMPLE_TYPE = UNSIGNED_INTEGER
  SAMPLE_BITS = 8
  BANDS = 1
  BAND_STORAGE_TYPE = BAND_SEQUENTIAL
  MAXIMUM = 255
  MEAN = 135.395
  MINIMUM = 1
  STANDARD_DEVIATION = 24.3722
END_OBJECT = IMAGE
/* MAP OBJECT DEFINITIONS */
OBJECT = IMAGE_MAP_PROJECTION
  ^DATA_SET_MAP_PROJECTION_CATALOG= "DSMAP.CAT"
  A_AXIS_RADIUS = 3396.0
  B_AXIS_RADIUS = 3396.0
  C_AXIS_RADIUS = 3396.0
  CENTER_LATITUDE = 0.0
  CENTER_LONGITUDE = 233.0
  COORDINATE_SYSTEM_NAME = PLANETOGRAPHIC
  COORDINATE_SYSTEM_TYPE = "BODY-FIXED ROTATING"
  EASTERNMOST_LONGITUDE = 233.953
  FIRST_STANDARD_PARALLEL = "N/A"
  LINE_FIRST_PIXEL = 1
  LINE_LAST_PIXEL = 52782
  LINE_PROJECTION_OFFSET = 121777.0
  MAP_PROJECTION_ROTATION = 0.0
  MAP_PROJECTION_TYPE = SINUSOIDAL
  MAP_RESOLUTION = 4741.71043093333
  MAP_SCALE = 0.0125
  MAXIMUM_LATITUDE = 25.7041
  MINIMUM_LATITUDE = 14.5556
  POSITIVE_LONGITUDE_DIRECTION = EAST
  REFERENCE_LATITUDE = "N/A"
  REFERENCE_LONGITUDE = "N/A"
  SAMPLE_FIRST_PIXEL = 1
  SAMPLE_LAST_PIXEL = 8405
  SAMPLE_PROJECTION_OFFSET = 3836.0
  SECOND_STANDARD_PARALLEL = "N/A"
  WESTERNMOST_LONGITUDE = 232.219
END_OBJECT = IMAGE_MAP_PROJECTION
END
