PDS_VERSION_ID = PDS3
/* FILE DATA ELEMENTS */
RECORD_TYPE = UNDEFINED
/* POINTERS TO DATA OBJECTS */
^IMAGE = ("H9493_0000_P14.TIF")
/* IDENTIFICATION DATA ELEMENTS */
DATA_SET_ID = "MEX-M-HRSC-4-REFDR-MAPPROJECT-EXT3-V4.0"
DATA_SET_NAME = "MARS EXPRESS HRSC MAP PROJECTED REFDR EXTENSION3 V4.0"
DETECTOR_ID = MEX_HRSC_P1
EVENT_TYPE = "MARS-REGIONAL-MAPPING-Vo-Te-Pf"
INSTRUMENT_HOST_ID = MEX
INSTRUMENT_HOST_NAME = "MARS EXPRESS"
INSTRUMENT_ID = HRSC
INSTRUMENT_NAME = "HIGH RESOLUTION STEREO CAMERA"
MISSION_NAME = "MARS EXPRESS"
MISSION_PHASE_NAME = ME_Phase_23
PROCESSING_LEVEL_ID = 4
PRODUCT_CREATION_TIME = 2023-02-04T05:05:37.000Z
PRODUCT_ID = "H9493_0000_P14.TIF"
RELEASE_ID = 0006
REVISION_ID = 0000
/* QUALITY DATA ELEMENTS */
DATA_QUALITY_ID = 1
DATA_QUALITY_DESC = "Data calculated based on original SPICE kernels"
/* TIME DATA ELEMENTS */
SPACECRAFT_CLOCK_START_COUNT = "1/0255725796.08246"
SPACECRAFT_CLOCK_STOP_COUNT = "1/0255726040.29472"
START_TIME = 2011-06-09T18:56:50.360Z
STOP_TIME = 2011-06-09T18:59:32.868Z
/* ORBITAL DATA ELEMENTS */
ASCENDING_NODE_LONGITUDE = 35.99
MAXIMUM_RESOLUTION = 0.0618
FOOTPRINT_POINT_LATITUDE = (32.6806,32.6817,32.6811,32.6794, 32.6759,32.6757,32.6333,32.4245,32.2159 ,32.0071,31.694,31.4852,31.2764,30.9633 ,30.7545,30.5458,30.337,30.1284,29.9197 ,29.7114,29.5027,29.1897,28.9809,28.668 ,28.4594,28.251,28.0425,27.73,27.4175, 27.2091,27.0009,26.7927,26.4805,26.2723 ,26.0643,25.6484,25.1288,24.7132, 24.4018,23.8829,23.4684,23.1533,22.8342 ,22.5154,22.3029,22.1968,22.1322, 22.1319,22.1306,22.1274,22.1244,22.1221 ,22.1214,22.1224,22.3345,22.5472,22.76, 22.9729,23.186,23.3966,23.7081,24.1237, 24.5392,24.7471,24.9552,25.1633,25.4756 ,25.6838,25.8922,26.1005,26.3089, 26.5173,26.7258,26.9343,27.143,27.3518, 27.5603,27.769,27.978,28.1874,28.396, 28.7086,28.9175,29.1263,29.3353,29.6487 ,29.8578,30.0667,30.2758,30.5892, 30.7983,31.0074,31.321,31.5301,31.7392, 31.9483,32.262,32.4712,32.5756,32.6806)
FOOTPRINT_POINT_LONGITUDE = (180.601,180.103,179.806,179.482, 179.101,179.087,179.069,179.072,179.075 ,179.077,179.081,179.084,179.086, 179.089,179.091,179.093,179.095,179.097 ,179.099,179.1,179.102,179.103,179.104, 179.106,179.107,179.107,179.108,179.109 ,179.109,179.109,179.11,179.11,179.109, 179.109,179.109,179.108,179.106,179.104 ,179.102,179.099,179.096,179.094, 179.091,179.088,179.086,179.085,179.084 ,179.41,179.722,180.155,180.41,180.664, 180.679,180.684,180.684,180.683,180.682 ,180.681,180.68,180.68,180.678,180.676, 180.675,180.674,180.673,180.672,180.671 ,180.67,180.669,180.668,180.667,180.666 ,180.665,180.664,180.663,180.662, 180.661,180.66,180.659,180.657,180.656, 180.655,180.654,180.653,180.651,180.65, 180.648,180.647,180.646,180.644,180.643 ,180.642,180.64,180.638,180.637,180.635 ,180.633,180.632,180.631,180.601)
ORBIT_NUMBER = 9493
ORBITAL_ECCENTRICITY = 0.574
ORBITAL_INCLINATION = 86.87
ORBITAL_SEMIMAJOR_AXIS = 8811.93
PERIAPSIS_ALTITUDE = 365.02
PERIAPSIS_ARGUMENT_ANGLE = 139.32
PERIAPSIS_TIME = 2011-06-09T18:55:09.000Z
SPACECRAFT_ORIENTATION = (0.0,-1.0,0.0)
^MEX_ORIENTATION_DESC = "MEX_ORIENTATION_DESC.TXT"
SPACECRAFT_POINTING_MODE = ACROSSTRACK
^MEX_POINTING_DESC = "MEX_POINTING_DESC.TXT"
RIGHT_ASCENSION = -1e+32
DECLINATION = -1e+32
OFFSET_ANGLE = 0.18
SPACECRAFT_SOLAR_DISTANCE = 2.15005e+08
TARGET_NAME = MARS
/* CAMERA DATA ELEMENTS */
DETECTOR_TEMPERATURE = 17.5549
FOCAL_PLANE_TEMPERATURE = 9.3989
INST_CMPRS_NAME = "DISCRETE COSINE TRANSFORMATION (DCT)"
INST_CMPRS_RATIO = 9.97009
INST_CMPRS_QUALITY = 0
INST_CMPRS_QUANTZ_TBL_ID = 0
INSTRUMENT_TEMPERATURE = 11.234
LENS_TEMPERATURE = 9.6028
MACROPIXEL_SIZE = 4
MISSING_FRAMES = 0
PIXEL_SUBSAMPLING_FLAG = N
SIGNAL_CHAIN_ID = 3
/* RADIOMETRIC DATA ELEMENTS */
BANDWIDTH = 174.0
CENTER_FILTER_WAVELENGTH = 675.0
RADIANCE_OFFSET = 4.48495
RADIANCE_SCALING_FACTOR = 0.0192115
REFLECTANCE_SCALING_FACTOR = 0.000477692
MEX:REFLECTANCE_OFFSET = 0.111518
/* IMAGE OBJECT DEFINITIONS */
OBJECT = IMAGE
  INTERCHANGE_FORMAT = BINARY
  LINES = 12460
  LINE_SAMPLES = 1811
  SAMPLE_TYPE = UNSIGNED_INTEGER
  SAMPLE_BITS = 8
  BANDS = 1
  BAND_STORAGE_TYPE = BAND_SEQUENTIAL
  MAXIMUM = 255
  MEAN = 106.032
  MINIMUM = 1
  STANDARD_DEVIATION = 26.3441
END_OBJECT = IMAGE
/* MAP OBJECT DEFINITIONS */
OBJECT = IMAGE_MAP_PROJECTION
  ^DATA_SET_MAP_PROJECTION_CATALOG= "DSMAP.CAT"
  A_AXIS_RADIUS = 3396.0
  B_AXIS_RADIUS = 3396.0
  C_AXIS_RADIUS = 3396.0
  CENTER_LATITUDE = 0.0
  CENTER_LONGITUDE = 180.0
  COORDINATE_SYSTEM_NAME = PLANETOGRAPHIC
  COORDINATE_SYSTEM_TYPE = "BODY-FIXED ROTATING"
  EASTERNMOST_LONGITUDE = 180.684
  FIRST_STANDARD_PARALLEL = "N/A"
  LINE_FIRST_PIXEL = 1
  LINE_LAST_PIXEL = 12460
  LINE_PROJECTION_OFFSET = 38711.375
  MAP_PROJECTION_ROTATION = 0.0
  MAP_PROJECTION_TYPE = SINUSOIDAL
  MAP_RESOLUTION = 1185.42760773333
  MAP_SCALE = 0.05
  MAXIMUM_LATITUDE = 32.6817
  MINIMUM_LATITUDE = 22.1214
  POSITIVE_LONGITUDE_DIRECTION = EAST
  REFERENCE_LATITUDE = "N/A"
  REFERENCE_LONGITUDE = "N/A"
  SAMPLE_FIRST_PIXEL = 1
  SAMPLE_LAST_PIXEL = 1811
  SAMPLE_PROJECTION_OFFSET = 1038.125
  SECOND_STANDARD_PARALLEL = "N/A"
  WESTERNMOST_LONGITUDE = 179.069
END_OBJECT = IMAGE_MAP_PROJECTION
END
