PDS_VERSION_ID = PDS3
/* FILE DATA ELEMENTS */
RECORD_TYPE = UNDEFINED
/* POINTERS TO DATA OBJECTS */
^IMAGE = ("H9492_0000_S24.TIF")
/* IDENTIFICATION DATA ELEMENTS */
DATA_SET_ID = "MEX-M-HRSC-4-REFDR-MAPPROJECT-EXT3-V4.0"
DATA_SET_NAME = "MARS EXPRESS HRSC MAP PROJECTED REFDR EXTENSION3 V4.0"
DETECTOR_ID = MEX_HRSC_S2
EVENT_TYPE = "MARS-LOCAL-STEREO-Vo-Te"
INSTRUMENT_HOST_ID = MEX
INSTRUMENT_HOST_NAME = "MARS EXPRESS"
INSTRUMENT_ID = HRSC
INSTRUMENT_NAME = "HIGH RESOLUTION STEREO CAMERA"
MISSION_NAME = "MARS EXPRESS"
MISSION_PHASE_NAME = ME_Phase_23
PROCESSING_LEVEL_ID = 4
PRODUCT_CREATION_TIME = 2023-02-04T05:05:37.000Z
PRODUCT_ID = "H9492_0000_S24.TIF"
RELEASE_ID = 0006
REVISION_ID = 0000
/* QUALITY DATA ELEMENTS */
DATA_QUALITY_ID = 1
DATA_QUALITY_DESC = "Data calculated based on original SPICE kernels"
/* TIME DATA ELEMENTS */
SPACECRAFT_CLOCK_START_COUNT = "1/0255700466.09033"
SPACECRAFT_CLOCK_STOP_COUNT = "1/0255700590.51649"
START_TIME = 2011-06-09T11:55:35.752Z
STOP_TIME = 2011-06-09T11:56:31.754Z
/* ORBITAL DATA ELEMENTS */
ASCENDING_NODE_LONGITUDE = 36.01
MAXIMUM_RESOLUTION = 0.0155
FOOTPRINT_POINT_LATITUDE = (42.4058,42.4031,42.4002,42.3981, 42.3958,42.3922,42.3897,42.3872,42.3846 ,42.3818,42.379,42.3753,42.3749,42.4194 ,42.3117,42.2397,42.1317,42.0595, 41.9511,41.8791,41.807,41.699,41.6269, 41.5185,41.4104,41.3383,41.2664,41.1946 ,41.1229,41.0506,40.9426,40.7991,40.727 ,40.6191,40.5473,40.3682,40.2603, 40.1884,40.0803,39.9371,39.7225,39.6154 ,39.5082,39.3299,39.1874,39.0087, 38.8674,38.8317,38.825,38.827,38.8293, 38.8294,38.8303,38.833,38.8349,38.8393, 38.8434,38.844,38.8509,38.8517,38.852, 39.027,39.2043,39.3467,39.5245,39.5963, 39.668,39.7397,39.8476,39.9195,39.9912, 40.063,40.1709,40.2792,40.3513,40.4233, 40.4952,40.6032,40.6753,40.7473,40.8558 ,40.964,41.0359,41.1078,41.1798,41.2884 ,41.3607,41.4327,41.5049,41.5783, 41.6899,41.7999,41.9049,42.0481,42.1208 ,42.2294,42.3018,42.4103,42.4464, 42.4058)
FOOTPRINT_POINT_LONGITUDE = (282.499,282.315,282.131,281.997, 281.863,281.662,281.528,281.394,281.26, 281.126,280.992,280.824,280.808,280.779 ,280.785,280.788,280.794,280.797, 280.803,280.806,280.81,280.815,280.819, 280.824,280.829,280.833,280.836,280.839 ,280.843,280.846,280.851,280.857, 280.861,280.866,280.869,280.876,280.881 ,280.884,280.889,280.895,280.903, 280.907,280.911,280.918,280.923,280.93, 280.934,280.936,280.936,281.066,281.23, 281.345,281.492,281.687,281.818,282.046 ,282.242,282.373,282.57,282.587,282.595 ,282.59,282.586,282.583,282.579,282.577 ,282.576,282.574,282.572,282.571, 282.569,282.568,282.566,282.564,282.562 ,282.561,282.559,282.557,282.556, 282.554,282.552,282.55,282.548,282.547, 282.545,282.543,282.541,282.54,282.538, 282.537,282.536,282.534,282.53,282.526, 282.525,282.523,282.521,282.518,282.518 ,282.499)
ORBIT_NUMBER = 9492
ORBITAL_ECCENTRICITY = 0.575
ORBITAL_INCLINATION = 86.86
ORBITAL_SEMIMAJOR_AXIS = 8820.88
PERIAPSIS_ALTITUDE = 364.48
PERIAPSIS_ARGUMENT_ANGLE = 139.5
PERIAPSIS_TIME = 2011-06-09T11:55:34.000Z
SPACECRAFT_ORIENTATION = (0.0,-1.0,0.0)
^MEX_ORIENTATION_DESC = "MEX_ORIENTATION_DESC.TXT"
SPACECRAFT_POINTING_MODE = NADIR
^MEX_POINTING_DESC = "MEX_POINTING_DESC.TXT"
RIGHT_ASCENSION = -1e+32
DECLINATION = -1e+32
OFFSET_ANGLE = -1e+32
SPACECRAFT_SOLAR_DISTANCE = 2.14958e+08
TARGET_NAME = MARS
/* CAMERA DATA ELEMENTS */
DETECTOR_TEMPERATURE = 18.5744
FOCAL_PLANE_TEMPERATURE = 9.195
INST_CMPRS_NAME = "DISCRETE COSINE TRANSFORMATION (DCT)"
INST_CMPRS_RATIO = 5.893
INST_CMPRS_QUALITY = 0
INST_CMPRS_QUANTZ_TBL_ID = 0
INSTRUMENT_TEMPERATURE = 11.4379
LENS_TEMPERATURE = 9.6028
MACROPIXEL_SIZE = 1
MISSING_FRAMES = 0
PIXEL_SUBSAMPLING_FLAG = N
SIGNAL_CHAIN_ID = 1
/* RADIOMETRIC DATA ELEMENTS */
BANDWIDTH = 178.0
CENTER_FILTER_WAVELENGTH = 679.0
RADIANCE_OFFSET = 3.68939
RADIANCE_SCALING_FACTOR = 0.016723
REFLECTANCE_SCALING_FACTOR = 0.000409211
MEX:REFLECTANCE_OFFSET = 0.0902794
/* IMAGE OBJECT DEFINITIONS */
OBJECT = IMAGE
  INTERCHANGE_FORMAT = BINARY
  LINES = 17292
  LINE_SAMPLES = 6406
  SAMPLE_TYPE = UNSIGNED_INTEGER
  SAMPLE_BITS = 8
  BANDS = 1
  BAND_STORAGE_TYPE = BAND_SEQUENTIAL
  MAXIMUM = 255
  MEAN = 99.1458
  MINIMUM = 1
  STANDARD_DEVIATION = 20.9953
END_OBJECT = IMAGE
/* MAP OBJECT DEFINITIONS */
OBJECT = IMAGE_MAP_PROJECTION
  ^DATA_SET_MAP_PROJECTION_CATALOG= "DSMAP.CAT"
  A_AXIS_RADIUS = 3396.0
  B_AXIS_RADIUS = 3396.0
  C_AXIS_RADIUS = 3396.0
  CENTER_LATITUDE = 0.0
  CENTER_LONGITUDE = 282.0
  COORDINATE_SYSTEM_NAME = PLANETOGRAPHIC
  COORDINATE_SYSTEM_TYPE = "BODY-FIXED ROTATING"
  EASTERNMOST_LONGITUDE = 282.595
  FIRST_STANDARD_PARALLEL = "N/A"
  LINE_FIRST_PIXEL = 1
  LINE_LAST_PIXEL = 17292
  LINE_PROJECTION_OFFSET = 201409.0
  MAP_PROJECTION_ROTATION = 0.0
  MAP_PROJECTION_TYPE = SINUSOIDAL
  MAP_RESOLUTION = 4741.71043093333
  MAP_SCALE = 0.0125
  MAXIMUM_LATITUDE = 42.4464
  MINIMUM_LATITUDE = 38.825
  POSITIVE_LONGITUDE_DIRECTION = EAST
  REFERENCE_LATITUDE = "N/A"
  REFERENCE_LONGITUDE = "N/A"
  SAMPLE_FIRST_PIXEL = 1
  SAMPLE_LAST_PIXEL = 6406
  SAMPLE_PROJECTION_OFFSET = 4262.0
  SECOND_STANDARD_PARALLEL = "N/A"
  WESTERNMOST_LONGITUDE = 280.779
END_OBJECT = IMAGE_MAP_PROJECTION
END
