PDS_VERSION_ID = PDS3
/* FILE DATA ELEMENTS */
RECORD_TYPE = UNDEFINED
/* POINTERS TO DATA OBJECTS */
^IMAGE = ("H9487_0009_IR4.TIF")
/* IDENTIFICATION DATA ELEMENTS */
DATA_SET_ID = "MEX-M-HRSC-4-REFDR-MAPPROJECT-EXT3-V4.0"
DATA_SET_NAME = "MARS EXPRESS HRSC MAP PROJECTED REFDR EXTENSION3 V4.0"
DETECTOR_ID = MEX_HRSC_IR
EVENT_TYPE = "MARS-REGIONAL-MAPPING-Vo-Eo"
INSTRUMENT_HOST_ID = MEX
INSTRUMENT_HOST_NAME = "MARS EXPRESS"
INSTRUMENT_ID = HRSC
INSTRUMENT_NAME = "HIGH RESOLUTION STEREO CAMERA"
MISSION_NAME = "MARS EXPRESS"
MISSION_PHASE_NAME = ME_Phase_23
PROCESSING_LEVEL_ID = 4
PRODUCT_CREATION_TIME = 2023-02-04T05:05:37.000Z
PRODUCT_ID = "H9487_0009_IR4.TIF"
RELEASE_ID = 0006
REVISION_ID = 0000
/* QUALITY DATA ELEMENTS */
DATA_QUALITY_ID = 1
DATA_QUALITY_DESC = "Data calculated based on original SPICE kernels"
/* TIME DATA ELEMENTS */
SPACECRAFT_CLOCK_START_COUNT = "1/0255574936.08248"
SPACECRAFT_CLOCK_STOP_COUNT = "1/0255575166.08551"
START_TIME = 2011-06-08T01:02:25.745Z
STOP_TIME = 2011-06-08T01:04:26.330Z
/* ORBITAL DATA ELEMENTS */
ASCENDING_NODE_LONGITUDE = 36.1
MAXIMUM_RESOLUTION = 0.0733
FOOTPRINT_POINT_LATITUDE = (17.942,17.949,17.9536,17.9569,17.9595, 17.9613,17.9631,17.9632,17.9541,17.6683 ,17.4547,17.2358,16.8698,16.5777, 16.3589,16.0672,15.7727,15.5485,15.3976 ,15.1003,14.9486,14.7964,14.6441, 14.4921,14.264,14.1122,13.9592,13.8038, 13.6487,13.4939,13.3387,13.1836,13.0257 ,12.7916,12.633,12.4746,12.3164,12.1586 ,11.9998,11.8383,11.5965,11.4352, 11.2742,11.1132,10.9491,10.7028,10.5389 ,10.3753,10.2935,10.2808,10.2759, 10.2733,10.2689,10.2652,10.2602,10.2568 ,10.2517,10.2436,10.243,10.2442,10.4909 ,10.6555,10.8162,10.9821,11.2275, 11.4698,11.6313,11.7925,12.034,12.1921, 12.3506,12.5092,12.6679,12.8259,12.9845 ,13.1399,13.3726,13.528,13.6836,13.9169 ,14.0701,14.2221,14.4502,14.6024, 14.7545,14.9066,15.0586,15.2076,15.3565 ,15.6543,15.8034,16.0268,16.3224, 16.5419,16.9808,17.2736,17.4907,17.8484 ,17.92,17.942)
FOOTPRINT_POINT_LONGITUDE = (74.4044,74.0433,73.7581,73.5186, 73.2797,73.0858,72.8175,72.8026,72.7966 ,72.7916,72.7879,72.7836,72.7766, 72.7709,72.7665,72.7615,72.7564,72.7515 ,72.7478,72.7414,72.7381,72.7347, 72.7313,72.7278,72.7225,72.719,72.7153, 72.7115,72.7078,72.7041,72.7003,72.6964 ,72.6916,72.6864,72.6822,72.678,72.6738 ,72.6696,72.6653,72.6608,72.6542, 72.6496,72.6451,72.6406,72.6358,72.6287 ,72.6239,72.6192,72.6168,72.6164,72.884 ,73.0862,73.3558,73.5247,73.7447, 73.8971,74.1176,74.4069,74.424,74.4297, 74.4288,74.4282,74.4295,74.4284,74.4268 ,74.426,74.4256,74.4253,74.4247,74.4243 ,74.4238,74.4233,74.4228,74.4226, 74.4221,74.4215,74.4211,74.4207,74.4202 ,74.4196,74.4192,74.4189,74.4185, 74.4181,74.4179,74.4177,74.4174,74.4171 ,74.4168,74.4164,74.4161,74.4158, 74.4149,74.4141,74.4128,74.4119,74.4112 ,74.41,74.4097,74.4044)
ORBIT_NUMBER = 9487
ORBITAL_ECCENTRICITY = 0.575
ORBITAL_INCLINATION = 86.88
ORBITAL_SEMIMAJOR_AXIS = 8823.15
PERIAPSIS_ALTITUDE = 363.3
PERIAPSIS_ARGUMENT_ANGLE = 140.35
PERIAPSIS_TIME = 2011-06-08T00:57:19.000Z
SPACECRAFT_ORIENTATION = (0.0,-1.0,0.0)
^MEX_ORIENTATION_DESC = "MEX_ORIENTATION_DESC.TXT"
SPACECRAFT_POINTING_MODE = ACROSSTRACK
^MEX_POINTING_DESC = "MEX_POINTING_DESC.TXT"
RIGHT_ASCENSION = -1e+32
DECLINATION = -1e+32
OFFSET_ANGLE = 0.2
SPACECRAFT_SOLAR_DISTANCE = 2.1472e+08
TARGET_NAME = MARS
/* CAMERA DATA ELEMENTS */
DETECTOR_TEMPERATURE = 17.9627
FOCAL_PLANE_TEMPERATURE = 9.8067
INST_CMPRS_NAME = "DISCRETE COSINE TRANSFORMATION (DCT)"
INST_CMPRS_RATIO = 10.2556
INST_CMPRS_QUALITY = 0
INST_CMPRS_QUANTZ_TBL_ID = 0
INSTRUMENT_TEMPERATURE = 11.6418
LENS_TEMPERATURE = 10.2145
MACROPIXEL_SIZE = 4
MISSING_FRAMES = 0
PIXEL_SUBSAMPLING_FLAG = N
SIGNAL_CHAIN_ID = 2
/* RADIOMETRIC DATA ELEMENTS */
BANDWIDTH = 81.0
CENTER_FILTER_WAVELENGTH = 955.5
RADIANCE_OFFSET = 0.596634
RADIANCE_SCALING_FACTOR = 0.00385369
REFLECTANCE_SCALING_FACTOR = 0.00038331
MEX:REFLECTANCE_OFFSET = 0.0593446
/* IMAGE OBJECT DEFINITIONS */
OBJECT = IMAGE
  INTERCHANGE_FORMAT = BINARY
  LINES = 9136
  LINE_SAMPLES = 2238
  SAMPLE_TYPE = UNSIGNED_INTEGER
  SAMPLE_BITS = 8
  BANDS = 1
  BAND_STORAGE_TYPE = BAND_SEQUENTIAL
  MAXIMUM = 255
  MEAN = 109.7
  MINIMUM = 1
  STANDARD_DEVIATION = 15.6083
END_OBJECT = IMAGE
/* MAP OBJECT DEFINITIONS */
OBJECT = IMAGE_MAP_PROJECTION
  ^DATA_SET_MAP_PROJECTION_CATALOG= "DSMAP.CAT"
  A_AXIS_RADIUS = 3396.0
  B_AXIS_RADIUS = 3396.0
  C_AXIS_RADIUS = 3396.0
  CENTER_LATITUDE = 0.0
  CENTER_LONGITUDE = 74.0
  COORDINATE_SYSTEM_NAME = PLANETOGRAPHIC
  COORDINATE_SYSTEM_TYPE = "BODY-FIXED ROTATING"
  EASTERNMOST_LONGITUDE = 74.4297
  FIRST_STANDARD_PARALLEL = "N/A"
  LINE_FIRST_PIXEL = 1
  LINE_LAST_PIXEL = 9136
  LINE_PROJECTION_OFFSET = 21286.375
  MAP_PROJECTION_ROTATION = 0.0
  MAP_PROJECTION_TYPE = SINUSOIDAL
  MAP_RESOLUTION = 1185.42760773333
  MAP_SCALE = 0.05
  MAXIMUM_LATITUDE = 17.9632
  MINIMUM_LATITUDE = 10.243
  POSITIVE_LONGITUDE_DIRECTION = EAST
  REFERENCE_LATITUDE = "N/A"
  REFERENCE_LONGITUDE = "N/A"
  SAMPLE_FIRST_PIXEL = 1
  SAMPLE_LAST_PIXEL = 2238
  SAMPLE_PROJECTION_OFFSET = 1683.375
  SECOND_STANDARD_PARALLEL = "N/A"
  WESTERNMOST_LONGITUDE = 72.6164
END_OBJECT = IMAGE_MAP_PROJECTION
END
