PDS_VERSION_ID = PDS3
/* FILE DATA ELEMENTS */
RECORD_TYPE = UNDEFINED
/* POINTERS TO DATA OBJECTS */
^IMAGE = ("H9484_0000_P14.TIF")
/* IDENTIFICATION DATA ELEMENTS */
DATA_SET_ID = "MEX-M-HRSC-4-REFDR-MAPPROJECT-EXT3-V4.0"
DATA_SET_NAME = "MARS EXPRESS HRSC MAP PROJECTED REFDR EXTENSION3 V4.0"
DETECTOR_ID = MEX_HRSC_P1
EVENT_TYPE = "MARS-REGIONAL-MAPPING-Im-Fl-La"
INSTRUMENT_HOST_ID = MEX
INSTRUMENT_HOST_NAME = "MARS EXPRESS"
INSTRUMENT_ID = HRSC
INSTRUMENT_NAME = "HIGH RESOLUTION STEREO CAMERA"
MISSION_NAME = "MARS EXPRESS"
MISSION_PHASE_NAME = ME_Phase_23
PROCESSING_LEVEL_ID = 4
PRODUCT_CREATION_TIME = 2023-02-04T05:05:37.000Z
PRODUCT_ID = "H9484_0000_P14.TIF"
RELEASE_ID = 0006
REVISION_ID = 0000
/* QUALITY DATA ELEMENTS */
DATA_QUALITY_ID = 1
DATA_QUALITY_DESC = "Data calculated based on original SPICE kernels"
/* TIME DATA ELEMENTS */
SPACECRAFT_CLOCK_START_COUNT = "1/0255499222.09135"
SPACECRAFT_CLOCK_STOP_COUNT = "1/0255499547.46650"
START_TIME = 2011-06-07T04:00:36.785Z
STOP_TIME = 2011-06-07T04:04:27.494Z
/* ORBITAL DATA ELEMENTS */
ASCENDING_NODE_LONGITUDE = 36.17
MAXIMUM_RESOLUTION = 0.0621
FOOTPRINT_POINT_LATITUDE = (29.0411,29.0329,29.0226,29.0057, 29.0053,28.9791,28.6925,28.2638,27.9765 ,27.6891,27.262,26.9759,26.6893,26.4001 ,25.9722,25.686,25.4003,25.1142,24.8284 ,24.4006,24.1158,23.8306,23.5431, 23.1169,22.5473,21.9784,21.6929,21.4014 ,20.9644,20.6736,20.2376,19.9398, 19.6339,19.3408,19.0436,18.5909,18.2857 ,17.9817,17.6719,17.2126,16.901,16.4337 ,16.1176,15.7992,15.4814,15.1639, 14.8391,14.3519,14.1904,14.1742,14.1776 ,14.1845,14.1885,14.1883,14.1894, 14.5095,14.8383,15.1645,15.4811,15.959, 16.2779,16.5911,16.9031,17.371,17.832, 18.1379,18.5952,18.8996,19.1988,19.6471 ,19.9459,20.3903,20.8279,21.12,21.4129, 21.8495,22.4136,22.7022,22.9897,23.4176 ,23.7034,23.9896,24.419,24.7042,24.9901 ,25.2765,25.5628,25.8494,26.1345, 26.4224,26.8533,27.1399,27.4268,27.7123 ,27.9987,28.2857,28.5724,28.8602, 29.0032,29.0411)
FOOTPRINT_POINT_LONGITUDE = (20.5379,20.0982,19.6547,19.0667, 19.0526,19.0289,19.0326,19.0385,19.0411 ,19.0432,19.0491,19.0516,19.0535, 19.0531,19.0566,19.0579,19.0593,19.0601 ,19.0609,19.0623,19.0631,19.0634, 19.0617,19.0624,19.0613,19.0597,19.058, 19.057,19.0548,19.0535,19.051,19.0486, 19.0405,19.0415,19.0393,19.0339,19.0304 ,19.0274,19.0198,19.0168,19.0124, 19.0051,18.9999,18.9946,18.9892,18.9841 ,18.9782,18.9685,18.9657,18.9653, 19.2695,20.0033,20.6505,20.6663,20.6715 ,20.6706,20.6676,20.6653,20.6638, 20.6606,20.6585,20.6563,20.6541,20.651, 20.6478,20.6455,20.6424,20.6401,20.6377 ,20.6342,20.632,20.6285,20.625,20.6226, 20.6201,20.6163,20.6127,20.6094,20.6064 ,20.6026,20.6,20.5972,20.593,20.5904, 20.5877,20.5848,20.5819,20.5789,20.5762 ,20.5729,20.568,20.5649,20.5616,20.5587 ,20.5555,20.5521,20.5487,20.5451, 20.5434,20.5379)
ORBIT_NUMBER = 9484
ORBITAL_ECCENTRICITY = 0.575
ORBITAL_INCLINATION = 86.86
ORBITAL_SEMIMAJOR_AXIS = 8820.76
PERIAPSIS_ALTITUDE = 363.92
PERIAPSIS_ARGUMENT_ANGLE = 140.87
PERIAPSIS_TIME = 2011-06-07T03:58:23.000Z
SPACECRAFT_ORIENTATION = (0.0,-1.0,0.0)
^MEX_ORIENTATION_DESC = "MEX_ORIENTATION_DESC.TXT"
SPACECRAFT_POINTING_MODE = ACROSSTRACK
^MEX_POINTING_DESC = "MEX_POINTING_DESC.TXT"
RIGHT_ASCENSION = -1e+32
DECLINATION = -1e+32
OFFSET_ANGLE = -0.38
SPACECRAFT_SOLAR_DISTANCE = 2.14579e+08
TARGET_NAME = MARS
/* CAMERA DATA ELEMENTS */
DETECTOR_TEMPERATURE = 17.7588
FOCAL_PLANE_TEMPERATURE = 8.7872
INST_CMPRS_NAME = "DISCRETE COSINE TRANSFORMATION (DCT)"
INST_CMPRS_RATIO = 8.08899
INST_CMPRS_QUALITY = 0
INST_CMPRS_QUANTZ_TBL_ID = 0
INSTRUMENT_TEMPERATURE = 10.6223
LENS_TEMPERATURE = 9.8067
MACROPIXEL_SIZE = 4
MISSING_FRAMES = 0
PIXEL_SUBSAMPLING_FLAG = N
SIGNAL_CHAIN_ID = 3
/* RADIOMETRIC DATA ELEMENTS */
BANDWIDTH = 174.0
CENTER_FILTER_WAVELENGTH = 675.0
RADIANCE_OFFSET = 4.50155
RADIANCE_SCALING_FACTOR = 0.0250774
REFLECTANCE_SCALING_FACTOR = 0.000621072
MEX:REFLECTANCE_OFFSET = 0.111487
/* IMAGE OBJECT DEFINITIONS */
OBJECT = IMAGE
  INTERCHANGE_FORMAT = BINARY
  LINES = 17588
  LINE_SAMPLES = 2042
  SAMPLE_TYPE = UNSIGNED_INTEGER
  SAMPLE_BITS = 8
  BANDS = 1
  BAND_STORAGE_TYPE = BAND_SEQUENTIAL
  MAXIMUM = 255
  MEAN = 132.721
  MINIMUM = 1
  STANDARD_DEVIATION = 25.1291
END_OBJECT = IMAGE
/* MAP OBJECT DEFINITIONS */
OBJECT = IMAGE_MAP_PROJECTION
  ^DATA_SET_MAP_PROJECTION_CATALOG= "DSMAP.CAT"
  A_AXIS_RADIUS = 3396.0
  B_AXIS_RADIUS = 3396.0
  C_AXIS_RADIUS = 3396.0
  CENTER_LATITUDE = 0.0
  CENTER_LONGITUDE = 20.0
  COORDINATE_SYSTEM_NAME = PLANETOGRAPHIC
  COORDINATE_SYSTEM_TYPE = "BODY-FIXED ROTATING"
  EASTERNMOST_LONGITUDE = 20.6715
  FIRST_STANDARD_PARALLEL = "N/A"
  LINE_FIRST_PIXEL = 1
  LINE_LAST_PIXEL = 17588
  LINE_PROJECTION_OFFSET = 34401.875
  MAP_PROJECTION_ROTATION = 0.0
  MAP_PROJECTION_TYPE = SINUSOIDAL
  MAP_RESOLUTION = 1185.42760773333
  MAP_SCALE = 0.05
  MAXIMUM_LATITUDE = 29.0411
  MINIMUM_LATITUDE = 14.1742
  POSITIVE_LONGITUDE_DIRECTION = EAST
  REFERENCE_LATITUDE = "N/A"
  REFERENCE_LONGITUDE = "N/A"
  SAMPLE_FIRST_PIXEL = 1
  SAMPLE_LAST_PIXEL = 2042
  SAMPLE_PROJECTION_OFFSET = 1233.125
  SECOND_STANDARD_PARALLEL = "N/A"
  WESTERNMOST_LONGITUDE = 18.9653
END_OBJECT = IMAGE_MAP_PROJECTION
END
