PDS_VERSION_ID = PDS3
/* FILE DATA ELEMENTS */
RECORD_TYPE = UNDEFINED
/* POINTERS TO DATA OBJECTS */
^IMAGE = ("H9483_0000_S14.TIF")
/* IDENTIFICATION DATA ELEMENTS */
DATA_SET_ID = "MEX-M-HRSC-4-REFDR-MAPPROJECT-EXT3-V4.0"
DATA_SET_NAME = "MARS EXPRESS HRSC MAP PROJECTED REFDR EXTENSION3 V4.0"
DETECTOR_ID = MEX_HRSC_S1
EVENT_TYPE = "MARS-LOCAL-CARTOGRAPHY-Te-Ot"
INSTRUMENT_HOST_ID = MEX
INSTRUMENT_HOST_NAME = "MARS EXPRESS"
INSTRUMENT_ID = HRSC
INSTRUMENT_NAME = "HIGH RESOLUTION STEREO CAMERA"
MISSION_NAME = "MARS EXPRESS"
MISSION_PHASE_NAME = ME_Phase_23
PROCESSING_LEVEL_ID = 4
PRODUCT_CREATION_TIME = 2023-02-04T05:05:37.000Z
PRODUCT_ID = "H9483_0000_S14.TIF"
RELEASE_ID = 0006
REVISION_ID = 0000
/* QUALITY DATA ELEMENTS */
DATA_QUALITY_ID = 1
DATA_QUALITY_DESC = "Data calculated based on original SPICE kernels"
/* TIME DATA ELEMENTS */
SPACECRAFT_CLOCK_START_COUNT = "1/0255474037.07284"
SPACECRAFT_CLOCK_STOP_COUNT = "1/0255474230.65231"
START_TIME = 2011-06-06T21:00:40.094Z
STOP_TIME = 2011-06-06T21:02:33.474Z
/* ORBITAL DATA ELEMENTS */
ASCENDING_NODE_LONGITUDE = 36.18
MAXIMUM_RESOLUTION = 0.016
FOOTPRINT_POINT_LATITUDE = (29.3452,29.3428,29.34,29.3358,29.3326, 29.3277,29.3191,29.3187,29.2632,29.0416 ,28.7459,28.4504,28.3025,28.1545, 27.9326,27.563,27.4152,27.2673,27.1193, 26.8975,26.6021,26.4539,26.3059,26.0841 ,25.9361,25.7141,25.4923,25.3445, 25.1225,24.8268,24.6788,24.4571,24.3092 ,24.0873,23.9393,23.7914,23.6434, 23.4217,23.2738,23.0522,22.7564,22.4609 ,22.3131,22.1652,21.9436,21.8698, 21.8631,21.8675,21.8706,21.8738,21.8763 ,21.8777,21.8787,21.8787,21.8789, 22.0269,22.2487,22.4708,22.6188,22.7668 ,22.915,23.0629,23.2111,23.359,23.5813, 23.8033,23.9514,24.1736,24.3217,24.4698 ,24.6179,24.7663,24.9885,25.1368, 25.2848,25.4331,25.5812,25.7294,25.8774 ,26.0257,26.1738,26.3218,26.544,26.6923 ,26.8404,26.9885,27.2108,27.4331, 27.6555,27.8037,28.0259,28.1739,28.3218 ,28.4699,28.618,28.8402,28.9882,29.2102 ,29.2842,29.3452)
FOOTPRINT_POINT_LONGITUDE = (123.08,122.862,122.643,122.381,122.206 ,121.972,121.62,121.605,121.575,121.578 ,121.581,121.585,121.586,121.587, 121.589,121.592,121.594,121.595,121.596 ,121.597,121.599,121.6,121.6,121.601, 121.602,121.603,121.604,121.604,121.604 ,121.605,121.605,121.605,121.605, 121.605,121.605,121.605,121.605,121.605 ,121.604,121.604,121.603,121.602, 121.601,121.6,121.599,121.599,121.599, 121.859,122.073,122.333,122.607,122.851 ,123.124,123.139,123.146,123.146, 123.144,123.143,123.142,123.141,123.141 ,123.14,123.139,123.138,123.137,123.135 ,123.134,123.133,123.132,123.131,123.13 ,123.129,123.128,123.127,123.126, 123.125,123.124,123.122,123.121,123.12, 123.119,123.118,123.117,123.116,123.115 ,123.113,123.112,123.11,123.108,123.107 ,123.105,123.104,123.103,123.102,123.1, 123.098,123.097,123.095,123.095,123.08)
ORBIT_NUMBER = 9483
ORBITAL_ECCENTRICITY = 0.575
ORBITAL_INCLINATION = 86.86
ORBITAL_SEMIMAJOR_AXIS = 8824.36
PERIAPSIS_ALTITUDE = 363.41
PERIAPSIS_ARGUMENT_ANGLE = 141.05
PERIAPSIS_TIME = 2011-06-06T20:58:45.000Z
SPACECRAFT_ORIENTATION = (0.0,-1.0,0.0)
^MEX_ORIENTATION_DESC = "MEX_ORIENTATION_DESC.TXT"
SPACECRAFT_POINTING_MODE = ACROSSTRACK
^MEX_POINTING_DESC = "MEX_POINTING_DESC.TXT"
RIGHT_ASCENSION = -1e+32
DECLINATION = -1e+32
OFFSET_ANGLE = -0.15
SPACECRAFT_SOLAR_DISTANCE = 2.14532e+08
TARGET_NAME = MARS
/* CAMERA DATA ELEMENTS */
DETECTOR_TEMPERATURE = 17.5549
FOCAL_PLANE_TEMPERATURE = 8.5833
INST_CMPRS_NAME = "DISCRETE COSINE TRANSFORMATION (DCT)"
INST_CMPRS_RATIO = 6.96386
INST_CMPRS_QUALITY = 0
INST_CMPRS_QUANTZ_TBL_ID = 0
INSTRUMENT_TEMPERATURE = 11.234
LENS_TEMPERATURE = 8.7872
MACROPIXEL_SIZE = 1
MISSING_FRAMES = 0
PIXEL_SUBSAMPLING_FLAG = N
SIGNAL_CHAIN_ID = 2
/* RADIOMETRIC DATA ELEMENTS */
BANDWIDTH = 180.0
CENTER_FILTER_WAVELENGTH = 677.0
RADIANCE_OFFSET = 4.08128
RADIANCE_SCALING_FACTOR = 0.0176679
REFLECTANCE_SCALING_FACTOR = 0.00042424
MEX:REFLECTANCE_OFFSET = 0.0979994
/* IMAGE OBJECT DEFINITIONS */
OBJECT = IMAGE
  INTERCHANGE_FORMAT = BINARY
  LINES = 35151
  LINE_SAMPLES = 7028
  SAMPLE_TYPE = UNSIGNED_INTEGER
  SAMPLE_BITS = 8
  BANDS = 1
  BAND_STORAGE_TYPE = BAND_SEQUENTIAL
  MAXIMUM = 255
  MEAN = 108.931
  MINIMUM = 1
  STANDARD_DEVIATION = 19.7334
END_OBJECT = IMAGE
/* MAP OBJECT DEFINITIONS */
OBJECT = IMAGE_MAP_PROJECTION
  ^DATA_SET_MAP_PROJECTION_CATALOG= "DSMAP.CAT"
  A_AXIS_RADIUS = 3396.0
  B_AXIS_RADIUS = 3396.0
  C_AXIS_RADIUS = 3396.0
  CENTER_LATITUDE = 0.0
  CENTER_LONGITUDE = 122.0
  COORDINATE_SYSTEM_NAME = PLANETOGRAPHIC
  COORDINATE_SYSTEM_TYPE = "BODY-FIXED ROTATING"
  EASTERNMOST_LONGITUDE = 123.146
  FIRST_STANDARD_PARALLEL = "N/A"
  LINE_FIRST_PIXEL = 1
  LINE_LAST_PIXEL = 35151
  LINE_PROJECTION_OFFSET = 139002.0
  MAP_PROJECTION_ROTATION = 0.0
  MAP_PROJECTION_TYPE = SINUSOIDAL
  MAP_RESOLUTION = 4741.71043093333
  MAP_SCALE = 0.0125
  MAXIMUM_LATITUDE = 29.3452
  MINIMUM_LATITUDE = 21.8631
  POSITIVE_LONGITUDE_DIRECTION = EAST
  REFERENCE_LATITUDE = "N/A"
  REFERENCE_LONGITUDE = "N/A"
  SAMPLE_FIRST_PIXEL = 1
  SAMPLE_LAST_PIXEL = 7028
  SAMPLE_PROJECTION_OFFSET = 1881.0
  SECOND_STANDARD_PARALLEL = "N/A"
  WESTERNMOST_LONGITUDE = 121.575
END_OBJECT = IMAGE_MAP_PROJECTION
END
