PDS_VERSION_ID = PDS3
/* FILE DATA ELEMENTS */
RECORD_TYPE = UNDEFINED
/* POINTERS TO DATA OBJECTS */
^IMAGE = ("H9481_0000_GR4.TIF")
/* IDENTIFICATION DATA ELEMENTS */
DATA_SET_ID = "MEX-M-HRSC-4-REFDR-MAPPROJECT-EXT3-V4.0"
DATA_SET_NAME = "MARS EXPRESS HRSC MAP PROJECTED REFDR EXTENSION3 V4.0"
DETECTOR_ID = MEX_HRSC_GREEN
EVENT_TYPE = "MARS-REGIONAL-MAPPING-Vo-Te-Fl"
INSTRUMENT_HOST_ID = MEX
INSTRUMENT_HOST_NAME = "MARS EXPRESS"
INSTRUMENT_ID = HRSC
INSTRUMENT_NAME = "HIGH RESOLUTION STEREO CAMERA"
MISSION_NAME = "MARS EXPRESS"
MISSION_PHASE_NAME = ME_Phase_23
PROCESSING_LEVEL_ID = 4
PRODUCT_CREATION_TIME = 2023-02-04T05:05:37.000Z
PRODUCT_ID = "H9481_0000_GR4.TIF"
RELEASE_ID = 0006
REVISION_ID = 0000
/* QUALITY DATA ELEMENTS */
DATA_QUALITY_ID = 1
DATA_QUALITY_DESC = "Data calculated based on original SPICE kernels"
/* TIME DATA ELEMENTS */
SPACECRAFT_CLOCK_START_COUNT = "1/0255423610.09085"
SPACECRAFT_CLOCK_STOP_COUNT = "1/0255423829.49526"
START_TIME = 2011-06-06T07:00:40.765Z
STOP_TIME = 2011-06-06T07:03:05.176Z
/* ORBITAL DATA ELEMENTS */
ASCENDING_NODE_LONGITUDE = 36.22
MAXIMUM_RESOLUTION = 0.0594
FOOTPRINT_POINT_LATITUDE = (33.4727,33.4681,33.463,33.4574,33.4513 ,33.4447,33.4327,33.4322,33.4193, 33.1843,32.8255,32.6386,32.3583,32.1715 ,31.9847,31.7979,31.6112,31.3312, 31.0512,30.8646,30.5848,30.3983,30.2118 ,30.0254,29.839,29.6527,29.4664,29.2802 ,29.094,28.9079,28.7218,28.5359,28.2568 ,28.071,27.8852,27.6995,27.5137,27.3281 ,27.1426,26.7716,26.401,26.0306,25.6607 ,25.2911,25.014,24.645,24.2762,24.1841, 24.1781,24.1832,24.1889,24.1926,24.1978 ,24.2009,24.2011,24.2021,24.6639, 25.0337,25.4037,25.7744,26.0524,26.2379 ,26.4235,26.702,26.8878,27.0735,27.2594 ,27.4453,27.6313,27.8174,28.0035, 28.1897,28.376,28.5624,28.7488,28.9352, 29.1217,29.3084,29.4949,29.6816,29.8683 ,30.055,30.2419,30.4287,30.6156,30.8026 ,30.9896,31.1766,31.3636,31.5507, 31.8315,32.0186,32.2058,32.3931,32.674, 32.8614,33.0486,33.3788,33.4573, 33.4727)
FOOTPRINT_POINT_LONGITUDE = (326.727,326.504,326.279,326.051, 325.821,325.589,325.205,325.191,325.129 ,325.138,325.15,325.156,325.165,325.171 ,325.176,325.182,325.187,325.195, 325.203,325.208,325.215,325.22,325.224, 325.229,325.233,325.237,325.241,325.245 ,325.249,325.253,325.257,325.26,325.265 ,325.268,325.272,325.274,325.277,325.28 ,325.283,325.288,325.292,325.296, 325.301,325.305,325.307,325.31,325.313, 325.313,325.314,325.57,325.898,326.149, 326.556,326.871,326.886,326.891,326.884 ,326.878,326.872,326.867,326.862, 326.859,326.856,326.852,326.848,326.845 ,326.842,326.839,326.836,326.832, 326.829,326.826,326.822,326.819,326.816 ,326.812,326.809,326.805,326.802, 326.798,326.794,326.791,326.787,326.783 ,326.779,326.776,326.772,326.768, 326.764,326.76,326.754,326.75,326.746, 326.742,326.735,326.731,326.727,326.719 ,326.717,326.727)
ORBIT_NUMBER = 9481
ORBITAL_ECCENTRICITY = 0.574
ORBITAL_INCLINATION = 86.88
ORBITAL_SEMIMAJOR_AXIS = 8816.18
PERIAPSIS_ALTITUDE = 363.37
PERIAPSIS_ARGUMENT_ANGLE = 141.39
PERIAPSIS_TIME = 2011-06-06T06:59:27.000Z
SPACECRAFT_ORIENTATION = (0.0,-1.0,0.0)
^MEX_ORIENTATION_DESC = "MEX_ORIENTATION_DESC.TXT"
SPACECRAFT_POINTING_MODE = ACROSSTRACK
^MEX_POINTING_DESC = "MEX_POINTING_DESC.TXT"
RIGHT_ASCENSION = -1e+32
DECLINATION = -1e+32
OFFSET_ANGLE = -0.9
SPACECRAFT_SOLAR_DISTANCE = 2.14439e+08
TARGET_NAME = MARS
/* CAMERA DATA ELEMENTS */
DETECTOR_TEMPERATURE = 18.5744
FOCAL_PLANE_TEMPERATURE = 10.2145
INST_CMPRS_NAME = "DISCRETE COSINE TRANSFORMATION (DCT)"
INST_CMPRS_RATIO = 13.539
INST_CMPRS_QUALITY = 0
INST_CMPRS_QUANTZ_TBL_ID = 0
INSTRUMENT_TEMPERATURE = 11.6418
LENS_TEMPERATURE = 10.4184
MACROPIXEL_SIZE = 4
MISSING_FRAMES = 0
PIXEL_SUBSAMPLING_FLAG = N
SIGNAL_CHAIN_ID = 2
/* RADIOMETRIC DATA ELEMENTS */
BANDWIDTH = 88.0
CENTER_FILTER_WAVELENGTH = 538.0
RADIANCE_OFFSET = 1.22304
RADIANCE_SCALING_FACTOR = 0.00311755
REFLECTANCE_SCALING_FACTOR = 0.000123427
MEX:REFLECTANCE_OFFSET = 0.0484213
/* IMAGE OBJECT DEFINITIONS */
OBJECT = IMAGE
  INTERCHANGE_FORMAT = BINARY
  LINES = 10991
  LINE_SAMPLES = 1840
  SAMPLE_TYPE = UNSIGNED_INTEGER
  SAMPLE_BITS = 8
  BANDS = 1
  BAND_STORAGE_TYPE = BAND_SEQUENTIAL
  MAXIMUM = 255
  MEAN = 142.246
  MINIMUM = 1
  STANDARD_DEVIATION = 32.6291
END_OBJECT = IMAGE
/* MAP OBJECT DEFINITIONS */
OBJECT = IMAGE_MAP_PROJECTION
  ^DATA_SET_MAP_PROJECTION_CATALOG= "DSMAP.CAT"
  A_AXIS_RADIUS = 3396.0
  B_AXIS_RADIUS = 3396.0
  C_AXIS_RADIUS = 3396.0
  CENTER_LATITUDE = 0.0
  CENTER_LONGITUDE = 326.0
  COORDINATE_SYSTEM_NAME = PLANETOGRAPHIC
  COORDINATE_SYSTEM_TYPE = "BODY-FIXED ROTATING"
  EASTERNMOST_LONGITUDE = 326.891
  FIRST_STANDARD_PARALLEL = "N/A"
  LINE_FIRST_PIXEL = 1
  LINE_LAST_PIXEL = 10991
  LINE_PROJECTION_OFFSET = 39672.375
  MAP_PROJECTION_ROTATION = 0.0
  MAP_PROJECTION_TYPE = SINUSOIDAL
  MAP_RESOLUTION = 1185.42760773333
  MAP_SCALE = 0.05
  MAXIMUM_LATITUDE = 33.4727
  MINIMUM_LATITUDE = 24.1781
  POSITIVE_LONGITUDE_DIRECTION = EAST
  REFERENCE_LATITUDE = "N/A"
  REFERENCE_LONGITUDE = "N/A"
  SAMPLE_FIRST_PIXEL = 1
  SAMPLE_LAST_PIXEL = 1840
  SAMPLE_PROJECTION_OFFSET = 871.125
  SECOND_STANDARD_PARALLEL = "N/A"
  WESTERNMOST_LONGITUDE = 325.129
END_OBJECT = IMAGE_MAP_PROJECTION
END
