PDS_VERSION_ID = PDS3
/* FILE DATA ELEMENTS */
RECORD_TYPE = UNDEFINED
/* POINTERS TO DATA OBJECTS */
^IMAGE = ("H9480_0000_ND4.TIF")
/* IDENTIFICATION DATA ELEMENTS */
DATA_SET_ID = "MEX-M-HRSC-4-REFDR-MAPPROJECT-EXT3-V4.0"
DATA_SET_NAME = "MARS EXPRESS HRSC MAP PROJECTED REFDR EXTENSION3 V4.0"
DETECTOR_ID = MEX_HRSC_NADIR
EVENT_TYPE = "MARS-REGIONAL-MAPPING-Vo-Fl-Eo"
INSTRUMENT_HOST_ID = MEX
INSTRUMENT_HOST_NAME = "MARS EXPRESS"
INSTRUMENT_ID = HRSC
INSTRUMENT_NAME = "HIGH RESOLUTION STEREO CAMERA"
MISSION_NAME = "MARS EXPRESS"
MISSION_PHASE_NAME = ME_Phase_23
PROCESSING_LEVEL_ID = 4
PRODUCT_CREATION_TIME = 2023-02-04T05:05:37.000Z
PRODUCT_ID = "H9480_0000_ND4.TIF"
RELEASE_ID = 0006
REVISION_ID = 0000
/* QUALITY DATA ELEMENTS */
DATA_QUALITY_ID = 1
DATA_QUALITY_DESC = "Data calculated based on original SPICE kernels"
/* TIME DATA ELEMENTS */
SPACECRAFT_CLOCK_START_COUNT = "1/0255398546.09087"
SPACECRAFT_CLOCK_STOP_COUNT = "1/0255398799.23210"
START_TIME = 2011-06-06T00:03:04.129Z
STOP_TIME = 2011-06-06T00:05:52.134Z
/* ORBITAL DATA ELEMENTS */
ASCENDING_NODE_LONGITUDE = 36.24
MAXIMUM_RESOLUTION = 0.0156
FOOTPRINT_POINT_LATITUDE = (26.0263,26.0277,26.0285,26.0289, 26.0289,26.0285,26.0276,26.0275,26.0274 ,25.5224,25.119,24.716,24.3135,23.9115, 23.51,23.1091,22.7088,22.4028,22.1977, 21.9927,21.7879,21.5832,21.3786,21.1743 ,20.9657,20.7563,20.547,20.338,20.1292, 19.9205,19.7098,19.4961,19.2827,19.0694 ,18.8563,18.6434,18.3187,18.101,17.8836 ,17.6663,17.4493,17.2284,17.0066,16.785 ,16.5636,16.3425,16.1171,15.8912, 15.6656,15.5529,15.5501,15.5486,15.5467 ,15.5443,15.5404,15.5346,15.5343, 15.5345,15.7603,15.9865,16.3253,16.5468 ,16.7685,16.9904,17.2126,17.4338, 17.6512,17.8687,18.0865,18.3045,18.6297 ,18.8429,19.0563,19.2699,19.4837, 19.8042,20.0131,20.2221,20.4314,20.6408 ,20.8504,21.1642,21.3689,21.5737, 21.7786,21.9837,22.189,22.3944,22.7009, 23.1018,23.5032,23.9052,24.3077,24.7108 ,25.1143,25.5183,25.7205,25.9228,26.024 ,26.0263)
FOOTPRINT_POINT_LONGITUDE = (70.7717,70.4976,70.2558,70.0155,69.777 ,69.5399,69.2745,69.2598,69.252,69.249, 69.2463,69.2433,69.24,69.2364,69.2326, 69.2283,69.2237,69.2199,69.2175,69.2149 ,69.212,69.2091,69.2066,69.2033,69.2003 ,69.1972,69.1944,69.1906,69.1867, 69.1834,69.1806,69.1769,69.173,69.1691, 69.1652,69.1612,69.1549,69.1507,69.1463 ,69.1418,69.1373,69.1327,69.1279,69.123 ,69.1181,69.1131,69.1079,69.1027, 69.0974,69.0947,69.0946,69.3423,69.608, 69.8916,70.2787,70.7716,70.7887,70.7971 ,70.7966,70.7962,70.7954,70.7948, 70.7943,70.794,70.7937,70.7932,70.7927, 70.7924,70.792,70.7916,70.791,70.7909, 70.7902,70.7909,70.7904,70.7908,70.7905 ,70.79,70.7895,70.7887,70.7878,70.7862, 70.7873,70.7889,70.7851,70.7844,70.7841 ,70.784,70.7845,70.7839,70.7855,70.7834 ,70.7835,70.7834,70.7838,70.783,70.7826 ,70.7826,70.7823,70.7717)
ORBIT_NUMBER = 9480
ORBITAL_ECCENTRICITY = 0.575
ORBITAL_INCLINATION = 86.88
ORBITAL_SEMIMAJOR_AXIS = 8825.03
PERIAPSIS_ALTITUDE = 362.57
PERIAPSIS_ARGUMENT_ANGLE = 141.56
PERIAPSIS_TIME = 2011-06-05T23:59:52.000Z
SPACECRAFT_ORIENTATION = (0.0,-1.0,0.0)
^MEX_ORIENTATION_DESC = "MEX_ORIENTATION_DESC.TXT"
SPACECRAFT_POINTING_MODE = ACROSSTRACK
^MEX_POINTING_DESC = "MEX_POINTING_DESC.TXT"
RIGHT_ASCENSION = -1e+32
DECLINATION = -1e+32
OFFSET_ANGLE = 0.55
SPACECRAFT_SOLAR_DISTANCE = 2.14392e+08
TARGET_NAME = MARS
/* CAMERA DATA ELEMENTS */
DETECTOR_TEMPERATURE = 18.7783
FOCAL_PLANE_TEMPERATURE = 9.8067
INST_CMPRS_NAME = "DISCRETE COSINE TRANSFORMATION (DCT)"
INST_CMPRS_RATIO = 7.25829
INST_CMPRS_QUALITY = 0
INST_CMPRS_QUANTZ_TBL_ID = 0
INSTRUMENT_TEMPERATURE = 11.0301
LENS_TEMPERATURE = 10.4184
MACROPIXEL_SIZE = 1
MISSING_FRAMES = 0
PIXEL_SUBSAMPLING_FLAG = N
SIGNAL_CHAIN_ID = 0
/* RADIOMETRIC DATA ELEMENTS */
BANDWIDTH = 177.0
CENTER_FILTER_WAVELENGTH = 677.5
RADIANCE_OFFSET = 2.22121
RADIANCE_SCALING_FACTOR = 0.0197969
REFLECTANCE_SCALING_FACTOR = 0.000483392
MEX:REFLECTANCE_OFFSET = 0.0542366
/* IMAGE OBJECT DEFINITIONS */
OBJECT = IMAGE
  INTERCHANGE_FORMAT = BINARY
  LINES = 49763
  LINE_SAMPLES = 7777
  SAMPLE_TYPE = UNSIGNED_INTEGER
  SAMPLE_BITS = 8
  BANDS = 1
  BAND_STORAGE_TYPE = BAND_SEQUENTIAL
  MAXIMUM = 255
  MEAN = 92.8115
  MINIMUM = 1
  STANDARD_DEVIATION = 35.2642
END_OBJECT = IMAGE
/* MAP OBJECT DEFINITIONS */
OBJECT = IMAGE_MAP_PROJECTION
  ^DATA_SET_MAP_PROJECTION_CATALOG= "DSMAP.CAT"
  A_AXIS_RADIUS = 3396.0
  B_AXIS_RADIUS = 3396.0
  C_AXIS_RADIUS = 3396.0
  CENTER_LATITUDE = 0.0
  CENTER_LONGITUDE = 70.0
  COORDINATE_SYSTEM_NAME = PLANETOGRAPHIC
  COORDINATE_SYSTEM_TYPE = "BODY-FIXED ROTATING"
  EASTERNMOST_LONGITUDE = 70.7971
  FIRST_STANDARD_PARALLEL = "N/A"
  LINE_FIRST_PIXEL = 1
  LINE_LAST_PIXEL = 49763
  LINE_PROJECTION_OFFSET = 123422.0
  MAP_PROJECTION_ROTATION = 0.0
  MAP_PROJECTION_TYPE = SINUSOIDAL
  MAP_RESOLUTION = 4741.71043093333
  MAP_SCALE = 0.0125
  MAXIMUM_LATITUDE = 26.0289
  MINIMUM_LATITUDE = 15.5343
  POSITIVE_LONGITUDE_DIRECTION = EAST
  REFERENCE_LATITUDE = "N/A"
  REFERENCE_LONGITUDE = "N/A"
  SAMPLE_FIRST_PIXEL = 1
  SAMPLE_LAST_PIXEL = 7777
  SAMPLE_PROJECTION_OFFSET = 4135.0
  SECOND_STANDARD_PARALLEL = "N/A"
  WESTERNMOST_LONGITUDE = 69.0946
END_OBJECT = IMAGE_MAP_PROJECTION
END
