PDS_VERSION_ID = PDS3
/* FILE DATA ELEMENTS */
RECORD_TYPE = UNDEFINED
/* POINTERS TO DATA OBJECTS */
^IMAGE = ("H9479_0000_IR4.TIF")
/* IDENTIFICATION DATA ELEMENTS */
DATA_SET_ID = "MEX-M-HRSC-4-REFDR-MAPPROJECT-EXT3-V4.0"
DATA_SET_NAME = "MARS EXPRESS HRSC MAP PROJECTED REFDR EXTENSION3 V4.0"
DETECTOR_ID = MEX_HRSC_IR
EVENT_TYPE = "MARS-REGIONAL-MAPPING-Vo-Te"
INSTRUMENT_HOST_ID = MEX
INSTRUMENT_HOST_NAME = "MARS EXPRESS"
INSTRUMENT_ID = HRSC
INSTRUMENT_NAME = "HIGH RESOLUTION STEREO CAMERA"
MISSION_NAME = "MARS EXPRESS"
MISSION_PHASE_NAME = ME_Phase_23
PROCESSING_LEVEL_ID = 4
PRODUCT_CREATION_TIME = 2023-02-04T05:05:37.000Z
PRODUCT_ID = "H9479_0000_IR4.TIF"
RELEASE_ID = 0006
REVISION_ID = 0000
/* QUALITY DATA ELEMENTS */
DATA_QUALITY_ID = 1
DATA_QUALITY_DESC = "Data calculated based on original SPICE kernels"
/* TIME DATA ELEMENTS */
SPACECRAFT_CLOCK_START_COUNT = "1/0255373418.09043"
SPACECRAFT_CLOCK_STOP_COUNT = "1/0255373643.41607"
START_TIME = 2011-06-05T17:03:47.336Z
STOP_TIME = 2011-06-05T17:05:58.595Z
/* ORBITAL DATA ELEMENTS */
ASCENDING_NODE_LONGITUDE = 36.25
MAXIMUM_RESOLUTION = 0.0671
FOOTPRINT_POINT_LATITUDE = (22.7128,22.7279,22.7364,22.7443, 22.7516,22.7583,22.7645,22.7649,22.7302 ,22.3299,22.0101,21.6904,21.4506,21.211 ,20.8118,20.4886,20.3248,20.1609, 19.9971,19.8334,19.6696,19.4241,19.2603 ,19.0969,18.8457,18.6781,18.5104, 18.3425,18.1754,17.9258,17.7588,17.5041 ,17.3335,17.16,16.902,16.7283,16.5568, 16.3855,16.2128,16.037,15.8617,15.6863, 15.5109,15.3359,15.1613,14.8932,14.7147 ,14.5358,14.359,14.2699,14.2607,14.2461 ,14.241,14.2325,14.2193,14.2071,14.1933 ,14.1925,14.1934,14.4622,14.6432, 14.8212,15.0892,15.2653,15.4394,15.6147 ,15.8793,16.1417,16.3167,16.4876, 16.6588,16.831,17.0023,17.2598,17.433, 17.6031,17.7709,17.9417,18.195,18.4438, 18.6114,18.7797,18.9444,19.1182,19.2814 ,19.4434,19.6057,19.7703,19.9354, 20.0994,20.265,20.4298,20.8353,21.1537, 21.5513,22.0281,22.3484,22.5886,22.6689 ,22.7128)
FOOTPRINT_POINT_LONGITUDE = (173.203,172.828,172.6,172.373,172.149, 171.925,171.704,171.69,171.687,171.682, 171.678,171.674,171.671,171.668,171.662 ,171.658,171.655,171.653,171.65,171.648 ,171.645,171.641,171.638,171.636, 171.631,171.628,171.625,171.622,171.619 ,171.614,171.611,171.606,171.603, 171.599,171.594,171.591,171.587,171.583 ,171.58,171.576,171.572,171.568,171.564 ,171.56,171.556,171.55,171.546,171.541, 171.537,171.535,171.535,171.888,172.059 ,172.277,172.608,172.893,173.197, 173.213,173.218,173.219,173.218,173.219 ,173.219,173.219,173.22,173.22,173.219, 173.22,173.22,173.221,173.221,173.221, 173.221,173.222,173.221,173.222,173.223 ,173.221,173.22,173.222,173.223,173.223 ,173.226,173.22,173.221,173.222,173.224 ,173.224,173.223,173.223,173.222, 173.222,173.222,173.223,173.226,173.23, 173.231,173.231,173.231,173.203)
ORBIT_NUMBER = 9479
ORBITAL_ECCENTRICITY = 0.574
ORBITAL_INCLINATION = 86.87
ORBITAL_SEMIMAJOR_AXIS = 8816.34
PERIAPSIS_ALTITUDE = 363.53
PERIAPSIS_ARGUMENT_ANGLE = 141.75
PERIAPSIS_TIME = 2011-06-05T17:00:16.000Z
SPACECRAFT_ORIENTATION = (0.0,-1.0,0.0)
^MEX_ORIENTATION_DESC = "MEX_ORIENTATION_DESC.TXT"
SPACECRAFT_POINTING_MODE = ACROSSTRACK
^MEX_POINTING_DESC = "MEX_POINTING_DESC.TXT"
RIGHT_ASCENSION = -1e+32
DECLINATION = -1e+32
OFFSET_ANGLE = 0.7
SPACECRAFT_SOLAR_DISTANCE = 2.14345e+08
TARGET_NAME = MARS
/* CAMERA DATA ELEMENTS */
DETECTOR_TEMPERATURE = 17.5549
FOCAL_PLANE_TEMPERATURE = 8.5833
INST_CMPRS_NAME = "DISCRETE COSINE TRANSFORMATION (DCT)"
INST_CMPRS_RATIO = 8.61209
INST_CMPRS_QUALITY = 0
INST_CMPRS_QUANTZ_TBL_ID = 0
INSTRUMENT_TEMPERATURE = 11.234
LENS_TEMPERATURE = 8.7872
MACROPIXEL_SIZE = 4
MISSING_FRAMES = 0
PIXEL_SUBSAMPLING_FLAG = N
SIGNAL_CHAIN_ID = 2
/* RADIOMETRIC DATA ELEMENTS */
BANDWIDTH = 81.0
CENTER_FILTER_WAVELENGTH = 955.5
RADIANCE_OFFSET = 1.23057
RADIANCE_SCALING_FACTOR = 0.00574986
REFLECTANCE_SCALING_FACTOR = 0.000569922
MEX:REFLECTANCE_OFFSET = 0.121973
/* IMAGE OBJECT DEFINITIONS */
OBJECT = IMAGE
  INTERCHANGE_FORMAT = BINARY
  LINES = 10060
  LINE_SAMPLES = 2023
  SAMPLE_TYPE = UNSIGNED_INTEGER
  SAMPLE_BITS = 8
  BANDS = 1
  BAND_STORAGE_TYPE = BAND_SEQUENTIAL
  MAXIMUM = 255
  MEAN = 122.382
  MINIMUM = 1
  STANDARD_DEVIATION = 25.7528
END_OBJECT = IMAGE
/* MAP OBJECT DEFINITIONS */
OBJECT = IMAGE_MAP_PROJECTION
  ^DATA_SET_MAP_PROJECTION_CATALOG= "DSMAP.CAT"
  A_AXIS_RADIUS = 3396.0
  B_AXIS_RADIUS = 3396.0
  C_AXIS_RADIUS = 3396.0
  CENTER_LATITUDE = 0.0
  CENTER_LONGITUDE = 172.0
  COORDINATE_SYSTEM_NAME = PLANETOGRAPHIC
  COORDINATE_SYSTEM_TYPE = "BODY-FIXED ROTATING"
  EASTERNMOST_LONGITUDE = 173.231
  FIRST_STANDARD_PARALLEL = "N/A"
  LINE_FIRST_PIXEL = 1
  LINE_LAST_PIXEL = 10060
  LINE_PROJECTION_OFFSET = 26959.125
  MAP_PROJECTION_ROTATION = 0.0
  MAP_PROJECTION_TYPE = SINUSOIDAL
  MAP_RESOLUTION = 1185.42760773333
  MAP_SCALE = 0.05
  MAXIMUM_LATITUDE = 22.7649
  MINIMUM_LATITUDE = 14.1925
  POSITIVE_LONGITUDE_DIRECTION = EAST
  REFERENCE_LATITUDE = "N/A"
  REFERENCE_LONGITUDE = "N/A"
  SAMPLE_FIRST_PIXEL = 1
  SAMPLE_LAST_PIXEL = 2023
  SAMPLE_PROJECTION_OFFSET = 589.125
  SECOND_STANDARD_PARALLEL = "N/A"
  WESTERNMOST_LONGITUDE = 171.535
END_OBJECT = IMAGE_MAP_PROJECTION
END
