PDS_VERSION_ID = PDS3
/* FILE DATA ELEMENTS */
RECORD_TYPE = UNDEFINED
/* POINTERS TO DATA OBJECTS */
^IMAGE = ("H9473_0000_S24.TIF")
/* IDENTIFICATION DATA ELEMENTS */
DATA_SET_ID = "MEX-M-HRSC-4-REFDR-MAPPROJECT-EXT3-V4.0"
DATA_SET_NAME = "MARS EXPRESS HRSC MAP PROJECTED REFDR EXTENSION3 V4.0"
DETECTOR_ID = MEX_HRSC_S2
EVENT_TYPE = "MARS-REGIONAL-MAPPING-Im-Fl"
INSTRUMENT_HOST_ID = MEX
INSTRUMENT_HOST_NAME = "MARS EXPRESS"
INSTRUMENT_ID = HRSC
INSTRUMENT_NAME = "HIGH RESOLUTION STEREO CAMERA"
MISSION_NAME = "MARS EXPRESS"
MISSION_PHASE_NAME = ME_Phase_23
PROCESSING_LEVEL_ID = 4
PRODUCT_CREATION_TIME = 2023-02-04T05:05:37.000Z
PRODUCT_ID = "H9473_0000_S24.TIF"
RELEASE_ID = 0006
REVISION_ID = 0000
/* QUALITY DATA ELEMENTS */
DATA_QUALITY_ID = 1
DATA_QUALITY_DESC = "Data calculated based on original SPICE kernels"
/* TIME DATA ELEMENTS */
SPACECRAFT_CLOCK_START_COUNT = "1/0255222190.09111"
SPACECRAFT_CLOCK_STOP_COUNT = "1/0255222442.16432"
START_TIME = 2011-06-03T23:04:20.518Z
STOP_TIME = 2011-06-03T23:07:23.264Z
/* ORBITAL DATA ELEMENTS */
ASCENDING_NODE_LONGITUDE = 36.37
MAXIMUM_RESOLUTION = 0.0317
FOOTPRINT_POINT_LATITUDE = (31.9855,31.9998,32.0138,32.0299, 32.0303,32.066,31.834,31.4862,31.15, 30.9206,30.6908,30.4637,30.2361,30.0089 ,29.7738,29.5409,29.3158,29.0883, 28.8619,28.636,28.409,28.1809,27.9562, 27.7294,27.5045,27.2807,27.0596,26.8378 ,26.6155,26.3922,26.168,25.8293,25.6037 ,25.3778,25.1536,24.9314,24.5982,24.375 ,24.1535,23.9308,23.4951,23.1684, 22.8421,22.5143,22.1879,21.9703,21.5365 ,20.9978,20.89,20.8667,20.8571,20.8401, 20.8188,20.8057,20.7953,20.7947,20.7949 ,21.3431,21.5663,21.7875,22.2185, 22.4376,22.658,22.9872,23.3164,23.5359, 23.7545,23.9718,24.2946,24.5161,24.7407 ,24.9651,25.2983,25.5203,25.744,25.9652 ,26.3015,26.5261,26.7503,26.9757, 27.3128,27.6516,27.8774,28.2168,28.4433 ,28.6741,28.9014,29.1248,29.4667, 29.6953,30.038,30.2669,30.4956,30.8412, 31.0718,31.4172,31.6474,31.8778,31.9936 ,31.9855)
FOOTPRINT_POINT_LONGITUDE = (65.1357,64.6659,64.1868,63.6046, 63.5891,63.5543,63.5622,63.574,63.5761, 63.5819,63.5881,63.592,63.5964,63.6005, 63.6108,63.6194,63.6219,63.6262,63.6298 ,63.633,63.6371,63.6421,63.6445,63.6486 ,63.6512,63.6531,63.653,63.6535,63.6545 ,63.6563,63.6588,63.6644,63.6681,63.672 ,63.6748,63.6762,63.6784,63.6807, 63.6819,63.6839,63.6816,63.68,63.6784, 63.678,63.677,63.6764,63.6746,63.6705, 63.6698,63.6697,63.9313,64.2736,64.6751 ,64.9753,65.3034,65.3189,65.3245, 65.3168,65.3135,65.3103,65.3041,65.3009 ,65.2977,65.2928,65.2878,65.2845, 65.2813,65.278,65.2733,65.2699,65.2663, 65.2626,65.2574,65.2538,65.2501,65.2466 ,65.241,65.2373,65.2335,65.2296,65.2238 ,65.2179,65.2139,65.2078,65.2037, 65.1992,65.195,65.191,65.1845,65.1801, 65.1734,65.1689,65.1644,65.1572,65.1524 ,65.1452,65.1403,65.1354,65.1329, 65.1357)
ORBIT_NUMBER = 9473
ORBITAL_ECCENTRICITY = 0.575
ORBITAL_INCLINATION = 86.88
ORBITAL_SEMIMAJOR_AXIS = 8826.82
PERIAPSIS_ALTITUDE = 361.88
PERIAPSIS_ARGUMENT_ANGLE = 142.78
PERIAPSIS_TIME = 2011-06-03T23:02:27.000Z
SPACECRAFT_ORIENTATION = (0.0,-1.0,0.0)
^MEX_ORIENTATION_DESC = "MEX_ORIENTATION_DESC.TXT"
SPACECRAFT_POINTING_MODE = ACROSSTRACK
^MEX_POINTING_DESC = "MEX_POINTING_DESC.TXT"
RIGHT_ASCENSION = -1e+32
DECLINATION = -1e+32
OFFSET_ANGLE = -0.8
SPACECRAFT_SOLAR_DISTANCE = 2.14068e+08
TARGET_NAME = MARS
/* CAMERA DATA ELEMENTS */
DETECTOR_TEMPERATURE = 18.7783
FOCAL_PLANE_TEMPERATURE = 9.195
INST_CMPRS_NAME = "DISCRETE COSINE TRANSFORMATION (DCT)"
INST_CMPRS_RATIO = 7.9248
INST_CMPRS_QUALITY = 0
INST_CMPRS_QUANTZ_TBL_ID = 0
INSTRUMENT_TEMPERATURE = 11.6418
LENS_TEMPERATURE = 9.3989
MACROPIXEL_SIZE = 2
MISSING_FRAMES = 0
PIXEL_SUBSAMPLING_FLAG = N
SIGNAL_CHAIN_ID = 1
/* RADIOMETRIC DATA ELEMENTS */
BANDWIDTH = 178.0
CENTER_FILTER_WAVELENGTH = 679.0
RADIANCE_OFFSET = 3.28273
RADIANCE_SCALING_FACTOR = 0.0194231
REFLECTANCE_SCALING_FACTOR = 0.000471361
MEX:REFLECTANCE_OFFSET = 0.0796655
/* IMAGE OBJECT DEFINITIONS */
OBJECT = IMAGE
  INTERCHANGE_FORMAT = BINARY
  LINES = 26608
  LINE_SAMPLES = 3708
  SAMPLE_TYPE = UNSIGNED_INTEGER
  SAMPLE_BITS = 8
  BANDS = 1
  BAND_STORAGE_TYPE = BAND_SEQUENTIAL
  MAXIMUM = 255
  MEAN = 129.191
  MINIMUM = 1
  STANDARD_DEVIATION = 29.2136
END_OBJECT = IMAGE
/* MAP OBJECT DEFINITIONS */
OBJECT = IMAGE_MAP_PROJECTION
  ^DATA_SET_MAP_PROJECTION_CATALOG= "DSMAP.CAT"
  A_AXIS_RADIUS = 3396.0
  B_AXIS_RADIUS = 3396.0
  C_AXIS_RADIUS = 3396.0
  CENTER_LATITUDE = 0.0
  CENTER_LONGITUDE = 64.0
  COORDINATE_SYSTEM_NAME = PLANETOGRAPHIC
  COORDINATE_SYSTEM_TYPE = "BODY-FIXED ROTATING"
  EASTERNMOST_LONGITUDE = 65.3245
  FIRST_STANDARD_PARALLEL = "N/A"
  LINE_FIRST_PIXEL = 1
  LINE_LAST_PIXEL = 26608
  LINE_PROJECTION_OFFSET = 76004.75
  MAP_PROJECTION_ROTATION = 0.0
  MAP_PROJECTION_TYPE = SINUSOIDAL
  MAP_RESOLUTION = 2370.85521546667
  MAP_SCALE = 0.025
  MAXIMUM_LATITUDE = 32.066
  MINIMUM_LATITUDE = 20.7947
  POSITIVE_LONGITUDE_DIRECTION = EAST
  REFERENCE_LATITUDE = "N/A"
  REFERENCE_LONGITUDE = "N/A"
  SAMPLE_FIRST_PIXEL = 1
  SAMPLE_LAST_PIXEL = 3708
  SAMPLE_PROJECTION_OFFSET = 856.25
  SECOND_STANDARD_PARALLEL = "N/A"
  WESTERNMOST_LONGITUDE = 63.5543
END_OBJECT = IMAGE_MAP_PROJECTION
END
