PDS_VERSION_ID = PDS3
/* FILE DATA ELEMENTS */
RECORD_TYPE = UNDEFINED
/* POINTERS TO DATA OBJECTS */
^IMAGE = ("H9473_0000_ND4.TIF")
/* IDENTIFICATION DATA ELEMENTS */
DATA_SET_ID = "MEX-M-HRSC-4-REFDR-MAPPROJECT-EXT3-V4.0"
DATA_SET_NAME = "MARS EXPRESS HRSC MAP PROJECTED REFDR EXTENSION3 V4.0"
DETECTOR_ID = MEX_HRSC_NADIR
EVENT_TYPE = "MARS-REGIONAL-MAPPING-Im-Fl"
INSTRUMENT_HOST_ID = MEX
INSTRUMENT_HOST_NAME = "MARS EXPRESS"
INSTRUMENT_ID = HRSC
INSTRUMENT_NAME = "HIGH RESOLUTION STEREO CAMERA"
MISSION_NAME = "MARS EXPRESS"
MISSION_PHASE_NAME = ME_Phase_23
PROCESSING_LEVEL_ID = 4
PRODUCT_CREATION_TIME = 2023-02-04T05:05:37.000Z
PRODUCT_ID = "H9473_0000_ND4.TIF"
RELEASE_ID = 0006
REVISION_ID = 0000
/* QUALITY DATA ELEMENTS */
DATA_QUALITY_ID = 1
DATA_QUALITY_DESC = "Data calculated based on original SPICE kernels"
/* TIME DATA ELEMENTS */
SPACECRAFT_CLOCK_START_COUNT = "1/0255222190.09111"
SPACECRAFT_CLOCK_STOP_COUNT = "1/0255222442.16432"
START_TIME = 2011-06-03T23:03:46.362Z
STOP_TIME = 2011-06-03T23:06:42.381Z
/* ORBITAL DATA ELEMENTS */
ASCENDING_NODE_LONGITUDE = 36.37
MAXIMUM_RESOLUTION = 0.0146
FOOTPRINT_POINT_LATITUDE = (32.0578,32.0521,32.0446,32.0337, 32.0334,32.0329,31.5514,31.2626,30.8472 ,30.6176,30.3881,30.1587,29.8147, 29.5855,29.3563,29.1272,28.8983,28.6694 ,28.4406,28.2119,27.9833,27.7548, 27.5265,27.2982,27.07,26.842,26.6141, 26.3863,26.1586,25.931,25.7036,25.4763, 25.2491,25.0221,24.7952,24.5684,24.3418 ,24.1153,23.889,23.6628,23.4368,23.211, 22.7597,22.3091,21.8592,21.41,20.9615, 20.8494,20.8351,20.8374,20.8387,20.8392 ,20.8389,20.8389,20.8391,21.2884, 21.7384,22.1889,22.6401,22.866,23.092, 23.3182,23.5445,23.771,23.9976,24.2243, 24.4512,24.6783,24.9056,25.1329,25.3605 ,25.5881,25.8158,26.0437,26.2718,26.5, 26.7282,26.9566,27.1852,27.4138,27.6425 ,27.8714,28.1004,28.3294,28.5586, 28.7879,29.0172,29.2467,29.4762,29.7059 ,29.9356,30.1654,30.3953,30.6253, 30.8553,31.081,31.4668,31.9493,32.0458, 32.0578)
FOOTPRINT_POINT_LONGITUDE = (65.1215,64.6539,64.1771,63.6287, 63.6133,63.5765,63.5934,63.5957,63.6082 ,63.6147,63.6192,63.6238,63.6349, 63.6461,63.6503,63.6528,63.6575,63.6617 ,63.6656,63.6712,63.675,63.6789,63.6817 ,63.685,63.6864,63.687,63.6881,63.6905, 63.6933,63.6975,63.7025,63.7064,63.7101 ,63.7127,63.7147,63.7167,63.7194,63.722 ,63.7236,63.723,63.7211,63.7216,63.7216 ,63.7205,63.7207,63.719,63.7177,63.7173 ,63.7173,64.1122,64.4714,64.826,65.2643 ,65.2793,65.2867,65.2813,65.2756, 65.2704,65.2649,65.262,65.2592,65.2564, 65.2536,65.2508,65.2481,65.2456,65.2425 ,65.2394,65.2361,65.2331,65.2299, 65.2268,65.2237,65.2205,65.2171,65.2138 ,65.2104,65.207,65.2035,65.2001,65.1965 ,65.1929,65.1892,65.1856,65.1817, 65.1777,65.1742,65.1704,65.1664,65.1624 ,65.1583,65.1543,65.1501,65.146,65.1416 ,65.1373,65.1299,65.1205,65.1186, 65.1215)
ORBIT_NUMBER = 9473
ORBITAL_ECCENTRICITY = 0.575
ORBITAL_INCLINATION = 86.88
ORBITAL_SEMIMAJOR_AXIS = 8826.82
PERIAPSIS_ALTITUDE = 361.88
PERIAPSIS_ARGUMENT_ANGLE = 142.78
PERIAPSIS_TIME = 2011-06-03T23:02:27.000Z
SPACECRAFT_ORIENTATION = (0.0,-1.0,0.0)
^MEX_ORIENTATION_DESC = "MEX_ORIENTATION_DESC.TXT"
SPACECRAFT_POINTING_MODE = ACROSSTRACK
^MEX_POINTING_DESC = "MEX_POINTING_DESC.TXT"
RIGHT_ASCENSION = -1e+32
DECLINATION = -1e+32
OFFSET_ANGLE = -0.8
SPACECRAFT_SOLAR_DISTANCE = 2.14068e+08
TARGET_NAME = MARS
/* CAMERA DATA ELEMENTS */
DETECTOR_TEMPERATURE = 18.3705
FOCAL_PLANE_TEMPERATURE = 9.195
INST_CMPRS_NAME = "DISCRETE COSINE TRANSFORMATION (DCT)"
INST_CMPRS_RATIO = 6.15483
INST_CMPRS_QUALITY = 0
INST_CMPRS_QUANTZ_TBL_ID = 0
INSTRUMENT_TEMPERATURE = 11.6418
LENS_TEMPERATURE = 9.3989
MACROPIXEL_SIZE = 1
MISSING_FRAMES = 0
PIXEL_SUBSAMPLING_FLAG = N
SIGNAL_CHAIN_ID = 0
/* RADIOMETRIC DATA ELEMENTS */
BANDWIDTH = 177.0
CENTER_FILTER_WAVELENGTH = 677.5
RADIANCE_OFFSET = 2.75737
RADIANCE_SCALING_FACTOR = 0.0195558
REFLECTANCE_SCALING_FACTOR = 0.000476063
MEX:REFLECTANCE_OFFSET = 0.0671249
/* IMAGE OBJECT DEFINITIONS */
OBJECT = IMAGE
  INTERCHANGE_FORMAT = BINARY
  LINES = 53216
  LINE_SAMPLES = 7416
  SAMPLE_TYPE = UNSIGNED_INTEGER
  SAMPLE_BITS = 8
  BANDS = 1
  BAND_STORAGE_TYPE = BAND_SEQUENTIAL
  MAXIMUM = 255
  MEAN = 121.185
  MINIMUM = 1
  STANDARD_DEVIATION = 27.5175
END_OBJECT = IMAGE
/* MAP OBJECT DEFINITIONS */
OBJECT = IMAGE_MAP_PROJECTION
  ^DATA_SET_MAP_PROJECTION_CATALOG= "DSMAP.CAT"
  A_AXIS_RADIUS = 3396.0
  B_AXIS_RADIUS = 3396.0
  C_AXIS_RADIUS = 3396.0
  CENTER_LATITUDE = 0.0
  CENTER_LONGITUDE = 64.0
  COORDINATE_SYSTEM_NAME = PLANETOGRAPHIC
  COORDINATE_SYSTEM_TYPE = "BODY-FIXED ROTATING"
  EASTERNMOST_LONGITUDE = 65.2867
  FIRST_STANDARD_PARALLEL = "N/A"
  LINE_FIRST_PIXEL = 1
  LINE_LAST_PIXEL = 53216
  LINE_PROJECTION_OFFSET = 152010.0
  MAP_PROJECTION_ROTATION = 0.0
  MAP_PROJECTION_TYPE = SINUSOIDAL
  MAP_RESOLUTION = 4741.71043093333
  MAP_SCALE = 0.0125
  MAXIMUM_LATITUDE = 32.0578
  MINIMUM_LATITUDE = 20.8351
  POSITIVE_LONGITUDE_DIRECTION = EAST
  REFERENCE_LATITUDE = "N/A"
  REFERENCE_LONGITUDE = "N/A"
  SAMPLE_FIRST_PIXEL = 1
  SAMPLE_LAST_PIXEL = 7416
  SAMPLE_PROJECTION_OFFSET = 1713.0
  SECOND_STANDARD_PARALLEL = "N/A"
  WESTERNMOST_LONGITUDE = 63.5765
END_OBJECT = IMAGE_MAP_PROJECTION
END
